BEGIN:VCALENDAR
VERSION:2.0
PRODID:-//The Austin Common - ECPv6.15.20//NONSGML v1.0//EN
CALSCALE:GREGORIAN
METHOD:PUBLISH
X-ORIGINAL-URL:https://theaustincommon.com
X-WR-CALDESC:Events for The Austin Common
REFRESH-INTERVAL;VALUE=DURATION:PT1H
X-Robots-Tag:noindex
X-PUBLISHED-TTL:PT1H
BEGIN:VTIMEZONE
TZID:America/Chicago
BEGIN:DAYLIGHT
TZOFFSETFROM:-0600
TZOFFSETTO:-0500
TZNAME:CDT
DTSTART:20150308T080000
END:DAYLIGHT
BEGIN:STANDARD
TZOFFSETFROM:-0500
TZOFFSETTO:-0600
TZNAME:CST
DTSTART:20151101T070000
END:STANDARD
BEGIN:DAYLIGHT
TZOFFSETFROM:-0600
TZOFFSETTO:-0500
TZNAME:CDT
DTSTART:20160313T080000
END:DAYLIGHT
BEGIN:STANDARD
TZOFFSETFROM:-0500
TZOFFSETTO:-0600
TZNAME:CST
DTSTART:20161106T070000
END:STANDARD
BEGIN:DAYLIGHT
TZOFFSETFROM:-0600
TZOFFSETTO:-0500
TZNAME:CDT
DTSTART:20170312T080000
END:DAYLIGHT
BEGIN:STANDARD
TZOFFSETFROM:-0500
TZOFFSETTO:-0600
TZNAME:CST
DTSTART:20171105T070000
END:STANDARD
END:VTIMEZONE
BEGIN:VEVENT
DTSTART;TZID=America/Chicago:20161029T170000
DTEND;TZID=America/Chicago:20161029T220000
DTSTAMP:20260422T090329
CREATED:20161012T151150Z
LAST-MODIFIED:20161012T151150Z
UID:28284-1477760400-1477778400@theaustincommon.com
SUMMARY:Tree Huggers' Happy Hour
DESCRIPTION:From the Austin Area Tree Huggers –\nJoin fellow tree lovers for networking and fellowship. \nThis month we are having a special Halloween -themed happy hour hosted by Paul & Lara Schuman. \nThere will be a HALLOWEEN Costume Contest with prizes and other fun activities\, so please come dressed up in costume to celebrate.  The Schuman’s will provide a brisket\, beans\, and potato salad.  Please bring other sides to share with everyone and BYOB.  Please post on the Facebook page with the side that you are going to bring. https://www.facebook.com/events/1230310270364012/ \nThis will be an indoor/outdoor party with a large bonfire\, so bring appropriate clothes for the weather.  They live out in Cedar Creek\, so carpooling and camping are encouraged.  Contact Lara at laraschuman@msn.com for any special questions.
URL:https://theaustincommon.com/event/tree-huggers-happy-hour-4/
LOCATION:Unnamed Venue\, 166 Creekwood Trail\, Cedar Creek\, TX\, 78612\, United States
ATTACH;FMTTYPE=image/jpeg:https://s3.us-east-2.amazonaws.com/media.theaustincommon.com/wp-content/uploads/2015/12/16171430/Tree-Hugger.jpg
GEO:30.032989;-97.545123
X-APPLE-STRUCTURED-LOCATION;VALUE=URI;X-ADDRESS=Unnamed Venue 166 Creekwood Trail Cedar Creek TX 78612 United States;X-APPLE-RADIUS=500;X-TITLE=166 Creekwood Trail:geo:-97.545123,30.032989
END:VEVENT
END:VCALENDAR