BEGIN:VCALENDAR
VERSION:2.0
PRODID:-//The Austin Common - ECPv6.15.20//NONSGML v1.0//EN
CALSCALE:GREGORIAN
METHOD:PUBLISH
X-WR-CALNAME:The Austin Common
X-ORIGINAL-URL:https://theaustincommon.com
X-WR-CALDESC:Events for The Austin Common
REFRESH-INTERVAL;VALUE=DURATION:PT1H
X-Robots-Tag:noindex
X-PUBLISHED-TTL:PT1H
BEGIN:VTIMEZONE
TZID:America/Chicago
BEGIN:DAYLIGHT
TZOFFSETFROM:-0600
TZOFFSETTO:-0500
TZNAME:CDT
DTSTART:20250309T080000
END:DAYLIGHT
BEGIN:STANDARD
TZOFFSETFROM:-0500
TZOFFSETTO:-0600
TZNAME:CST
DTSTART:20251102T070000
END:STANDARD
BEGIN:DAYLIGHT
TZOFFSETFROM:-0600
TZOFFSETTO:-0500
TZNAME:CDT
DTSTART:20260308T080000
END:DAYLIGHT
BEGIN:STANDARD
TZOFFSETFROM:-0500
TZOFFSETTO:-0600
TZNAME:CST
DTSTART:20261101T070000
END:STANDARD
BEGIN:DAYLIGHT
TZOFFSETFROM:-0600
TZOFFSETTO:-0500
TZNAME:CDT
DTSTART:20270314T080000
END:DAYLIGHT
BEGIN:STANDARD
TZOFFSETFROM:-0500
TZOFFSETTO:-0600
TZNAME:CST
DTSTART:20271107T070000
END:STANDARD
END:VTIMEZONE
BEGIN:VEVENT
DTSTART;TZID=America/Chicago:20260515T110000
DTEND;TZID=America/Chicago:20260515T133000
DTSTAMP:20260425T055322
CREATED:20260402T114137Z
LAST-MODIFIED:20260402T114137Z
UID:55915-1778842800-1778851800@theaustincommon.com
SUMMARY:Courageous Leaders Lunch
DESCRIPTION:As Leadership Austin’s largest fundraiser of the year\, the third annual Courageous Leaders Lunch brings together more than 300 Central Texas leaders\, philanthropists\, and changemakers to invest in the future of our community. Proceeds support Leadership Austin’s mission and grow the Rising Leaders Fund\, which provides scholarships that ensure the next generation of leaders has a seat at the table. Guests will enjoy mimosas and networking\, a plated lunch\, and an inspiring program — culminating in the celebration of 140+ graduates from this year’s Leadership Austin cohorts.
URL:https://theaustincommon.com/event/courageous-leaders-lunch/
LOCATION:Junior League of Austin\, 5330 Bluffstone Ln\, Austin\, TX\, 78759\, United States
CATEGORIES:Party With a Purpose
ATTACH;FMTTYPE=image/png:https://s3.us-east-2.amazonaws.com/media.theaustincommon.com/wp-content/uploads/2026/04/01192726/Courageous-Leaders-Lunch-Headers-5-scaled.png
END:VEVENT
END:VCALENDAR