BEGIN:VCALENDAR
VERSION:2.0
PRODID:-//The Austin Common - ECPv6.15.20//NONSGML v1.0//EN
CALSCALE:GREGORIAN
METHOD:PUBLISH
X-WR-CALNAME:The Austin Common
X-ORIGINAL-URL:https://theaustincommon.com
X-WR-CALDESC:Events for The Austin Common
REFRESH-INTERVAL;VALUE=DURATION:PT1H
X-Robots-Tag:noindex
X-PUBLISHED-TTL:PT1H
BEGIN:VTIMEZONE
TZID:America/Chicago
BEGIN:DAYLIGHT
TZOFFSETFROM:-0600
TZOFFSETTO:-0500
TZNAME:CDT
DTSTART:20250309T080000
END:DAYLIGHT
BEGIN:STANDARD
TZOFFSETFROM:-0500
TZOFFSETTO:-0600
TZNAME:CST
DTSTART:20251102T070000
END:STANDARD
BEGIN:DAYLIGHT
TZOFFSETFROM:-0600
TZOFFSETTO:-0500
TZNAME:CDT
DTSTART:20260308T080000
END:DAYLIGHT
BEGIN:STANDARD
TZOFFSETFROM:-0500
TZOFFSETTO:-0600
TZNAME:CST
DTSTART:20261101T070000
END:STANDARD
BEGIN:DAYLIGHT
TZOFFSETFROM:-0600
TZOFFSETTO:-0500
TZNAME:CDT
DTSTART:20270314T080000
END:DAYLIGHT
BEGIN:STANDARD
TZOFFSETFROM:-0500
TZOFFSETTO:-0600
TZNAME:CST
DTSTART:20271107T070000
END:STANDARD
END:VTIMEZONE
BEGIN:VEVENT
DTSTART;TZID=America/Chicago:20260408T180000
DTEND;TZID=America/Chicago:20260513T193000
DTSTAMP:20260419T121651
CREATED:20260219T005059Z
LAST-MODIFIED:20260402T172936Z
UID:55594-1775671200-1778700600@theaustincommon.com
SUMMARY:Music on the Trail
DESCRIPTION:Shake up your Wednesday nights with Music on the Trail—a free live music series right on the Ann and Roy Butler Hike and Bike Trail. Every week\, the Rainey Street Trailhead lawn transforms into Austin’s coolest outdoor concert spot\, featuring incredible local musicians.
URL:https://theaustincommon.com/event/music-on-the-trail-3-2026-04-08/2026-04-08/
LOCATION:Rainey Street Trailhead 36 East Ave\, Austin 78701\, 36 East Ave\, Austin\, TX\, 78701\, United States
CATEGORIES:Family-Friendly,Music
ATTACH;FMTTYPE=image/jpeg:https://s3.us-east-2.amazonaws.com/media.theaustincommon.com/wp-content/uploads/2026/02/18185323/Music-On-The-Trail-2026.jpg
ORGANIZER;CN="The Trail Conservancy":MAILTO:events@thetrailconservancy.org
END:VEVENT
BEGIN:VEVENT
DTSTART;TZID=America/Chicago:20260415T180000
DTEND;TZID=America/Chicago:20260520T193000
DTSTAMP:20260419T121651
CREATED:20260219T005059Z
LAST-MODIFIED:20260402T172936Z
UID:55595-1776276000-1779305400@theaustincommon.com
SUMMARY:Music on the Trail
DESCRIPTION:Shake up your Wednesday nights with Music on the Trail—a free live music series right on the Ann and Roy Butler Hike and Bike Trail. Every week\, the Rainey Street Trailhead lawn transforms into Austin’s coolest outdoor concert spot\, featuring incredible local musicians.
URL:https://theaustincommon.com/event/music-on-the-trail-3-2026-04-08/2026-04-15/
LOCATION:Rainey Street Trailhead 36 East Ave\, Austin 78701\, 36 East Ave\, Austin\, TX\, 78701\, United States
CATEGORIES:Family-Friendly,Music
ATTACH;FMTTYPE=image/jpeg:https://s3.us-east-2.amazonaws.com/media.theaustincommon.com/wp-content/uploads/2026/02/18185323/Music-On-The-Trail-2026.jpg
ORGANIZER;CN="The Trail Conservancy":MAILTO:events@thetrailconservancy.org
END:VEVENT
BEGIN:VEVENT
DTSTART;TZID=America/Chicago:20260425T090000
DTEND;TZID=America/Chicago:20260425T130000
DTSTAMP:20260419T121651
CREATED:20260414T175257Z
LAST-MODIFIED:20260414T175257Z
UID:56061-1777107600-1777122000@theaustincommon.com
SUMMARY:BioBlitz at Holly Shores
DESCRIPTION:Join The Trail Conservancy on Saturday\, April 25th\, from 9 am-1 pm for our 4th annual BioBlitz at Holly Shores for a unique experience on the Butler Hike-and-Bike Trail! \nA BioBlitz? What’s that? BioBlitzes are annual events in which experts and community members work together to observe and record the plants\, animals\, and fungi at a site and measure its biodiversity. During the event\, participants will try to observe and report as many species as possible in a specific location\, working with local experts to ID the species they see and iNaturalist. \nThe data collected at the Holly Shores BioBlitz will assist The Trail Conservancy in conducting restoration projects in the area moving forward. This will help ensure that the existing biodiversity is protected and that restoration actions improve biodiversity.
URL:https://theaustincommon.com/event/bioblitz-at-holly-shores-2/
LOCATION:Holly Shores Park\, 2 Robert T Martinez Jr St\, Austin\, TX\, 78702\, United States
CATEGORIES:Class/Skill-Building,Family-Friendly
ATTACH;FMTTYPE=image/png:https://s3.us-east-2.amazonaws.com/media.theaustincommon.com/wp-content/uploads/2026/04/13170130/Event-Card-bioblitz.png
ORGANIZER;CN="The Trail Conservancy":MAILTO:events@thetrailconservancy.org
END:VEVENT
BEGIN:VEVENT
DTSTART;TZID=America/Chicago:20260515T073000
DTEND;TZID=America/Chicago:20260515T100000
DTSTAMP:20260419T121651
CREATED:20260325T181000Z
LAST-MODIFIED:20260325T181000Z
UID:55886-1778830200-1778839200@theaustincommon.com
SUMMARY:Bird Walk with Travis Audubon and The Trail Conservancy
DESCRIPTION:Join Rachel Zierzow and TTC Volunteer Manager Jonatan Salinas to find birds on the Butler Trail at the Holly Trailhead. Recently planted native trees\, shrubs\, wildflowers\, and natural spring water provide excellent habitats for a variety of bird species. As TTC restores this section of the Buter Trail\, there will be a change of birds\, so you’ll want to come on this monthly walk! \nBird walks are: \n\n1-2 miles long\, completed in around 3 hours\nBeginner-friendly (all levels are welcome)\nOn mostly flat terrain (dissolved gravel trail and sidewalks)\nWe have binoculars to lend to anyone who doesn’t have a pair\n\n  \nRegistration is required and is limited to 10 participants. A reminder email with details will be sent before the bird walk date.
URL:https://theaustincommon.com/event/bird-walk-with-travis-audubon-and-the-trail-conservancy-2/
LOCATION:Holly Shores Trail Overlook\, 61 Pedernales St.\, Austin\, TX\, 78702\, United States
CATEGORIES:Outdoor/Fitness
ATTACH;FMTTYPE=image/jpeg:https://s3.us-east-2.amazonaws.com/media.theaustincommon.com/wp-content/uploads/2026/03/25130827/Bird-Walks.jpg
ORGANIZER;CN="The Trail Conservancy":MAILTO:events@thetrailconservancy.org
END:VEVENT
BEGIN:VEVENT
DTSTART;TZID=America/Chicago:20260604T200000
DTEND;TZID=America/Chicago:20260604T220000
DTSTAMP:20260419T121651
CREATED:20260219T004925Z
LAST-MODIFIED:20260219T004925Z
UID:55597-1780603200-1780610400@theaustincommon.com
SUMMARY:Moonlight Margarita Run
DESCRIPTION:Lace up your shoes and join the 23-year Austin tradition at The Trail Conservancy’s 2026 Moonlight Margarita Run presented by Maudie’s Tex-Mex. This one-of-a-kind run takes you around the sparkling shores of Lady Bird Lake\, where the city skyline and moonlit miles make every step worth a toast. Whether you’re chasing a PR or just here for the post-run margarita\, it’s a course that’s equal parts scenic and spirited.
URL:https://theaustincommon.com/event/moonlight-margarita-run/
LOCATION:Auditorium Shores 920 E Riverside Dr\, Austin\, TX 78704\, Auditorium Shores 920 E Riverside Dr\, Austin\, 78704\, United States
CATEGORIES:Outdoor/Fitness,Party With a Purpose
ATTACH;FMTTYPE=image/png:https://s3.us-east-2.amazonaws.com/media.theaustincommon.com/wp-content/uploads/2026/02/18171837/Event-Featured-Images-3-3-4.png
ORGANIZER;CN="The Trail Conservancy":MAILTO:events@thetrailconservancy.org
END:VEVENT
END:VCALENDAR