BEGIN:VCALENDAR
VERSION:2.0
PRODID:-//The Austin Common - ECPv6.15.20//NONSGML v1.0//EN
CALSCALE:GREGORIAN
METHOD:PUBLISH
X-ORIGINAL-URL:https://theaustincommon.com
X-WR-CALDESC:Events for The Austin Common
REFRESH-INTERVAL;VALUE=DURATION:PT1H
X-Robots-Tag:noindex
X-PUBLISHED-TTL:PT1H
BEGIN:VTIMEZONE
TZID:America/Chicago
BEGIN:DAYLIGHT
TZOFFSETFROM:-0600
TZOFFSETTO:-0500
TZNAME:CDT
DTSTART:20200308T080000
END:DAYLIGHT
BEGIN:STANDARD
TZOFFSETFROM:-0500
TZOFFSETTO:-0600
TZNAME:CST
DTSTART:20201101T070000
END:STANDARD
BEGIN:DAYLIGHT
TZOFFSETFROM:-0600
TZOFFSETTO:-0500
TZNAME:CDT
DTSTART:20210314T080000
END:DAYLIGHT
BEGIN:STANDARD
TZOFFSETFROM:-0500
TZOFFSETTO:-0600
TZNAME:CST
DTSTART:20211107T070000
END:STANDARD
BEGIN:DAYLIGHT
TZOFFSETFROM:-0600
TZOFFSETTO:-0500
TZNAME:CDT
DTSTART:20220313T080000
END:DAYLIGHT
BEGIN:STANDARD
TZOFFSETFROM:-0500
TZOFFSETTO:-0600
TZNAME:CST
DTSTART:20221106T070000
END:STANDARD
END:VTIMEZONE
BEGIN:VEVENT
DTSTART;TZID=America/Chicago:20210309T180000
DTEND;TZID=America/Chicago:20210309T190000
DTSTAMP:20260419T122053
CREATED:20210305T220224Z
LAST-MODIFIED:20210305T221459Z
UID:45641-1615312800-1615316400@theaustincommon.com
SUMMARY:Fuerza Latina Event
DESCRIPTION:Latina Fuerza. Hear Us\, Invest in Us and Achieve with Us. In Texas\, the key to winning statewide is getting a strong Latino turnout. To make that happen\, we have to engage with Latinas. They are the heart of our Latino community. Despite this\, Latinas are often overlooked. Join us for an informative hour about the impact Latinas had in the last election\, how to engage with Latinas to impact future elections. \nThe event will be moderated by Dr. Victoria M. DeFrancesco Soto\, Assistant Dean for the Civic Engagement & Lecturer at the LBJ School of Public Affairs.\n  \n\nFeatured panelists at the event include:\n– Cristina Tzinzun – Founder of Jolt\, Former US Senate Candidate & Activist\n– Congresswoman Veronica Escobar\n– Candace Valenzuela — Former Candidate for Congress in the 24th district of Texas\n– Albert Morales — Latino Decisions\n– Laura Hernandez — Chair\, Board of Directors Annie’s List PAC\n– Lizza Garza Harrison — Activist
URL:https://theaustincommon.com/event/fuerza-latina-event/
LOCATION:Online
CATEGORIES:Lecture/Guest Speaker
ATTACH;FMTTYPE=image/jpeg:https://s3.us-east-2.amazonaws.com/media.theaustincommon.com/wp-content/uploads/2021/03/16141333/Fuerza-Latina.jpg
END:VEVENT
END:VCALENDAR