BEGIN:VCALENDAR
VERSION:2.0
PRODID:-//The Austin Common - ECPv6.15.20//NONSGML v1.0//EN
CALSCALE:GREGORIAN
METHOD:PUBLISH
X-WR-CALNAME:The Austin Common
X-ORIGINAL-URL:https://theaustincommon.com
X-WR-CALDESC:Events for The Austin Common
REFRESH-INTERVAL;VALUE=DURATION:PT1H
X-Robots-Tag:noindex
X-PUBLISHED-TTL:PT1H
BEGIN:VTIMEZONE
TZID:America/Chicago
BEGIN:DAYLIGHT
TZOFFSETFROM:-0600
TZOFFSETTO:-0500
TZNAME:CDT
DTSTART:20210314T080000
END:DAYLIGHT
BEGIN:STANDARD
TZOFFSETFROM:-0500
TZOFFSETTO:-0600
TZNAME:CST
DTSTART:20211107T070000
END:STANDARD
BEGIN:DAYLIGHT
TZOFFSETFROM:-0600
TZOFFSETTO:-0500
TZNAME:CDT
DTSTART:20220313T080000
END:DAYLIGHT
BEGIN:STANDARD
TZOFFSETFROM:-0500
TZOFFSETTO:-0600
TZNAME:CST
DTSTART:20221106T070000
END:STANDARD
BEGIN:DAYLIGHT
TZOFFSETFROM:-0600
TZOFFSETTO:-0500
TZNAME:CDT
DTSTART:20230312T080000
END:DAYLIGHT
BEGIN:STANDARD
TZOFFSETFROM:-0500
TZOFFSETTO:-0600
TZNAME:CST
DTSTART:20231105T070000
END:STANDARD
BEGIN:DAYLIGHT
TZOFFSETFROM:-0600
TZOFFSETTO:-0500
TZNAME:CDT
DTSTART:20240310T080000
END:DAYLIGHT
BEGIN:STANDARD
TZOFFSETFROM:-0500
TZOFFSETTO:-0600
TZNAME:CST
DTSTART:20241103T070000
END:STANDARD
BEGIN:DAYLIGHT
TZOFFSETFROM:-0600
TZOFFSETTO:-0500
TZNAME:CDT
DTSTART:20250309T080000
END:DAYLIGHT
BEGIN:STANDARD
TZOFFSETFROM:-0500
TZOFFSETTO:-0600
TZNAME:CST
DTSTART:20251102T070000
END:STANDARD
BEGIN:DAYLIGHT
TZOFFSETFROM:-0600
TZOFFSETTO:-0500
TZNAME:CDT
DTSTART:20260308T080000
END:DAYLIGHT
BEGIN:STANDARD
TZOFFSETFROM:-0500
TZOFFSETTO:-0600
TZNAME:CST
DTSTART:20261101T070000
END:STANDARD
END:VTIMEZONE
BEGIN:VEVENT
DTSTART;VALUE=DATE:20250628
DTEND;VALUE=DATE:20250630
DTSTAMP:20260422T191728
CREATED:20250623T132437Z
LAST-MODIFIED:20250623T132653Z
UID:54370-1751068800-1751241599@theaustincommon.com
SUMMARY:Keep Austin Adopting
DESCRIPTION:For one weird weekend\, shelters and rescues across ATX are teaming up to help our four-legged Austinites find homes.\nSee individual rescue and org websites for operating hours\, addresses\, and more info.\nSave the date\, invite your pals\, and share this event to KEEP AUSTIN ADOPTING!\nParticipating shelters/rescues: \n\nAustin Animal Center\nAustin Humane Society\nAustin Pets Alive!\nJack Jack’s Pack\nLove-A-Bull\nPflugerville Animal Welfare Services\nTRAPRS\nWilliamson County Regional Animal Shelter
URL:https://theaustincommon.com/event/keep-austin-adopting/
LOCATION:Shelters All Over Austin\, Austin\, TX\, United States
ATTACH;FMTTYPE=image/jpeg:https://s3.us-east-2.amazonaws.com/media.theaustincommon.com/wp-content/uploads/2025/06/23082141/Keep-Austin-Adopting.jpg
END:VEVENT
BEGIN:VEVENT
DTSTART;TZID=America/Chicago:20230422T110000
DTEND;TZID=America/Chicago:20230422T170000
DTSTAMP:20260422T191728
CREATED:20230417T140229Z
LAST-MODIFIED:20230417T140317Z
UID:49932-1682161200-1682182800@theaustincommon.com
SUMMARY:Earth Day = Thrift Day
DESCRIPTION:This Earth Day\, you can support the environment AND pets in need! Join us Saturday\, April 22 from 11AM – 5PM at the Austin Pets Alive! 51st location for our Earth Day = Thrift Day party!\n \n\nThere will be bin sales\, complimentary drinks\, local vendors\, hourly door prize drawings\, and cat adoptions\, too! Oh\, and did we mention we’re offering 50 percent off the ENTIRE STORE?! You don’t want to miss it!
URL:https://theaustincommon.com/event/earth-day-thrift-day/
LOCATION:Austin Pets Alive! Thrift – 51st\, 5102 Clarkson Ave\, Austin\, TX\, 78751\, United States
CATEGORIES:Party With a Purpose
ATTACH;FMTTYPE=image/png:https://s3.us-east-2.amazonaws.com/media.theaustincommon.com/wp-content/uploads/2023/04/16123400/Screenshot-2023-04-17-at-8.55.41-AM.png
END:VEVENT
BEGIN:VEVENT
DTSTART;TZID=America/Chicago:20220827T110000
DTEND;TZID=America/Chicago:20220827T180000
DTSTAMP:20260422T191728
CREATED:20220827T133759Z
LAST-MODIFIED:20220827T134139Z
UID:48671-1661598000-1661623200@theaustincommon.com
SUMMARY:Clear The Shelters
DESCRIPTION:Austin—you’ve helped us to achieve amazing things in the past few years\, and we’re hoping you can help us work toward our dream of adopting out each and every animal in our shelter doors this August 27th and 28th from 11 a.m. to 6 p.m. That’s right\, our annual #ClearTheShelters event is just around the corner and we’re telling you that now is the purrfect time to add a furry friend to your home.\n \nWe’re waiving all adoption fees (surgery deposits still apply) and throwing in extra post adoption support along with taking super cute adoption photos for you.\n \nJoin us for the festivities at our campus. We can’t wait for you to meet your new best friend!
URL:https://theaustincommon.com/event/clear-the-shelters/2022-08-27/
LOCATION:Austin Pets Alive!\, 1156 W Cesar Chavez St\, Austin\, TX\, 78703\, United States
CATEGORIES:Party With a Purpose
ATTACH;FMTTYPE=image/jpeg:https://s3.us-east-2.amazonaws.com/media.theaustincommon.com/wp-content/uploads/2022/08/16130238/clear-the-shelters.jpeg
END:VEVENT
END:VCALENDAR