BEGIN:VCALENDAR
VERSION:2.0
PRODID:-//The Austin Common - ECPv6.15.20//NONSGML v1.0//EN
CALSCALE:GREGORIAN
METHOD:PUBLISH
X-ORIGINAL-URL:https://theaustincommon.com
X-WR-CALDESC:Events for The Austin Common
REFRESH-INTERVAL;VALUE=DURATION:PT1H
X-Robots-Tag:noindex
X-PUBLISHED-TTL:PT1H
BEGIN:VTIMEZONE
TZID:America/Chicago
BEGIN:DAYLIGHT
TZOFFSETFROM:-0600
TZOFFSETTO:-0500
TZNAME:CDT
DTSTART:20250309T080000
END:DAYLIGHT
BEGIN:STANDARD
TZOFFSETFROM:-0500
TZOFFSETTO:-0600
TZNAME:CST
DTSTART:20251102T070000
END:STANDARD
BEGIN:DAYLIGHT
TZOFFSETFROM:-0600
TZOFFSETTO:-0500
TZNAME:CDT
DTSTART:20260308T080000
END:DAYLIGHT
BEGIN:STANDARD
TZOFFSETFROM:-0500
TZOFFSETTO:-0600
TZNAME:CST
DTSTART:20261101T070000
END:STANDARD
BEGIN:DAYLIGHT
TZOFFSETFROM:-0600
TZOFFSETTO:-0500
TZNAME:CDT
DTSTART:20270314T080000
END:DAYLIGHT
BEGIN:STANDARD
TZOFFSETFROM:-0500
TZOFFSETTO:-0600
TZNAME:CST
DTSTART:20271107T070000
END:STANDARD
END:VTIMEZONE
BEGIN:VEVENT
DTSTART;TZID=America/Chicago:20260209T123000
DTEND;TZID=America/Chicago:20260209T150000
DTSTAMP:20260419T085131
CREATED:20260128T215738Z
LAST-MODIFIED:20260128T215828Z
UID:55433-1770640200-1770649200@theaustincommon.com
SUMMARY:Volunteer Opportunity – Spring Park Prep
DESCRIPTION:Springtime is approaching and we need your help to keep Waterloo Park beautiful and thriving! In these hands-on volunteer workshops\, you’ll learn how to cut back herbaceous perennials\, groundcovers\, shrubs\, and grasses throughout the park\, all while meeting other plant-loving experts and community members. \nWhat to bring: \nWe kindly ask that you wear appropriate clothing and bring any of the following tools/equipment you may have at home! \n\nWater Bottle\nGloves\nKnee pads\nClosed toe shoes\nHand pruners\nPruning Shears\nRake\n\nA limited selection of these items will be available onsite. No power tools\, please! If you have any questions\, please contact Waterloo Greenway’s Horticulture Supervisor Adriane Horne at ahorne@waterloogreenway.org or Park Operations Coordinator Todd Ruff at truff@waterloogreenway.org \nSpace is limited. This opportunity is open to people of all ages—any children who participate must be accompanied by a parent or guardian. Participants must be comfortable working outdoors\, navigating uneven surfaces\, standing\, kneeling\, crouching\, and lifting.
URL:https://theaustincommon.com/event/volunteer-opportunity-spring-park-prep/
LOCATION:Waterloo Park\, 500 E 12th St\, Austin\, TX\, 78701\, United States
CATEGORIES:Outdoor/Fitness,Volunteer
ATTACH;FMTTYPE=image/jpeg:https://s3.us-east-2.amazonaws.com/media.theaustincommon.com/wp-content/uploads/2026/01/28155545/spring-park-prep.jpg
END:VEVENT
BEGIN:VEVENT
DTSTART;TZID=America/Chicago:20260211T123000
DTEND;TZID=America/Chicago:20260211T150000
DTSTAMP:20260419T085131
CREATED:20260128T220106Z
LAST-MODIFIED:20260128T220106Z
UID:55435-1770813000-1770822000@theaustincommon.com
SUMMARY:Volunteer Opportunity – Spring Park Prep
DESCRIPTION:Springtime is approaching and we need your help to keep Waterloo Park beautiful and thriving! In these hands-on volunteer workshops\, you’ll learn how to cut back herbaceous perennials\, groundcovers\, shrubs\, and grasses throughout the park\, all while meeting other plant-loving experts and community members. \nWhat to bring: \nWe kindly ask that you wear appropriate clothing and bring any of the following tools/equipment you may have at home! \n\nWater Bottle\nGloves\nKnee pads\nClosed toe shoes\nHand pruners\nPruning Shears\nRake\n\nA limited selection of these items will be available onsite. No power tools\, please! If you have any questions\, please contact Waterloo Greenway’s Horticulture Supervisor Adriane Horne at ahorne@waterloogreenway.org or Park Operations Coordinator Todd Ruff at truff@waterloogreenway.org \nSpace is limited. This opportunity is open to people of all ages—any children who participate must be accompanied by a parent or guardian. Participants must be comfortable working outdoors\, navigating uneven surfaces\, standing\, kneeling\, crouching\, and lifting.
URL:https://theaustincommon.com/event/volunteer-opportunity-spring-park-prep-2/
LOCATION:Waterloo Park\, 500 E 12th St\, Austin\, TX\, 78701\, United States
CATEGORIES:Outdoor/Fitness,Volunteer
ATTACH;FMTTYPE=image/jpeg:https://s3.us-east-2.amazonaws.com/media.theaustincommon.com/wp-content/uploads/2026/01/28155545/spring-park-prep.jpg
END:VEVENT
BEGIN:VEVENT
DTSTART;TZID=America/Chicago:20260211T180000
DTEND;TZID=America/Chicago:20260211T200000
DTSTAMP:20260419T085131
CREATED:20260205T004354Z
LAST-MODIFIED:20260205T004432Z
UID:55492-1770832800-1770840000@theaustincommon.com
SUMMARY:Behind the Stream: How UT Scholars Are Rethinking Music\, Labor & Artist Sustainability
DESCRIPTION:For more information about research conducted by these professors on the challenges Austin musicians face\, visit SupportAustinMusicians.org \n  \n**This is a two-part series.** \nPart 2: Feb. 11th\, 2026 · Capital Factory in Austin\, TX · ACL Room\, 16th floor \nPart Two centers Austin itself\, a global “music city” grappling with the realities of artist precarity. \nThis Town Hall highlights research connected to the Support Austin Musicians project and broader scholarship on music\, labor\, and cultural policy. Professors Moore and Carson will examine how local economies\, institutions\, and public policy shape musicians’ livelihoods and what cities like Austin must do to truly support their creative communities.
URL:https://theaustincommon.com/event/behind-the-stream-how-ut-scholars-are-rethinking-music-labor-artist-sustainability/
LOCATION:Capital Factory\, 701 Brazos Street\, 16th Floor\, Austin\, TX\, 78701\, United States
CATEGORIES:Lecture/Guest Speaker
ATTACH;FMTTYPE=image/jpeg:https://s3.us-east-2.amazonaws.com/media.theaustincommon.com/wp-content/uploads/2026/02/04184330/Behind-The-Stream.jpg
GEO:30.2688755;-97.7405641
X-APPLE-STRUCTURED-LOCATION;VALUE=URI;X-ADDRESS=Capital Factory 701 Brazos Street 16th Floor Austin TX 78701 United States;X-APPLE-RADIUS=500;X-TITLE=701 Brazos Street\, 16th Floor:geo:-97.7405641,30.2688755
END:VEVENT
BEGIN:VEVENT
DTSTART;TZID=America/Chicago:20260212T183000
DTEND;TZID=America/Chicago:20260212T200000
DTSTAMP:20260419T085131
CREATED:20260204T204826Z
LAST-MODIFIED:20260205T234855Z
UID:55474-1770921000-1770926400@theaustincommon.com
SUMMARY:District 10 Community Listening Session
DESCRIPTION:2026 is here\, and you’re invited to our first listening session of the year! Join us on February 12 at the YMCA Tomorrow Academy at Four Points\, and let’s talk through your priorities for the next 12 months. \nWe all spend a lot of time online these days\, and social media has a tendency to drive us into ideological corners. Live listening sessions likes these are one way to break down walls\, give people with different backgrounds a chance to meet in person\, and build real community. Our office values them highly! \nYou can RSVP here. \n  \n\nNot sure which City Council district you live in? You can look it up here.
URL:https://theaustincommon.com/event/district-10-community-listening-session-6/
LOCATION:YMCA Tomorrow Academy\, 8300 N. FM 620\, Austin\, TX\, United States
CATEGORIES:Important City Meeting
ATTACH;FMTTYPE=image/jpeg:https://s3.us-east-2.amazonaws.com/media.theaustincommon.com/wp-content/uploads/2026/02/04144704/District-10-Listening-Session.jpg
END:VEVENT
BEGIN:VEVENT
DTSTART;VALUE=DATE:20260213
DTEND;VALUE=DATE:20260216
DTSTAMP:20260419T085131
CREATED:20260212T155547Z
LAST-MODIFIED:20260212T155639Z
UID:55501-1770940800-1771199999@theaustincommon.com
SUMMARY:Be My Pawlentine
DESCRIPTION:This Valentine’s weekend\, find your perfect match at Austin Animal Services.\n\n \nJoin us Friday 2/13 through Sunday 2/15 for $14 adoption fees on adoptable pets. Volunteer matchmakers will be available to help you meet your new best friend!\n\n \nOn Saturday\, stop by our Valentine’s card craft station to make cards for shelter pets and help spread the love.\n \nIf you’re ready to open your heart and home\, we’re ready to help you meet your Pawlentine!
URL:https://theaustincommon.com/event/be-my-pawlentine/
LOCATION:Austin Animal Center\, 7201 Levander Loop Bldg. A\, Austin\, TX\, 78702\, United States
CATEGORIES:Party With a Purpose
ATTACH;FMTTYPE=image/png:https://s3.us-east-2.amazonaws.com/media.theaustincommon.com/wp-content/uploads/2026/02/12095436/Pawlentines.png
END:VEVENT
BEGIN:VEVENT
DTSTART;TZID=America/Chicago:20260213T123000
DTEND;TZID=America/Chicago:20260213T150000
DTSTAMP:20260419T085131
CREATED:20260128T220342Z
LAST-MODIFIED:20260128T220342Z
UID:55436-1770985800-1770994800@theaustincommon.com
SUMMARY:Volunteer Opportunity - Spring Park Prep
DESCRIPTION:Springtime is approaching and we need your help to keep Waterloo Park beautiful and thriving! In these hands-on volunteer workshops\, you’ll learn how to cut back herbaceous perennials\, groundcovers\, shrubs\, and grasses throughout the park\, all while meeting other plant-loving experts and community members. \nWhat to bring: \nWe kindly ask that you wear appropriate clothing and bring any of the following tools/equipment you may have at home! \n\nWater Bottle\nGloves\nKnee pads\nClosed toe shoes\nHand pruners\nPruning Shears\nRake\n\nA limited selection of these items will be available onsite. No power tools\, please! If you have any questions\, please contact Waterloo Greenway’s Horticulture Supervisor Adriane Horne at ahorne@waterloogreenway.org or Park Operations Coordinator Todd Ruff at truff@waterloogreenway.org \nSpace is limited. This opportunity is open to people of all ages—any children who participate must be accompanied by a parent or guardian. Participants must be comfortable working outdoors\, navigating uneven surfaces\, standing\, kneeling\, crouching\, and lifting.
URL:https://theaustincommon.com/event/volunteer-opportunity-spring-park-prep-3/
LOCATION:Waterloo Park\, 500 E 12th St\, Austin\, TX\, 78701\, United States
CATEGORIES:Outdoor/Fitness,Volunteer
ATTACH;FMTTYPE=image/jpeg:https://s3.us-east-2.amazonaws.com/media.theaustincommon.com/wp-content/uploads/2026/01/28155545/spring-park-prep.jpg
END:VEVENT
BEGIN:VEVENT
DTSTART;TZID=America/Chicago:20260213T180000
DTEND;TZID=America/Chicago:20260213T220000
DTSTAMP:20260419T085131
CREATED:20260212T213427Z
LAST-MODIFIED:20260212T213453Z
UID:55542-1771005600-1771020000@theaustincommon.com
SUMMARY:Asian Season ATX 2026 Lunar New Year Exhibition at Bolm Arts
DESCRIPTION:Join Asian Season ATX for an illuminating experience at the 2026 Lunar New Year Exhibition celebrating the Year of the Fire Horse. \n\n\n\n\nFollow the light into the New Year. \nJoin Asian Season ATX for an illuminating experience at the 2026 Lunar New Year Exhibition. We’ll transform Bolm Arts into a breathtaking space where ancient traditions inspire radical new forms. From intricate textile work to bold digital art\, witness the powerful creativity of local AAPI artists as they usher in the Year of the Fire Horse with brilliance and grace. Your year starts here\, in art. \n\n\n\n\nAn Exclusive Two-Week Showcase: February 13 – February 27\, 2026\nOpening Ceremony: February 13\, 6pm – 10pm\nClosing Ceremony: February 27\, 6pm – 10pm \nThis extraordinary collection is an exclusive\, limited engagement\, available for viewing only from February 13th through February 27th.Don’t miss the two must-attend events that frame this showcase: a grand Opening Ceremony and Market to kick off the Lunar New Year\, and a festive Closing Ceremony and Marketto bid farewell to the exhibition. Mark your calendars now for this brief yet brilliant celebration!
URL:https://theaustincommon.com/event/asian-season-atx-2026-lunar-new-year-exhibition-at-bolm-arts/
LOCATION:Bolm Arts\, 5305 Bolm Road #Bay 9\, Austin\, TX\, 78721\, United States
CATEGORIES:Arts/Crafts,Party With a Purpose
ATTACH;FMTTYPE=image/jpeg:https://s3.us-east-2.amazonaws.com/media.theaustincommon.com/wp-content/uploads/2026/02/12153403/Full-Circle.jpg
END:VEVENT
BEGIN:VEVENT
DTSTART;TZID=America/Chicago:20260213T183000
DTEND;TZID=America/Chicago:20260213T210000
DTSTAMP:20260419T085131
CREATED:20260122T172919Z
LAST-MODIFIED:20260122T172937Z
UID:55401-1771007400-1771016400@theaustincommon.com
SUMMARY:That's My Face: Black Love Edition - "Sylvie's Love" at the Carver
DESCRIPTION:Celebrate Black Love Day at the Carver’s free film screening of “Sylvie’s Love”!\n\n\n\nJoin us at the Carver Museum on Friday\, February 13\, from 6:30PM-9:00PM for the 2026 That’s My Face: Black Love Day film screening! This year we’ll be screening\, “Sylvie’s Love”\, a 2020 American romantic drama about Sylvie\, a young woman from a well-to-do family\, who has a summer romance with a jazz saxophonist named Robert in 1950s Harlem. Written\, directed and produced by Eugene Ashe\, the film stars Tessa Thompson\, Nnamdi Asomugha\, Ryan Michelle Bathe\, Regé-Jean Page\, Aja Naomi King\, and Eva Longoria. \nLight concessions\, refreshments\, a 360- photo booth\, and a 1950s/1960s Harlem-inspired\, best-dressed contest. Free\, and open to the public\, 18+ event. \n“That’s My Face” is a community film series that features works that explore the diversity of Black experiences. Full-length narrative films\, documentaries\, shorts\, and animated works screened during the series explore various social\, political\, and cultural themes.
URL:https://theaustincommon.com/event/thats-my-face-black-love-edition-sylvies-love-at-the-carver/
LOCATION:George Washington Carver Museum and Cultural Center\, 1165 Angelina Street\, Austin\, TX\, 78702\, United States
CATEGORIES:Film-Screening
ATTACH;FMTTYPE=image/png:https://theaustincommon.com/wp-content/uploads/2026/01/Thats-My-Face.png
GEO:30.2700214;-97.7238625
X-APPLE-STRUCTURED-LOCATION;VALUE=URI;X-ADDRESS=George Washington Carver Museum and Cultural Center 1165 Angelina Street Austin TX 78702 United States;X-APPLE-RADIUS=500;X-TITLE=1165 Angelina Street:geo:-97.7238625,30.2700214
END:VEVENT
BEGIN:VEVENT
DTSTART;TZID=America/Chicago:20260214T083000
DTEND;TZID=America/Chicago:20260214T190000
DTSTAMP:20260419T085131
CREATED:20260212T190837Z
LAST-MODIFIED:20260212T190837Z
UID:55517-1771057800-1771095600@theaustincommon.com
SUMMARY:Musicking Communities And Labor: Day One
DESCRIPTION:Presented in collaboration with the University of Texas College of Fine Arts and Prosper XO\, with Professor Sonia Seeman (Butler School of Music\, UT Austin) serving as Lead Curator\, this two-day symposium examines the realities of musical labor in the contemporary “gig economy” and the structural conditions shaping the lives of working musicians today. \nThis symposium brings together academic research and lived experience to deepen that dialogue. Academic panels and paper presentations will take place on Saturday\, February 14\, followed by community-centered sessions on Sunday\, February 15\, featuring musicians\, organizers\, and activists. Participatory musical offerings will be interwoven throughout the program\, reinforcing music’s role as both cultural expression and labor. \nYou can look through the full schedule here.
URL:https://theaustincommon.com/event/musicking-communities-and-labor-day-one/
LOCATION:Butler School Of Music\, 2406 Robert Dedman Dr.\, Austin\, TX\, 78712\, United States
CATEGORIES:Lecture/Guest Speaker,Music,Networking
ATTACH;FMTTYPE=image/png:https://s3.us-east-2.amazonaws.com/media.theaustincommon.com/wp-content/uploads/2026/02/12130738/Musicking-Symposium-scaled.png
END:VEVENT
BEGIN:VEVENT
DTSTART;TZID=America/Chicago:20260214T100000
DTEND;TZID=America/Chicago:20260214T130000
DTSTAMP:20260419T085131
CREATED:20260205T002659Z
LAST-MODIFIED:20260205T002659Z
UID:55484-1771063200-1771074000@theaustincommon.com
SUMMARY:Shoreline Stewardship: Rain Garden Planting at Auditorium Shores
DESCRIPTION:The Trail Conservancy continues to improve floodplain health by installing and maintaining green stormwater infrastructure (rain gardens) along the Trail. These structures reduce the impact of heavy storm flows and improve water infiltration. \nVolunteers will learn about rain gardens\, their importance to our Trail\, and how to plant and maintain them. TTC will provide materials\, gloves\, and extra water for volunteers. You can sign up to volunteer here. \nEvent Details:  \n\nMeeting Location: Auditorium Shores – Please look for an orange TTC tent or sail flag.\nParking Information: Free parking and street parking are available at the Auditorium Shores parking lot and along Riverside Drive.\nWhat to bring and wear: Wear closed-toed shoes\, long pants\, and sun protection (sunglasses and a hat). Bring a filled water bottle. TTC will provide gloves and tools for the event. 
URL:https://theaustincommon.com/event/shoreline-stewardship-rain-garden-planting-at-auditorium-shores/
LOCATION:Auditorium Shores\, 900 W. Riverside Drive\, Austin\, TX\, 78704\, United States
CATEGORIES:Outdoor/Fitness,Volunteer
ATTACH;FMTTYPE=image/jpeg:https://s3.us-east-2.amazonaws.com/media.theaustincommon.com/wp-content/uploads/2026/02/04182627/Shoreline-Stewardship.jpg
ORGANIZER;CN="The Trail Conservancy":MAILTO:events@thetrailconservancy.org
GEO:30.2642165;-97.7559409
X-APPLE-STRUCTURED-LOCATION;VALUE=URI;X-ADDRESS=Auditorium Shores 900 W. Riverside Drive Austin TX 78704 United States;X-APPLE-RADIUS=500;X-TITLE=900 W. Riverside Drive:geo:-97.7559409,30.2642165
END:VEVENT
BEGIN:VEVENT
DTSTART;TZID=America/Chicago:20260214T100000
DTEND;TZID=America/Chicago:20260214T150000
DTSTAMP:20260419T085131
CREATED:20260212T184814Z
LAST-MODIFIED:20260212T184934Z
UID:55511-1771063200-1771081200@theaustincommon.com
SUMMARY:Valentine's Day Book Sale
DESCRIPTION:Join Austin Used Book Collective on Saturday\, February 14th for our first used book sale of the year!This sale will be held at the Cherrywood Hall\, inside the @ thecherrywoodcenter Browse curated collections from each bookstore:\n \nBooks ‘n’ Less (@ pinkracehorse & @ randrenfrow)@ book_season_@ idlehandsbooks@ raregermanbooks@ sleeper_books@ timebeingbooks\n\n \n& we are so excited to have these wonderful guest vendors!!!:\nCoffee: @ lamore.ilyCake: @ flourgartenValentines & art: @ clare_timeComics: @ radcomicsatx\n \nWe can’t wait to see you!
URL:https://theaustincommon.com/event/valentines-day-book-sale/
LOCATION:Cherrywood Center\, 1605 38 1/2 Street\, Austin\, TX\, 78722\, United States
CATEGORIES:Party With a Purpose
ATTACH;FMTTYPE=image/jpeg:https://s3.us-east-2.amazonaws.com/media.theaustincommon.com/wp-content/uploads/2026/02/12124736/Valentines-Book-Sale.jpg
END:VEVENT
BEGIN:VEVENT
DTSTART;TZID=America/Chicago:20260214T110000
DTEND;TZID=America/Chicago:20260214T130000
DTSTAMP:20260419T085131
CREATED:20260212T203624Z
LAST-MODIFIED:20260212T203718Z
UID:55534-1771066800-1771074000@theaustincommon.com
SUMMARY:NeighborWoods Tree Adoption
DESCRIPTION:Adopt a tree this Valentine’s Day and let love grow!\n\n\n \n\nOn February 14\, TreeFolks is sharing the love with free tree adoptions. These trees will grow alongside you\, offering shade\, cleaner air\, and beauty for decades to come. It’s a gift to your home\, your neighborhood\, and Central Texas. Because the best relationships are rooted in care.\n\n\n \nTrees are available on a first-come\, first-served basis. Limit 2 per household (maximum 1 fruit or small-stature tree). Please consult Right Tree\, Right Place guidelines to ensure you have space to plant.
URL:https://theaustincommon.com/event/neighborwoods-tree-adoption-23/
LOCATION:Dove Springs Recreation Center\, 5801 Ainez Drive\, Austin\, TX\, United States
CATEGORIES:Outdoor/Fitness
ATTACH;FMTTYPE=image/jpeg:https://s3.us-east-2.amazonaws.com/media.theaustincommon.com/wp-content/uploads/2025/01/14141431/Tree-Adoption-.jpg
GEO:30.187861;-97.739403
X-APPLE-STRUCTURED-LOCATION;VALUE=URI;X-ADDRESS=Dove Springs Recreation Center 5801 Ainez Drive Austin TX United States;X-APPLE-RADIUS=500;X-TITLE=5801 Ainez Drive:geo:-97.739403,30.187861
END:VEVENT
BEGIN:VEVENT
DTSTART;TZID=America/Chicago:20260214T113000
DTEND;TZID=America/Chicago:20260214T133000
DTSTAMP:20260419T085131
CREATED:20260205T005108Z
LAST-MODIFIED:20260205T005124Z
UID:55495-1771068600-1771075800@theaustincommon.com
SUMMARY:Celebrating the Carver Branch Library’s History & Stories!
DESCRIPTION:Sweeten up your 2026 Valentine’s Day by listening to and celebrating stories about one of Austin’s most beloved community spaces\, the Carver Branch Library ! \nJoin us for a community panel featuring former Carver Library Branch staff as they share about the history of Austin Public Library’s first branch\, the surrounding neighborhood\, and their favorite memories providing programs and and resources to East Austin communities. \nCome learn something new and enjoy fellowship\, community\, and tasty brunch bites courtesy of Lucille’s Catering.
URL:https://theaustincommon.com/event/celebrating-the-carver-branch-librarys-history-stories/
LOCATION:Carver Branch\, Austin Public Library\, 1161 Angelina Street\, Austin\, TX\, 78702\, United States
CATEGORIES:Party With a Purpose
ATTACH;FMTTYPE=image/jpeg:https://s3.us-east-2.amazonaws.com/media.theaustincommon.com/wp-content/uploads/2026/02/04185043/Celebrating-The-Carver.jpg
END:VEVENT
BEGIN:VEVENT
DTSTART;TZID=America/Chicago:20260214T140000
DTEND;TZID=America/Chicago:20260214T180000
DTSTAMP:20260419T085131
CREATED:20260212T184055Z
LAST-MODIFIED:20260212T184225Z
UID:55508-1771077600-1771092000@theaustincommon.com
SUMMARY:Dog Party
DESCRIPTION:Come hang with adoptable pups from Austin Pets Alive while we celebrate the Dog IPA release!\n⁣\nFeb 14 | 2–6 PM⁣\n⁣\nWhat’s happening:⁣\nDog IPA beer release: on draft + in cans⁣\nPup photo ops⁣\nDog vendor market⁣\nPupcake decorating & “Paint Your Pet” class⁣\nDrink specials + pup cups⁣\nLive DJ⁣\nLimited St Elmo Dog IPA merch⁣\nChewy Vet Care will be taking care of customers’ first drink — up to $300 🙂\nPlus free treats for the dogs from Tomlinson’s!⁣\n⁣\nA portion of beer proceeds goes to Austin Pets Alive!
URL:https://theaustincommon.com/event/dog-party/
LOCATION:St. Elmo Brewing Company – Springdale\, 8110 Springdale Road\, Austin\, TX\, 78724\, United States
CATEGORIES:Party With a Purpose
ATTACH;FMTTYPE=image/jpeg:https://s3.us-east-2.amazonaws.com/media.theaustincommon.com/wp-content/uploads/2026/02/12124032/Dog-Party.jpg
END:VEVENT
BEGIN:VEVENT
DTSTART;TZID=America/Chicago:20260215T093000
DTEND;TZID=America/Chicago:20260215T180000
DTSTAMP:20260419T085131
CREATED:20260212T191059Z
LAST-MODIFIED:20260212T191059Z
UID:55520-1771147800-1771178400@theaustincommon.com
SUMMARY:Musicking Communities And Labor: Day Two
DESCRIPTION:Presented in collaboration with the University of Texas College of Fine Arts and Prosper XO\, with Professor Sonia Seeman (Butler School of Music\, UT Austin) serving as Lead Curator\, this two-day symposium examines the realities of musical labor in the contemporary “gig economy” and the structural conditions shaping the lives of working musicians today. \nThis symposium brings together academic research and lived experience to deepen that dialogue. Academic panels and paper presentations will take place on Saturday\, February 14\, followed by community-centered sessions on Sunday\, February 15\, featuring musicians\, organizers\, and activists. Participatory musical offerings will be interwoven throughout the program\, reinforcing music’s role as both cultural expression and labor. \nYou can look through the full schedule here.
URL:https://theaustincommon.com/event/musicking-communities-and-labor-day-two/
LOCATION:Millennium Youth Entertainment Complex\, 1156 Hargrave St\, TX\, 78702\, United States
CATEGORIES:Lecture/Guest Speaker,Music,Networking
ATTACH;FMTTYPE=image/png:https://s3.us-east-2.amazonaws.com/media.theaustincommon.com/wp-content/uploads/2026/02/12130738/Musicking-Symposium-scaled.png
GEO:30.2718341;-97.7109595
END:VEVENT
BEGIN:VEVENT
DTSTART;TZID=America/Chicago:20260215T120000
DTEND;TZID=America/Chicago:20260215T120000
DTSTAMP:20260419T085131
CREATED:20260212T185434Z
LAST-MODIFIED:20260212T185456Z
UID:55514-1771156800-1771156800@theaustincommon.com
SUMMARY:What's On My Ballot? Party
DESCRIPTION:Have you ever looked at your ballot and said “what the hell is this race even about? Who are these people? What is a Railroad Commissioner?” You’re not alone! \nCome join us for a fun and informative PowerPoint party where we walk you through everything you need to know about what is on YOUR primary ballot on March 2nd. Our members will be doing short and fun presentations on different races so that you can make informed decisions about what you’ll be voting on. \nPlus\, there will be food and drinks!
URL:https://theaustincommon.com/event/whats-on-my-ballot-party/
LOCATION:Walter’s Tavern\, 2336 South Congress Avenue\, Austin\, TX\, United States
CATEGORIES:Lecture/Guest Speaker,Networking
ATTACH;FMTTYPE=image/png:https://theaustincommon.com/wp-content/uploads/2026/02/Whats-On-My-Ballot-Party.png
END:VEVENT
END:VCALENDAR