BEGIN:VCALENDAR
VERSION:2.0
PRODID:-//The Austin Common - ECPv6.15.20//NONSGML v1.0//EN
CALSCALE:GREGORIAN
METHOD:PUBLISH
X-WR-CALNAME:The Austin Common
X-ORIGINAL-URL:https://theaustincommon.com
X-WR-CALDESC:Events for The Austin Common
REFRESH-INTERVAL;VALUE=DURATION:PT1H
X-Robots-Tag:noindex
X-PUBLISHED-TTL:PT1H
BEGIN:VTIMEZONE
TZID:America/Chicago
BEGIN:DAYLIGHT
TZOFFSETFROM:-0600
TZOFFSETTO:-0500
TZNAME:CDT
DTSTART:20250309T080000
END:DAYLIGHT
BEGIN:STANDARD
TZOFFSETFROM:-0500
TZOFFSETTO:-0600
TZNAME:CST
DTSTART:20251102T070000
END:STANDARD
BEGIN:DAYLIGHT
TZOFFSETFROM:-0600
TZOFFSETTO:-0500
TZNAME:CDT
DTSTART:20260308T080000
END:DAYLIGHT
BEGIN:STANDARD
TZOFFSETFROM:-0500
TZOFFSETTO:-0600
TZNAME:CST
DTSTART:20261101T070000
END:STANDARD
BEGIN:DAYLIGHT
TZOFFSETFROM:-0600
TZOFFSETTO:-0500
TZNAME:CDT
DTSTART:20270314T080000
END:DAYLIGHT
BEGIN:STANDARD
TZOFFSETFROM:-0500
TZOFFSETTO:-0600
TZNAME:CST
DTSTART:20271107T070000
END:STANDARD
END:VTIMEZONE
BEGIN:VEVENT
DTSTART;TZID=America/Chicago:20260202T190000
DTEND;TZID=America/Chicago:20260202T190000
DTSTAMP:20260421T041149
CREATED:20260202T153042Z
LAST-MODIFIED:20260202T153126Z
UID:55443-1770058800-1770058800@theaustincommon.com
SUMMARY:Community Conversation With Candidates For Justice Of The Peace
DESCRIPTION:The MLK Neighborhood Association invites you in person or online for a community conversation with candidates for Travis County Justice Of The Peace\, Precinct 1. The candidates (for the March Democratic primary) are Ciara Parks and Andrew Hairston.
URL:https://theaustincommon.com/event/community-conversation-with-candidates-for-justice-of-the-peace/
LOCATION:3701 E. Martin Luther King Jr. Blvd.\, 3701 E. Martin Luther King Jr. Blvd.\, Austin\, TX\, United States
CATEGORIES:Important City Meeting,Lecture/Guest Speaker
ATTACH;FMTTYPE=image/jpeg:https://s3.us-east-2.amazonaws.com/media.theaustincommon.com/wp-content/uploads/2026/02/02093004/Justice-of-the-Peace-Conversation.jpg
END:VEVENT
BEGIN:VEVENT
DTSTART;TZID=America/Chicago:20260203T183000
DTEND;TZID=America/Chicago:20260203T183000
DTSTAMP:20260421T041149
CREATED:20260129T171255Z
LAST-MODIFIED:20260129T171255Z
UID:55442-1770143400-1770143400@theaustincommon.com
SUMMARY:Sierra Club Meeting: Solidarity With Minneapolis
DESCRIPTION:Please join us for the Sierra Club Climate monthly meeting on Tuesday\, February 3\, as we focus on solidarity with people in Minneapolis who are facing fear\, disruption\, and injustice in their communities. \nSocial injustice is climate injustice. The intersectionality of immigration injustice and climate injustice compounds harm to affected folks. \nImmigration is a climate issue\, as more and more fathers and mothers are fleeing drought-ravaged homes in search of anywhere they might can feed their families.\nProtecting democracy is a climate issue\, because our work—already challenging—becomes vastly more difficult if it is replaced by tyranny.\nAttacks on vulnerable communities\, civil rights\, and democracy undermine the trust and collective action we need to solve the climate crisis. \nAt this meeting\, we will hear directly from people who live at ground zero in Minneapolis\, as well as others who have been on the ground protesting and supporting affected communities. We are honored that Rev. Carrie Holley-Hurt will join us\, along with several Minneapolis residents\, to share what they have witnessed and how we can stand in solidarity. \nEvent details \nTuesday\, February 3\nPotluck begins: 6:30 pm (come even if you can’t bring food)\nProgram begins: 7:00 pm \nLocation:\nFirst Unitarian Universalist Church of Austin\n4700 Grover Ave.\nAustin\, TX \nZoom option: https://us02web.zoom.us/j/5133069449 \nDuring the program\, we will: \n\nHear firsthand perspectives from Minneapolis\nOffer encouragement and solidarity to our guests\nOffer emotional support to one another\nDiscuss what we can do if similar events occur in Austin\nAsk everyone to call their U.S. Senators\nInvite donations to support people who are afraid to leave their homes and need tangible help\n\nThis will be a meaningful evening of connection\, learning\, and action. Please come if you can\, and feel free to invite others who care about justice\, democracy\, and climate.
URL:https://theaustincommon.com/event/sierra-club-meeting-solidarity-with-minneapolis/
LOCATION:First Unitarian Universalist Church of Austin\, 4700 Grover Avenue\, Austin\, TX\, 78759\, United States
CATEGORIES:Lecture/Guest Speaker,Networking
ATTACH;FMTTYPE=image/jpeg:https://s3.us-east-2.amazonaws.com/media.theaustincommon.com/wp-content/uploads/2020/03/16152113/Sierra-Club-Logo.jpg
GEO:30.3175905;-97.738192
X-APPLE-STRUCTURED-LOCATION;VALUE=URI;X-ADDRESS=First Unitarian Universalist Church of Austin 4700 Grover Avenue Austin TX 78759 United States;X-APPLE-RADIUS=500;X-TITLE=4700 Grover Avenue:geo:-97.738192,30.3175905
END:VEVENT
BEGIN:VEVENT
DTSTART;TZID=America/Chicago:20260203T190000
DTEND;TZID=America/Chicago:20260203T210000
DTSTAMP:20260421T041149
CREATED:20260122T170030Z
LAST-MODIFIED:20260122T170030Z
UID:55390-1770145200-1770152400@theaustincommon.com
SUMMARY:Artist Talk: Reuse on the Runway
DESCRIPTION:Join Austin Creative Reuse and participating Reuse On The Runway designers for a behind-the-scenes look at the creativity and sustainability fueling their annual upcycled fashion event. Hear from artists about their design process\, the unconventional materials they use\, and how reuse can inspire innovation in both art and everyday life. \nThis event is free and open to the public. Seating is limited so registration is required. \nLearn more about the Reuse On the Runway exhibit at the Julia C. Butridge Gallery webpage. \nThe City of Austin is committed to compliance with the Americans with Disabilities Act. Reasonable modifications and equal access to communications will be provided upon request. For assistance please contact (512) 974-3917 or Relay Texas 7-1-1.
URL:https://theaustincommon.com/event/artist-talk-reuse-on-the-runway/
LOCATION:Dougherty Arts Center\, 1110 Barton Springs Rd\, Austin\, TX\, 78704\, United States
CATEGORIES:Arts/Crafts,Lecture/Guest Speaker
ATTACH;FMTTYPE=image/jpeg:https://s3.us-east-2.amazonaws.com/media.theaustincommon.com/wp-content/uploads/2026/01/22105954/Reuse-On-The-Runway.jpg
END:VEVENT
BEGIN:VEVENT
DTSTART;TZID=America/Chicago:20260204T173000
DTEND;TZID=America/Chicago:20260204T190000
DTSTAMP:20260421T041149
CREATED:20260128T214502Z
LAST-MODIFIED:20260128T214535Z
UID:55431-1770226200-1770231600@theaustincommon.com
SUMMARY:Green Space & Climate Change Policy Candidate Forum
DESCRIPTION:Travis County commissioners (for precincts 2 and 4) and the Travis County Judge are up for reelection. Go check out at @weareevergreenaustin ‘s Instagram post that explains their roles and why you should care about voting!\n \nWe will have the candidates in a panel at the front of the room\, where EverGreen will ask them several policy-oriented questions about environmental issues impacting residents today.\n\n \nThe primaries are in March\, so it is important to learn about which candidate’s ideas you support!
URL:https://theaustincommon.com/event/green-space-climate-change-policy-candidate-forum-2/
LOCATION:St. James Episcopal Church\, 1941 Webberville Road\, Austin\, TX\, 78721\, United States
CATEGORIES:Important City Meeting,Lecture/Guest Speaker
ATTACH;FMTTYPE=image/png:https://s3.us-east-2.amazonaws.com/media.theaustincommon.com/wp-content/uploads/2026/01/28154341/EverGreen-Austin-Forum.png
END:VEVENT
BEGIN:VEVENT
DTSTART;TZID=America/Chicago:20260204T180000
DTEND;TZID=America/Chicago:20260204T200000
DTSTAMP:20260421T041149
CREATED:20260115T003937Z
LAST-MODIFIED:20260115T003937Z
UID:55364-1770228000-1770235200@theaustincommon.com
SUMMARY:Your Voice\, Your City
DESCRIPTION:We’re coming together for a night of community\, food\, and conversation… and you’re invited! Join us as we highlight upcoming projects\, connect you to community resources\, and open the floor for your questions and feedback. You’ll also receive a copy of our new 2025 Annual Report – packed with progress\, priorities\, and more. We’re excited to see you there! \n  \nWednesday\, February 4th \nDoors & Food\, 6 PM | Presentation and Q&A\, 6:30 – 8 PM \nDove Springs Rec Center\, 5801 Ainez Drive \nDinner\, drinks\, and interpretation services provided \n  \nRSVP to let us know you’re coming and help us order the right amount of food. \n\nNot sure which City Council district you live in? You can look it up here.
URL:https://theaustincommon.com/event/your-voice-your-city/
LOCATION:Dove Springs Recreation Center\, 5801 Ainez Drive\, Austin\, TX\, United States
CATEGORIES:Important City Meeting
ATTACH;FMTTYPE=image/jpeg:https://s3.us-east-2.amazonaws.com/media.theaustincommon.com/wp-content/uploads/2026/01/14183819/Your-Voice-Your-City-.jpg
GEO:30.187861;-97.739403
X-APPLE-STRUCTURED-LOCATION;VALUE=URI;X-ADDRESS=Dove Springs Recreation Center 5801 Ainez Drive Austin TX United States;X-APPLE-RADIUS=500;X-TITLE=5801 Ainez Drive:geo:-97.739403,30.187861
END:VEVENT
BEGIN:VEVENT
DTSTART;TZID=America/Chicago:20260205T180000
DTEND;TZID=America/Chicago:20260205T193000
DTSTAMP:20260421T041149
CREATED:20260122T165513Z
LAST-MODIFIED:20260128T230223Z
UID:55388-1770314400-1770319800@theaustincommon.com
SUMMARY:Community Conversation with APD Chief Davis
DESCRIPTION:*Please note – because of the weather\, this event was postponed from Jan. 27th to Feb. 5th* \nJoin APD Police Chief Lisa Davis\, Mayor Pro Tem Chito Vela\, Councilwoman Vanessa Fuentes and Councilman José Velásquez for a conversation on Austin Police Department’s policies that impact our immigrant community. \n\nDoors & food at 6:00 p.m. | Presentation and Q&A 6:30-7:30 p.m. \nGovalle Elementary Cafeteria\, 3601 Govalle Ave \n️ Spanish interpretation services will be provided \nIf you would like to join virtually\, a Zoom link will be provided upon RSVP \nIf you have questions\, please contact the District 2\, District 3\, or District 4 office at District2@austintexas.gov\, District3@austintexas.gov\, or District4@austintexas.gov.
URL:https://theaustincommon.com/event/community-conversation-with-apd-chief-davis/
LOCATION:Govalle Elementary School\, 3601 Govalle Ave\, Austin\, 78702\, United States
CATEGORIES:Important City Meeting
ATTACH;FMTTYPE=image/png:https://theaustincommon.com/wp-content/uploads/2026/01/Community-Conversation-New-Date-scaled.png
END:VEVENT
BEGIN:VEVENT
DTSTART;TZID=America/Chicago:20260205T183000
DTEND;TZID=America/Chicago:20260205T200000
DTSTAMP:20260421T041149
CREATED:20260122T171306Z
LAST-MODIFIED:20260122T171306Z
UID:55395-1770316200-1770321600@theaustincommon.com
SUMMARY:Create & Heal: The Art Of Gospel
DESCRIPTION:Celebrate Black History Month at the Carver with a special gospel performance!\nJoin us at the Carver Museum on Thursday\, February 5\, from 6:30-8:00 PM\, for Create & Heal: The Art of Gospel – a special night of traditional gospel songs and hymns performed by the Huston-Tillotson University Gospel Choir. Concert begins at 7:00\, first come\, first serve seating. Light refreshments will be served prior to the show. \nGospel music emerged from the spirituals sung by enslaved Africans\, offering not only praise but a medium to express hope and endurance amid oppression. It continues to serve as a vehicle for emotional release and spiritual renewal\, whether in church choirs or public protests. You can RSVP here.
URL:https://theaustincommon.com/event/create-heal-the-art-of-gospel/
LOCATION:George Washington Carver Museum and Cultural Center\, 1165 Angelina Street\, Austin\, TX\, 78702\, United States
CATEGORIES:Music
ATTACH;FMTTYPE=image/jpeg:https://s3.us-east-2.amazonaws.com/media.theaustincommon.com/wp-content/uploads/2026/01/22111219/the-Art-Of-Gospel.jpg
GEO:30.2700214;-97.7238625
X-APPLE-STRUCTURED-LOCATION;VALUE=URI;X-ADDRESS=George Washington Carver Museum and Cultural Center 1165 Angelina Street Austin TX 78702 United States;X-APPLE-RADIUS=500;X-TITLE=1165 Angelina Street:geo:-97.7238625,30.2700214
END:VEVENT
BEGIN:VEVENT
DTSTART;TZID=America/Chicago:20260205T190000
DTEND;TZID=America/Chicago:20260205T210000
DTSTAMP:20260421T041149
CREATED:20260122T170622Z
LAST-MODIFIED:20260122T170622Z
UID:55393-1770318000-1770325200@theaustincommon.com
SUMMARY:AARC: An Evening With Tones
DESCRIPTION:You’re invited to spend An Evening with Tones at the Asian American Resource Center on Thursday\, February 5 from 7 to 9pm! This event is a cozy and casual night of original music and poetry and will feature a reading by Phoebe Murphy\, musical performances by guest rooms and Albeit the Maze\, plus a short Q&A with the evening’s creatives. \nAn Evening with Tones will showcase Austin-based AAPI creatives in a small\, intimate environment (similar to a listening room)\, putting the spotlight on their talent and ability to share worlds through their art. Through this experience\, we hope that attendees and featured creatives can exchange dialogue\, feedback\, appreciation\, and ideas in a candid\, sincere\, and supportive way. \nArtist Bios: \nPhoebe Murphy is a Chinese-American writer of literary and speculative fiction. Born in China and raised in Houston\, Texas\, she is an MFA candidate at Texas State University. Her work has been featured in Nocturne Magazine and Chthonic Matter\, and she is currently at work on a novel. \nAs guest rooms\, Persian-Texan Mason Parva explores the possibility of paradox. Classic songcraft coexists with ambient textures and field recordings to create a sound that is at once intimate and vast\, reverent and irreverent\, familiar and otherworldly. Lyrically\, Parva explores themes of love\, creation\, myth\, truth\, and ultimate reality. Each song is a quiet portal into the self\, inviting one to look directly at their parts that contradict yet harmonize. \nAlbeit the Maze\, also known as June Nguyen\, is a transfeminine Vietnamese American singer-songwriter based in Austin\, Texas. Pulling from musical inspirations such as Radiohead\, Fleet Foxes\, St. Vincent\, and The National\, June writes acoustic-forward songs that aim to impart a sense of longing. Her debut release\, Victim of a Threat EP\, explores topics such as masculinity\, loneliness\, repression\, and abandonment through the lens of a trans woman born and raised in Texas by Catholic immigrant parents. \nThis event is free\, all ages\, and open to the public. Light snax will be provided. Registration is encouraged. RSVP | An Evening with Tones
URL:https://theaustincommon.com/event/aarc-an-evening-with-tones/
LOCATION:Asian American Resource Center\, 8401 Cameron Road\, Austin\, TX\, United States
CATEGORIES:Music
ATTACH;FMTTYPE=image/jpeg:https://s3.us-east-2.amazonaws.com/media.theaustincommon.com/wp-content/uploads/2026/01/22110546/An-Evening-With-Tones.jpg
GEO:30.3398643;-97.6810145
X-APPLE-STRUCTURED-LOCATION;VALUE=URI;X-ADDRESS=Asian American Resource Center 8401 Cameron Road Austin TX United States;X-APPLE-RADIUS=500;X-TITLE=8401 Cameron Road:geo:-97.6810145,30.3398643
END:VEVENT
BEGIN:VEVENT
DTSTART;TZID=America/Chicago:20260206T093000
DTEND;TZID=America/Chicago:20260206T093000
DTSTAMP:20260421T041149
CREATED:20260205T001147Z
LAST-MODIFIED:20260205T235108Z
UID:55479-1770370200-1770370200@theaustincommon.com
SUMMARY:Ribbon-Cutting Ceremony: Roy G. Guerrero Park Channel Stabilization Project
DESCRIPTION:Austin is celebrating a major milestone!\n\n\n\n Join us for a ribbon-cutting ceremony celebrating the completion of Austin’s largest erosion control project in our city’s history. The Roy G. Guerrero Park Channel Stabilization project restores creek stability\, protects homes and infrastructure\, & enhances wildlife habitat.\n\n\n\n Come see the new flood‑resilient pedestrian bridge\, learn about the innovative engineering behind the project\, & celebrate this award‑winning achievement.\n\n\n\n Friday\, February 6\n 9:30 a.m.\n Roy G. Guerrero Colorado River Metropolitan Park at the new pedestrian bridge at Krieg Fields\, 515 S. Pleasant Valley Road\n\n\nPlease note: This is an outdoor event. You can also watch the live stream at ATXN 2 at www.austintexas.gov/watch-atxn-live.
URL:https://theaustincommon.com/event/ribbon-cutting-ceremony-roy-g-guerrero-park-channel-stabilization-project/
LOCATION:Roy G. Guerrero Colorado River Metropolitan Park\, 400 Grove Blvd.\, Austin\, TX 78741\, Austin\, TN\, 78741\, United States
CATEGORIES:Outdoor/Fitness
ATTACH;FMTTYPE=image/jpeg:https://s3.us-east-2.amazonaws.com/media.theaustincommon.com/wp-content/uploads/2026/02/04181121/Roy-G-Bridge.jpg
GEO:30.2435251;-97.7013731
X-APPLE-STRUCTURED-LOCATION;VALUE=URI;X-ADDRESS=Roy G. Guerrero Colorado River Metropolitan Park 400 Grove Blvd. Austin TX 78741 Austin TN 78741 United States;X-APPLE-RADIUS=500;X-TITLE=400 Grove Blvd.\, Austin\, TX 78741:geo:-97.7013731,30.2435251
END:VEVENT
BEGIN:VEVENT
DTSTART;TZID=America/Chicago:20260206T180000
DTEND;TZID=America/Chicago:20260206T200000
DTSTAMP:20260421T041149
CREATED:20260204T214742Z
LAST-MODIFIED:20260204T214742Z
UID:55477-1770400800-1770408000@theaustincommon.com
SUMMARY:Gallery Of Heroes
DESCRIPTION:Join us at City Hall for the Gallery of Heroes\, a special Black History celebration featuring an evening program\, youth art exhibition\, and reception. The gallery will showcase artwork from Lee Lewis Campbell Elementary and Blackshear Elementary\, highlighting the creativity and voices of our young scholars. \nThe evening program will include remarks from me\, a speech from an MLK Oratory participant\, performances by LL Campbell’s cheer team\, step squad\, and dance team\, and live music from the Texas Empowerment Band. \nCome celebrate Black History\, creativity\, and community excellence\, and show your support for our talented youth! \n* The Gallery of Heroes exhibition will be on display at City Hall from February 2–13\, during regular business hours\, Monday–Friday\, from 8:00 a.m.–5:00 p.m.
URL:https://theaustincommon.com/event/gallery-of-heroes/
LOCATION:Austin City Hall\, 301 W. 2nd St. \, Austin\, TX\, 78701\, United States
CATEGORIES:Arts/Crafts
ATTACH;FMTTYPE=image/png:https://s3.us-east-2.amazonaws.com/media.theaustincommon.com/wp-content/uploads/2026/02/04154643/Gallery-Of-Heroes.png
GEO:30.2648963;-97.747196
X-APPLE-STRUCTURED-LOCATION;VALUE=URI;X-ADDRESS=Austin City Hall 301 W. 2nd St.  Austin TX 78701 United States;X-APPLE-RADIUS=500;X-TITLE=301 W. 2nd St.:geo:-97.747196,30.2648963
END:VEVENT
BEGIN:VEVENT
DTSTART;TZID=America/Chicago:20260207T100000
DTEND;TZID=America/Chicago:20260207T123000
DTSTAMP:20260421T041149
CREATED:20260128T213302Z
LAST-MODIFIED:20260128T213302Z
UID:55426-1770458400-1770467400@theaustincommon.com
SUMMARY:Wishbone Bridge & Unity Underpass Ribbon Cutting Celebration
DESCRIPTION:Join a community celebration marking the official opening of the Wishbone Bridge and Unity Underpass\, a major milestone for the Ann and Roy Butler Hike and Bike Trail on Saturday\, February 7. \nThe event begins at 10 a.m. with remarks from elected officials and City of Austin staff\, followed by a community gathering at 11 a.m. for Austinites to explore the new bridge\, underpass\, and trail connections. \nFunded by the 2020 Mobility Bond and shaped by community input\, the wishbone-shaped bridge fills a long-standing gap in the Butler Trail and provides a safe\, scenic route on the east side of the lake. The project also features the Unity Underpass\, which includes public art by Reginald Adams\, created with contributions from more than 200 community members. \nTogether\, these new additions enhance mobility\, safety\, and access to nature while celebrating Austin’s commitment to active transportation and vibrant public spaces. \nAll are welcome to attend\, explore\, and be part of this exciting new chapter for our city. \nThere are three entrances to the Wishbone Bridge: \n\nSouth of Longhorn Dam (entrance to the Unity Underpass)\nNorth of Longhorn Dam at the end of Canterbury St.\nNorth of the Longhorn Dam at the end of the old Holly peninsula\n\nParking is available at Krieg Field.
URL:https://theaustincommon.com/event/wishbone-bridge-unity-underpass-ribbon-cutting-celebration/
LOCATION:Krieg Field\, 515 S Pleasant Valley Rd\, Austin\, TX\, United States
CATEGORIES:Outdoor/Fitness,Party With a Purpose
ATTACH;FMTTYPE=image/jpeg:https://s3.us-east-2.amazonaws.com/media.theaustincommon.com/wp-content/uploads/2026/01/28153134/Wishbone-Bridge-Opening.jpg
ORGANIZER;CN="The Trail Conservancy":MAILTO:events@thetrailconservancy.org
END:VEVENT
BEGIN:VEVENT
DTSTART;TZID=America/Chicago:20260207T110000
DTEND;TZID=America/Chicago:20260207T123000
DTSTAMP:20260421T041149
CREATED:20260115T005229Z
LAST-MODIFIED:20260115T005229Z
UID:55368-1770462000-1770467400@theaustincommon.com
SUMMARY:Sustainable Bus Tour: Music On The Metro
DESCRIPTION:Dear Community\, Join us! \n​We are bringing back our sustainable public transit tours in ATX (first of the year!)\, but this time with a twist. Instead of a tour\, we will have a musical experience by our co-hosts\, Beitna – Austin’s home for SWANA arts & culture. \nDuring our journey on the red line\, we will be welcomed with music by Reema Barakat and Danny Kodeih. They will be playing Arabic classics with oud and percussion. \n​Meet at Plaza Saltillo Station for some quick conversations\, and then from there we will be hopping on the red metro line for a 21-minute ride up north to the McKalla Station (Q2 Stadium)before heading back down with music along the entire ride inside the train. You can RSVP here. \n​CapMetro digital metro passes will be sent via email/text before the event. \n​We will have free drip coffee provided at the beginning of the event\, thanks to Texas Coffee Traders Cafe!  \n​SCHEDULE: \n​— 11:00 AM Event starts @ Plaza Saltillo Station for conversations free street parking nearby) \n​— 11:38 AM The Red Line Metro arrives\, and the tour gets on the train to go north \n​— 12:00 PM Arrive at Q2 Station McKalla Station\, and go to the other side of the platform \n​— 12:05 PM Get on the southbound Red Line Metro to go back to the beginning of the tour \n​— 12:27 PM Arrive back at Plaza Saltillo Station\, event ends \n​Joon Community is a not-for-profit organization with 501(c)(3) status. All donations are tax-deductible. \n​To request an accommodation or for inquiries about accessibility\, please contact hello@jooncommunity.org at least 7 days prior to the event. Please reach out if you have any questions! Thank you!
URL:https://theaustincommon.com/event/sustainable-bus-tour-music-on-the-metro/
LOCATION:Plaza Saltillo\, 1501 E 5th St.\, Austin\, TX\, 78702\, United States
CATEGORIES:Music,Party With a Purpose
ATTACH;FMTTYPE=image/png:https://s3.us-east-2.amazonaws.com/media.theaustincommon.com/wp-content/uploads/2026/01/14185131/Sustainable-Bus-Tour.png
END:VEVENT
BEGIN:VEVENT
DTSTART;TZID=America/Chicago:20260207T110000
DTEND;TZID=America/Chicago:20260207T150000
DTSTAMP:20260421T041149
CREATED:20260122T172432Z
LAST-MODIFIED:20260122T172432Z
UID:55399-1770462000-1770476400@theaustincommon.com
SUMMARY:AARC: Exhibit Art Day
DESCRIPTION:Join us at the AARC on Saturday\, February 7 for Exhibit Art Day featuring artist talks\, guided tours\, and demonstrations from exhibiting artists Sandeep Chandran\, Sun-Jue Shin\, and Allen Zewen Yu! \nBoth events are free and open to the public. Light refreshments will be provided. Learn more and RSVP for each session on the AARC Eventbrite. \nAncestral Visions: Artist Talk and Guided Tour with Sandeep Chandran\n11am to 12pm \nSandeep Chandran will lead attendees on a guided tour and artist talk on his ongoing exhibition\, Ancestral Visions\, at the AARC. “In my talk\, I will walk you through the journey of my artwork inAncestral Visions. The artwork here falls under two categories – Bhagavathi and Ramayana. Both of these have a unique story on how they came together\, what inspired me to create them\, and the meaning they hold for me.” \nNerokomi and the Story of Flowers: Artist Talk and Live-Clay Demonstration\n1 to 3pm \nArtists Sun-Jue Shin and Allen Zewen Yu will host a loosely structured artist talk exploring the inspiration and the rich cultural background of their ongoing exhibition\, Diaspora Offering\, at the AARC. They will discuss their spring 2025 research trip to Japan and Korea\, which informed the conceptual and cultural foundations of the work\, with a focus on nerikomi: a ceramic technique that uses layered colored clay to create intricate patterns. \nThe talk will be followed by a live demonstration of nerikomi pattern-making and the creation process behind the colorful porcelain flowers featured in the exhibition and will conclude with a Q&A session.
URL:https://theaustincommon.com/event/aarc-exhibit-art-day/
LOCATION:Asian American Resource Center\, 8401 Cameron Road\, Austin\, TX\, United States
CATEGORIES:Arts/Crafts
ATTACH;FMTTYPE=image/png:https://s3.us-east-2.amazonaws.com/media.theaustincommon.com/wp-content/uploads/2026/01/22112358/Story-Of-Flowers.png
GEO:30.3398643;-97.6810145
X-APPLE-STRUCTURED-LOCATION;VALUE=URI;X-ADDRESS=Asian American Resource Center 8401 Cameron Road Austin TX United States;X-APPLE-RADIUS=500;X-TITLE=8401 Cameron Road:geo:-97.6810145,30.3398643
END:VEVENT
BEGIN:VEVENT
DTSTART;TZID=America/Chicago:20260207T120000
DTEND;TZID=America/Chicago:20260207T180000
DTSTAMP:20260421T041149
CREATED:20260122T171848Z
LAST-MODIFIED:20260122T171906Z
UID:55397-1770465600-1770487200@theaustincommon.com
SUMMARY:Black History Month Kick-Off at the Carver!
DESCRIPTION:Carver Museum ATX honors Black History Month 2026: “A Century of Black History Commemorations”.\n\n\n\nJoin us on Saturday\, February 7\, 2026 from 12:00 pm-6:00 pm for the Solar Saturday: Black History Month Kick-Off Block Party! In partnership with PNC\, The Carver is celebrating the Black History Month Centennial with an action-packed kick off! As a full-site activation\, we will open the festivities with a proclamation in front of the museum on the plaza\, Black Makers Market will be in the rotunda behind the museum\, we’ll have have fun events in the conference room\, the classroom\, the dance studio\, the theatre\, and the drum\, vinyl records on long play will fill the halls\, and the new gallery exhibition will be open! Light snacks and refreshments will be served\, along with interactive arts and crafts programming to engage the brain. Free and open to all. \n\n12:00 – 5:00 pm – Black Makers Market Vendor Market\n12-00 – 6:00 pm – Exhibition opening: Steven Bernard Jones: Who Draws the Maps?\n1:00 – 2:00 pm – Black History Month Centennial Commemoration\n2:00 – 3:30 pm – African Foodways Panel\n2:00 – 5:30 pm – Hands-on Art for All\n2:00 – 5:30 pm – Dance Classes\n2:30-4:30 pm – Financial Literacy Workshops\n3:30 – 5:00 pm – A Centennial of Black Queer History Performance\n5:30 – 6:00 pm – Musical Performance by Anastasia
URL:https://theaustincommon.com/event/black-history-month-kick-off-at-the-carver/
LOCATION:George Washington Carver Museum and Cultural Center\, 1165 Angelina Street\, Austin\, TX\, 78702\, United States
CATEGORIES:Party With a Purpose
ATTACH;FMTTYPE=image/png:https://theaustincommon.com/wp-content/uploads/2026/01/Solar-Saturday.png
GEO:30.2700214;-97.7238625
X-APPLE-STRUCTURED-LOCATION;VALUE=URI;X-ADDRESS=George Washington Carver Museum and Cultural Center 1165 Angelina Street Austin TX 78702 United States;X-APPLE-RADIUS=500;X-TITLE=1165 Angelina Street:geo:-97.7238625,30.2700214
END:VEVENT
END:VCALENDAR