BEGIN:VCALENDAR
VERSION:2.0
PRODID:-//The Austin Common - ECPv6.15.20//NONSGML v1.0//EN
CALSCALE:GREGORIAN
METHOD:PUBLISH
X-ORIGINAL-URL:https://theaustincommon.com
X-WR-CALDESC:Events for The Austin Common
REFRESH-INTERVAL;VALUE=DURATION:PT1H
X-Robots-Tag:noindex
X-PUBLISHED-TTL:PT1H
BEGIN:VTIMEZONE
TZID:America/Chicago
BEGIN:DAYLIGHT
TZOFFSETFROM:-0600
TZOFFSETTO:-0500
TZNAME:CDT
DTSTART:20250309T080000
END:DAYLIGHT
BEGIN:STANDARD
TZOFFSETFROM:-0500
TZOFFSETTO:-0600
TZNAME:CST
DTSTART:20251102T070000
END:STANDARD
BEGIN:DAYLIGHT
TZOFFSETFROM:-0600
TZOFFSETTO:-0500
TZNAME:CDT
DTSTART:20260308T080000
END:DAYLIGHT
BEGIN:STANDARD
TZOFFSETFROM:-0500
TZOFFSETTO:-0600
TZNAME:CST
DTSTART:20261101T070000
END:STANDARD
BEGIN:DAYLIGHT
TZOFFSETFROM:-0600
TZOFFSETTO:-0500
TZNAME:CDT
DTSTART:20270314T080000
END:DAYLIGHT
BEGIN:STANDARD
TZOFFSETFROM:-0500
TZOFFSETTO:-0600
TZNAME:CST
DTSTART:20271107T070000
END:STANDARD
END:VTIMEZONE
BEGIN:VEVENT
DTSTART;TZID=America/Chicago:20260126T113000
DTEND;TZID=America/Chicago:20260126T133000
DTSTAMP:20260419T091757
CREATED:20251030T151948Z
LAST-MODIFIED:20251030T151948Z
UID:55085-1769427000-1769434200@theaustincommon.com
SUMMARY:Issues Over Lunch: Infrastructure in Motion
DESCRIPTION:Downtown Austin is entering a pivotal era of economic transformation\, fueled by major infrastructure and mobility investments that will define the city’s growth for generations. This session will offer stakeholders timely insights into transformative projects—including the Austin Convention Center expansion\, Austin-Bergstrom International Airport improvements\, I-35 reconstruction\, and Project Connect—and explore how these developments will shape downtown’s future. \nTogether\, these catalytic investments promise to enhance connectivity\, accessibility\, and quality of life\, while reinforcing Austin’s position as a premier destination for business\, innovation\, and investment. \nYou can get your ticket here.
URL:https://theaustincommon.com/event/issues-over-lunch-infrastructure-in-motion/
LOCATION:Hilton Austin Hotel\, 500 E 4th St\, Austin\, TX 78701\, Austin\, TX\, 78701\, United States
CATEGORIES:Lecture/Guest Speaker,Networking
ATTACH;FMTTYPE=image/jpeg:https://s3.us-east-2.amazonaws.com/media.theaustincommon.com/wp-content/uploads/2025/10/30101849/Infrastructure-In-Motion.jpg
GEO:30.2651646;-97.7380912
X-APPLE-STRUCTURED-LOCATION;VALUE=URI;X-ADDRESS=Hilton Austin Hotel 500 E 4th St Austin TX 78701 Austin TX 78701 United States;X-APPLE-RADIUS=500;X-TITLE=500 E 4th St\, Austin\, TX 78701:geo:-97.7380912,30.2651646
END:VEVENT
BEGIN:VEVENT
DTSTART;TZID=America/Chicago:20260126T173000
DTEND;TZID=America/Chicago:20260126T190000
DTSTAMP:20260419T091757
CREATED:20260115T011012Z
LAST-MODIFIED:20260115T011012Z
UID:55372-1769448600-1769454000@theaustincommon.com
SUMMARY:Raising Travis County Community Town Hall
DESCRIPTION:Raising Travis County is a voter-approved initiative to expand access to affordable\, high-quality child care and out-of-school time programs\, including after-school and summer enrichment for eligible families. Strategic investments are already underway to strengthen local infrastructure\, support providers\, and prepare families for expanded access\, with full rollout beginning in 2026—this is the fastest implementation of any initiative of its kind in the country—and the first of its kind in Texas. \nLearn more about the program and share your thoughts as it’s being implemented and developed at this town hall meeting.
URL:https://theaustincommon.com/event/raising-travis-county-community-town-hall/
LOCATION:Online
CATEGORIES:Important City Meeting
ATTACH;FMTTYPE=image/jpeg:https://s3.us-east-2.amazonaws.com/media.theaustincommon.com/wp-content/uploads/2026/01/14190903/Raising-Travis-County.jpeg
END:VEVENT
BEGIN:VEVENT
DTSTART;TZID=America/Chicago:20260127T180000
DTEND;TZID=America/Chicago:20260127T180000
DTSTAMP:20260419T091757
CREATED:20260107T204708Z
LAST-MODIFIED:20260107T204708Z
UID:55321-1769536800-1769536800@theaustincommon.com
SUMMARY:Public Meeting about Buttermilk Creek Project
DESCRIPTION:Please join us at the Virginia L. Brown Recreation Center to learn more about water quality improvements planned for Buttermilk Creek in northeast Austin. \nWe are planning a project to address poor water quality and erosion. The project aims to restore the creek and enhance wildlife habitat. We’ll be stabilizing the creek banks\, repairing and upgrading wastewater infrastructure\, and removing pollutants from stormwater. \nInterpretation for this meeting can be provided by request. To request interpretation please email Zach Jarjoura or  call 512-460-9579 at least 7 days before the meeting. \n\nVisit the Virginia L. Brown Recreation Center web page\nLearn more about Austin’s water quality projects
URL:https://theaustincommon.com/event/public-meeting-about-buttermilk-creek-project/
LOCATION:Virginia L. Brown Recreation Center\, 7500 Blessing Avenue\, Austin\, TX\, 78752\, United States
CATEGORIES:Important City Meeting
ATTACH;FMTTYPE=image/png:https://s3.us-east-2.amazonaws.com/media.theaustincommon.com/wp-content/uploads/2026/01/07144618/Buttermilk-Creek-Project.png
END:VEVENT
BEGIN:VEVENT
DTSTART;TZID=America/Chicago:20260127T180000
DTEND;TZID=America/Chicago:20260127T180000
DTSTAMP:20260419T091757
CREATED:20260122T180208Z
LAST-MODIFIED:20260122T180208Z
UID:55407-1769536800-1769536800@theaustincommon.com
SUMMARY:Virtual Open House: East Riverside Corridor Planning Initiative
DESCRIPTION:Join the City of Austin for a virtual open house on the East Riverside Corridor Planning Initiative. At this public meeting\, City staff will provide an update on the project\, review the timeline\, and gather your feedback. Spanish interpretation will be provided (Se proporcionará interpretación en español durante el evento de la noche). You can RSVP for the zoom link here. \nThe East Riverside Corridor Master Plan and Regulating Plan\, adopted in 2010 and 2013\, respectively\, regulate land use in the East Riverside area. In the last decade\, the area has experienced significant growth and investment\, and the corridor will be transformed by a light rail line currently being designed as part of Project Connect. In 2024\, Austin City Council passed Resolution 20240201-054\, directing staff to align the East Riverside Corridor Plan with the City’s Equitable Transit-Oriented Development (ETOD) initiative. Updating the plan is necessary to ensure that it works with the new transit line that is coming\, supports equitable outcomes\, and reflects the evolving needs of the community. \nThe purpose of the East Riverside Corridor Planning Initiative\, which includes an update to the Vision Plan and Regulating Plan\, is to guide the growth and redevelopment of the East Riverside Corridor and to ensure that future changes in the corridor benefit everyone who lives\, works\, and plays along the corridor. Our planning efforts focus on equitable\, transit-oriented\, and walkable development\, and support the inclusion of sustainable practices\, diversity\, maintaining a mix of housing options for various income levels\, improving active transportation and transit accessibility\, and encouraging a wide range of amenities for the community to enjoy. This plan update will ensure that the current and future needs of the community are accounted for\, and the City can facilitate public and private investments in the corridor area. \nThis planning initiative will identify important actions that the City\, property owners\, and the community can take to implement the vision for the East Riverside Corridor. The Vision Plan will offer recommendations concerning planning\, zoning\, and development. It will also include equitable strategies for small business and workforce development\, housing affordability\, mobility\, land use and urban design\, and real estate and financing strategies. The Regulating Plan will define development standards and guidelines for connectivity\, urban design\, safety\, and infrastructure improvements.
URL:https://theaustincommon.com/event/virtual-open-house-east-riverside-corridor-planning-initiative/
LOCATION:Online
CATEGORIES:Important City Meeting
ATTACH;FMTTYPE=image/jpeg:https://s3.us-east-2.amazonaws.com/media.theaustincommon.com/wp-content/uploads/2026/01/22120118/East-Riverside-Corridor-Planning-.jpg
END:VEVENT
BEGIN:VEVENT
DTSTART;TZID=America/Chicago:20260128T160000
DTEND;TZID=America/Chicago:20260128T190000
DTSTAMP:20260419T091757
CREATED:20260115T012342Z
LAST-MODIFIED:20260115T012342Z
UID:55376-1769616000-1769626800@theaustincommon.com
SUMMARY:AUS Open House: Meet And Greet 7 Local Artists
DESCRIPTION:Meet and greet artists creating permanent work at the Austin Airport. \n\nJoin us along with seven distinct\, local artists whose work will become part of the Airport Expansion and Development Program. This will be an engaging day where attendees can connect with artists and contribute to their inspiration. \nAttendees are welcome to come and go. Light refreshments will be provided.
URL:https://theaustincommon.com/event/aus-open-house-meet-and-greet-7-local-artists/
LOCATION:Carver Branch\, Austin Public Library\, 1161 Angelina Street\, Austin\, TX\, 78702\, United States
CATEGORIES:Arts/Crafts,Important City Meeting
ATTACH;FMTTYPE=image/jpeg:https://s3.us-east-2.amazonaws.com/media.theaustincommon.com/wp-content/uploads/2026/01/14192240/AUS-Open-House.jpg
END:VEVENT
BEGIN:VEVENT
DTSTART;TZID=America/Chicago:20260131T100000
DTEND;TZID=America/Chicago:20260131T120000
DTSTAMP:20260419T091757
CREATED:20260122T190546Z
LAST-MODIFIED:20260129T231555Z
UID:55417-1769853600-1769860800@theaustincommon.com
SUMMARY:Postponed: Onion Creek Metro Park Cleanup
DESCRIPTION:*POSTPONED* Community Creek Cleanup \nDue to predicted freezing temperatures on Saturday\, we’ve decided to postpone this Community Creek Cleanup.  \nKeep an eye out for the future cleanup date! \n———————————— \nJoin CRA for quarterly creek cleanups in Onion Creek Metropolitan Park! We need volunteers of all ages to help remove trash from in and around Onion Creek—an area with significant impact on the Texas Colorado River and our drinking water. \nReserve your spot now to help keep our local freshwater sources healthy and clean for generations to come! \nWhat to Bring: We will provide the tools needed to complete the cleanup\, such as grabbers and trash bags. Please bring a full water bottle\, sun protection\, and any snacks you may like to have on hand. \nWhat to wear: Weather-appropriate clothing and closed-toed shoes are recommended. Long pants\, long socks\, and long-sleeve shirts can protect against poison ivy\, bug bites\, and other common irritants. There are several burs in Onion Creek so we do not recommend wearing pants that have intentional holes\, fringe\, or are made from a soft material such as jogging pants and leggings.
URL:https://theaustincommon.com/event/onion-creek-metro-park-cleanup/
LOCATION:Onion Creek Metropolitan Park\, 6800 Onion Creek Drive\, Austin\, TX\, United States
CATEGORIES:Outdoor/Fitness,Volunteer
ATTACH;FMTTYPE=image/png:https://s3.us-east-2.amazonaws.com/media.theaustincommon.com/wp-content/uploads/2026/01/22130554/Onion-Creek-Cleanup.png
END:VEVENT
BEGIN:VEVENT
DTSTART;TZID=America/Chicago:20260131T100000
DTEND;TZID=America/Chicago:20260131T130000
DTSTAMP:20260419T091758
CREATED:20260115T015429Z
LAST-MODIFIED:20260129T231410Z
UID:55382-1769853600-1769864400@theaustincommon.com
SUMMARY:Ready\, Set\, Plant at St. Edward's University East Woods
DESCRIPTION:RSVP to volunteer here! \nReady\, Set\, Plant! is a volunteer tree-planting program that plants 10\,000 trees each year along Austin’s creeks and rivers. In partnership with the City of Austin and Keep Austin Beautiful\, we educate volunteers on proper tree-planting techniques and riparian restoration. Some benefits of creekside planting include cooler water for aquatic life\, erosion control\, and filtering pollutants from stormwater. Our events are family-friendly and provide an opportunity for community members to connect with Austin’s public lands. \nNo experience or tools are needed. We will train everyone at the beginning of the event\, and provide all tools\, materials\, gloves\, water\, and snacks.
URL:https://theaustincommon.com/event/ready-set-plant-at-st-edwards-university-east-woods/
LOCATION:St. Edward’s University East Woods\, 702 Woodward St\, Austin\, TX\, 78704\, United States
CATEGORIES:Outdoor/Fitness
ATTACH;FMTTYPE=image/png:https://s3.us-east-2.amazonaws.com/media.theaustincommon.com/wp-content/uploads/2025/11/04193859/Ready-Set-Plant-Montopolis.png
END:VEVENT
BEGIN:VEVENT
DTSTART;TZID=America/Chicago:20260131T100000
DTEND;TZID=America/Chicago:20260131T130000
DTSTAMP:20260419T091758
CREATED:20260122T180749Z
LAST-MODIFIED:20260122T180749Z
UID:55409-1769853600-1769864400@theaustincommon.com
SUMMARY:In-Person Open House: East Riverside Corridor Planning Initiative
DESCRIPTION:*Please note that because of the weather\, this event was postponed from Jan. 24th to Jan. 31st*  \nJoin the City of Austin for an in-person open house on the East Riverside Corridor Planning Initiative. At this public meeting\, City staff will provide an update on the project\, review the timeline\, and gather your feedback. Spanish interpretation will be provided (Se proporcionará interpretación en español durante el evento de la noche). \nThe East Riverside Corridor Master Plan and Regulating Plan\, adopted in 2010 and 2013\, respectively\, regulate land use in the East Riverside area. In the last decade\, the area has experienced significant growth and investment\, and the corridor will be transformed by a light rail line currently being designed as part of Project Connect. In 2024\, Austin City Council passed Resolution 20240201-054\, directing staff to align the East Riverside Corridor Plan with the City’s Equitable Transit-Oriented Development (ETOD) initiative. Updating the plan is necessary to ensure that it works with the new transit line that is coming\, supports equitable outcomes\, and reflects the evolving needs of the community. \nThe purpose of the East Riverside Corridor Planning Initiative\, which includes an update to the Vision Plan and Regulating Plan\, is to guide the growth and redevelopment of the East Riverside Corridor and to ensure that future changes in the corridor benefit everyone who lives\, works\, and plays along the corridor. Our planning efforts focus on equitable\, transit-oriented\, and walkable development\, and support the inclusion of sustainable practices\, diversity\, maintaining a mix of housing options for various income levels\, improving active transportation and transit accessibility\, and encouraging a wide range of amenities for the community to enjoy. This plan update will ensure that the current and future needs of the community are accounted for\, and the City can facilitate public and private investments in the corridor area. \nThis planning initiative will identify important actions that the City\, property owners\, and the community can take to implement the vision for the East Riverside Corridor. The Vision Plan will offer recommendations concerning planning\, zoning\, and development. It will also include equitable strategies for small business and workforce development\, housing affordability\, mobility\, land use and urban design\, and real estate and financing strategies. The Regulating Plan will define development standards and guidelines for connectivity\, urban design\, safety\, and infrastructure improvements.
URL:https://theaustincommon.com/event/in-person-open-house-east-riverside-corridor-planning-initiative/
LOCATION:2400 Grove Boulevard\, 2400 Grove Boulevard\, Austin\, TX\, United States
CATEGORIES:Important City Meeting
ATTACH;FMTTYPE=image/jpeg:https://s3.us-east-2.amazonaws.com/media.theaustincommon.com/wp-content/uploads/2026/01/22120118/East-Riverside-Corridor-Planning-.jpg
END:VEVENT
BEGIN:VEVENT
DTSTART;TZID=America/Chicago:20260131T113000
DTEND;TZID=America/Chicago:20260131T140000
DTSTAMP:20260419T091758
CREATED:20251217T214926Z
LAST-MODIFIED:20251217T214926Z
UID:55282-1769859000-1769868000@theaustincommon.com
SUMMARY:January Fix-It Clinic
DESCRIPTION:Fix-It Clinics are free events that help shift our throw-away culture toward repair and reuse. Instead of tossing broken items\, participants bring them to the clinic to work alongside volunteer Fix-It Coaches who share their repair knowledge and help troubleshoot\, disassemble\, and (when possible) fix each item. By repairing what we already have\, we reduce the need for new materials and energy and keep useful items out of landfills.
URL:https://theaustincommon.com/event/january-fix-it-clinic/
LOCATION:South Austin Senior Activity Center\, 3911 Manchaca Rd\, Austin\, TX\, 78704\, United States
CATEGORIES:Class/Skill-Building,Family-Friendly,Volunteer
ATTACH;FMTTYPE=image/jpeg:https://s3.us-east-2.amazonaws.com/media.theaustincommon.com/wp-content/uploads/2025/12/16075749/Eric-and-Carrie-KitchenAid-scaled.jpg
GEO:30.2332545;-97.7845829
X-APPLE-STRUCTURED-LOCATION;VALUE=URI;X-ADDRESS=South Austin Senior Activity Center 3911 Manchaca Rd Austin TX 78704 United States;X-APPLE-RADIUS=500;X-TITLE=3911 Manchaca Rd:geo:-97.7845829,30.2332545
END:VEVENT
BEGIN:VEVENT
DTSTART;TZID=America/Chicago:20260131T120000
DTEND;TZID=America/Chicago:20260131T140000
DTSTAMP:20260419T091758
CREATED:20260122T182252Z
LAST-MODIFIED:20260129T231449Z
UID:55412-1769860800-1769868000@theaustincommon.com
SUMMARY:NeighborWoods Tree Adoption
DESCRIPTION:Join TreeFolks for a Tree Adoption event. Free five-gallon container trees will be distributed through our NeighborWoods program. \nWe will be at the H-E-B Manor (13100 FM973\, Manor\, TX 78653) on Saturday\, January 31st. No pre-registration is required – just come on by! \nTrees are available on a first-come\, first-served basis. Limit 2 per household (maximum 1 fruit or small-stature tree). Please consult Right Tree\, Right Place guidelines to ensure you have space to plant. \nThe TreeFolks NeighborWoods program is a partnership with the City of Austin and Austin Energy.
URL:https://theaustincommon.com/event/neighborwoods-tree-adoption-22/
LOCATION:H-E-B Manor\, 13100 FM973\, Manor\, TX\, 78653\, United States
CATEGORIES:Outdoor/Fitness
ATTACH;FMTTYPE=image/jpeg:https://s3.us-east-2.amazonaws.com/media.theaustincommon.com/wp-content/uploads/2024/09/25165349/Tree-Adoption.jpg
END:VEVENT
END:VCALENDAR