BEGIN:VCALENDAR
VERSION:2.0
PRODID:-//The Austin Common - ECPv6.15.20//NONSGML v1.0//EN
CALSCALE:GREGORIAN
METHOD:PUBLISH
X-ORIGINAL-URL:https://theaustincommon.com
X-WR-CALDESC:Events for The Austin Common
REFRESH-INTERVAL;VALUE=DURATION:PT1H
X-Robots-Tag:noindex
X-PUBLISHED-TTL:PT1H
BEGIN:VTIMEZONE
TZID:America/Chicago
BEGIN:DAYLIGHT
TZOFFSETFROM:-0600
TZOFFSETTO:-0500
TZNAME:CDT
DTSTART:20240310T080000
END:DAYLIGHT
BEGIN:STANDARD
TZOFFSETFROM:-0500
TZOFFSETTO:-0600
TZNAME:CST
DTSTART:20241103T070000
END:STANDARD
BEGIN:DAYLIGHT
TZOFFSETFROM:-0600
TZOFFSETTO:-0500
TZNAME:CDT
DTSTART:20250309T080000
END:DAYLIGHT
BEGIN:STANDARD
TZOFFSETFROM:-0500
TZOFFSETTO:-0600
TZNAME:CST
DTSTART:20251102T070000
END:STANDARD
BEGIN:DAYLIGHT
TZOFFSETFROM:-0600
TZOFFSETTO:-0500
TZNAME:CDT
DTSTART:20260308T080000
END:DAYLIGHT
BEGIN:STANDARD
TZOFFSETFROM:-0500
TZOFFSETTO:-0600
TZNAME:CST
DTSTART:20261101T070000
END:STANDARD
END:VTIMEZONE
BEGIN:VEVENT
DTSTART;TZID=America/Chicago:20250512T183000
DTEND;TZID=America/Chicago:20250512T193000
DTSTAMP:20260425T072740
CREATED:20250501T183442Z
LAST-MODIFIED:20250501T183442Z
UID:53961-1747074600-1747078200@theaustincommon.com
SUMMARY:Mental Health Awareness Month: Guided Meditation
DESCRIPTION:Join us for a guided meditation and mindfulness session of the Trail with ATX Yoga Girl\, Cynthia Bernard. This immersive experience will help you cultivate presence and inner peace\, and inspire you to make life itself a daily meditation. \nYou can RSVP here.
URL:https://theaustincommon.com/event/mental-health-awareness-month-guided-meditation/
LOCATION:Lakeshore Park\, 1800 S Lakeshore Boulevard\, Austin\, TX\, 78741\, United States
CATEGORIES:Outdoor/Fitness
ATTACH;FMTTYPE=image/jpeg:https://s3.us-east-2.amazonaws.com/media.theaustincommon.com/wp-content/uploads/2025/05/01133352/guided-meditation.jpg
ORGANIZER;CN="The Trail Conservancy":MAILTO:events@thetrailconservancy.org
END:VEVENT
BEGIN:VEVENT
DTSTART;TZID=America/Chicago:20250513T120000
DTEND;TZID=America/Chicago:20250513T130000
DTSTAMP:20260425T072741
CREATED:20250430T211807Z
LAST-MODIFIED:20250430T211807Z
UID:53907-1747137600-1747141200@theaustincommon.com
SUMMARY:Webinar: Your Child's Health and Climate Change
DESCRIPTION:A timely conversation with Dr. Debra Hendrickson\, pediatrician and author of The Air They Breathe. Learn about how climate change is impacting our kids’ health and how caregivers can be proactive ahead of extreme heat and other summer risk factors. \n 
URL:https://theaustincommon.com/event/webinar-your-childs-health-and-climate-change/
LOCATION:Online
CATEGORIES:Lecture/Guest Speaker,Networking
ATTACH;FMTTYPE=image/png:https://s3.us-east-2.amazonaws.com/media.theaustincommon.com/wp-content/uploads/2025/04/30084815/THE-AIR-THEY-BREATHE-Webinar-Graphic-IG-Grid-final.png
END:VEVENT
BEGIN:VEVENT
DTSTART;TZID=America/Chicago:20250513T170000
DTEND;TZID=America/Chicago:20250513T183000
DTSTAMP:20260425T072741
CREATED:20250430T213847Z
LAST-MODIFIED:20250430T213847Z
UID:53943-1747155600-1747161000@theaustincommon.com
SUMMARY:Reunión Comunitaria
DESCRIPTION:Regresamos con otro foro comunitario sobre Seguridad Pública y Movilidad\, esta vez con @austinvoices y presentado en español. Habrá traducción al inglés disponible si es necesario. \n¡Solo quedan dos semanas! Únase a la oficina del Distrito 4 para conocer los departamentos de la ciudad\, acceder a recursos útiles y compartir sus preguntas e ideas. RSVP. \n—————- \nWe’re back with another community forum on Public Safety and Mobility\, this time with @austinvoices and presented in Spanish. English translation will be available if needed. \nOnly two weeks left! Join the District 4 office to learn about city departments\, get helpful resources\, and share your questions and ideas. RSVP.
URL:https://theaustincommon.com/event/reunion-comunitaria/
LOCATION:Dobie Middle School\, 1200 E Rundberg Ln\, Austin\, TX\, United States
CATEGORIES:Important City Meeting,Spanish-Speaking
ATTACH;FMTTYPE=image/jpeg:https://s3.us-east-2.amazonaws.com/media.theaustincommon.com/wp-content/uploads/2025/04/30163652/Spanish-Language-Town-Hall-.jpg
END:VEVENT
BEGIN:VEVENT
DTSTART;TZID=America/Chicago:20250514T150000
DTEND;TZID=America/Chicago:20250514T170000
DTSTAMP:20260425T072741
CREATED:20250508T191648Z
LAST-MODIFIED:20250508T191648Z
UID:54227-1747234800-1747242000@theaustincommon.com
SUMMARY:Older Adults Town Hall
DESCRIPTION:Co-hosted by Council Member Marc Duchen and Mayor Pro-tem Vanessa Fuentes \nWHEN: Wednesday\, May 14th\, 3 – 5 PM \nWHERE: Galaxy Cafe\, 8127 Mesa Dr #100 \nHelp us order the right amount of food by registering today: bit.ly/437nHNz \nThis is a great opportunity to hear about the City’s work to support older Austinites\, share your experiences\, and connect directly with your local leaders. Food\, drinks\, and interpretation services will be available.
URL:https://theaustincommon.com/event/older-adults-town-hall/
LOCATION:Galaxy Cafe\, 8127 Mesa Dr #100\, Austin\, TX\, United States
CATEGORIES:Important City Meeting
ATTACH;FMTTYPE=image/png:https://s3.us-east-2.amazonaws.com/media.theaustincommon.com/wp-content/uploads/2025/05/08141543/unnamed-37.png
END:VEVENT
BEGIN:VEVENT
DTSTART;TZID=America/Chicago:20250515T170000
DTEND;TZID=America/Chicago:20250515T190000
DTSTAMP:20260425T072741
CREATED:20250423T172144Z
LAST-MODIFIED:20250423T172321Z
UID:53870-1747328400-1747335600@theaustincommon.com
SUMMARY:Angry Hour™: The Happy Hour for Pissed-Off Optimists\, ATX Edition
DESCRIPTION:During this moment of great uncertainty\, we’re hosting Angry Hour™: The Happy Hour for Pissed-Off Optimists\, for the first time in Austin\, TX. Who’s a Pissed-Off Optimist? Anyone who can tell that the world is broken but still holds hope that we can repair it. At a time like this\, we know it’s more important than ever to be together. \nBuilding community happens one gathering at a time\, so join Greater Good Studio for this after-work event to connect in person. Perhaps you’ll meet a new collaborator. Or a new hire for your organization. Or just someone to laugh\, cry\, and/or shake your fist at the sky with. To ensure everyone’s safety during the event\, here is the Angry Hour™ Code of Conduct. \nYour purchase includes one drink ticket and a donation to Go Austin Vamos Austin (GAVA)\, a community-driven and resident-led movement of everyday folks leveraging their lived experience to shape a more equitable Austin. You can purchase additional drinks from the bar\, and food from the two local food trucks. \nWe can’t wait to see you!
URL:https://theaustincommon.com/event/angry-hour-the-happy-hour-for-pissed-off-optimists-atx-edition/
LOCATION:St. Elmo Brewing Company\, 440 E. St. Elmo Rd. Suite G-2\, Austin\, TX\, 78745\, United States
CATEGORIES:Lecture/Guest Speaker,Networking
ATTACH;FMTTYPE=image/png:https://s3.us-east-2.amazonaws.com/media.theaustincommon.com/wp-content/uploads/2025/04/23121930/Screenshot-2025-04-23-at-12.19.02-PM.png
GEO:30.2164118;-97.7619718
X-APPLE-STRUCTURED-LOCATION;VALUE=URI;X-ADDRESS=St. Elmo Brewing Company 440 E. St. Elmo Rd. Suite G-2 Austin TX 78745 United States;X-APPLE-RADIUS=500;X-TITLE=440 E. St. Elmo Rd. Suite G-2:geo:-97.7619718,30.2164118
END:VEVENT
BEGIN:VEVENT
DTSTART;TZID=America/Chicago:20250517T080000
DTEND;TZID=America/Chicago:20250517T110000
DTSTAMP:20260425T072741
CREATED:20250515T230222Z
LAST-MODIFIED:20250515T230222Z
UID:54254-1747468800-1747479600@theaustincommon.com
SUMMARY:Trail Cleanup at Auditorium Shores
DESCRIPTION:Thank you for registering for this drop-in event to help clean up the shoreline of Lady Bird Lake and the Ann & Roy Butler Hike-and-Bike Trail. Also\, join us as we count down for TTC’s 22nd Maudies’ Moonlight Run. \nThe Trail Conservancy’s mission is to protect\, enhance\, and connect the Ann and Roy Butler Hike-and-Bike Trail for the benefit of all. Established in 2003 as the Town Lake Trail Foundation\, The Trail Conservancy furthers the historic efforts set forth by the Citizens Committee in 1971. \nEvent Details: \n\nMeeting Location: Auditorium Shores – Look out for an orange TTC tent\nParking Location: Free limited parking in the Auditorium Shores Parking and street parking along W. Riverside Drive.\nWhat to Wear and Bring:  Please wear closed-toed shoes and pants. TTC will provide all the bags\, trash grabbers\, and gloves for volunteers.
URL:https://theaustincommon.com/event/trail-cleanup-at-auditorium-shores/
LOCATION:Auditorium Shores\, 900 W. Riverside Drive\, Austin\, TX\, 78704\, United States
CATEGORIES:Outdoor/Fitness,Volunteer
ATTACH;FMTTYPE=image/png:https://s3.us-east-2.amazonaws.com/media.theaustincommon.com/wp-content/uploads/2025/05/15180131/Screenshot-2025-05-15-at-6.01.03-PM.png
ORGANIZER;CN="The Trail Conservancy":MAILTO:events@thetrailconservancy.org
GEO:30.2642165;-97.7559409
X-APPLE-STRUCTURED-LOCATION;VALUE=URI;X-ADDRESS=Auditorium Shores 900 W. Riverside Drive Austin TX 78704 United States;X-APPLE-RADIUS=500;X-TITLE=900 W. Riverside Drive:geo:-97.7559409,30.2642165
END:VEVENT
BEGIN:VEVENT
DTSTART;TZID=America/Chicago:20250517T100000
DTEND;TZID=America/Chicago:20250517T120000
DTSTAMP:20260425T072741
CREATED:20250506T231815Z
LAST-MODIFIED:20250506T231815Z
UID:54224-1747476000-1747483200@theaustincommon.com
SUMMARY:Tree ID Walk At Waterloo Park
DESCRIPTION:Have you been wondering what kind of tree is growing in your yard? Maybe you want to learn a fun new skill? Well\, you’re in luck because the Central Texas Seed Savers and TreeFolks are coming to Waterloo Park to lead a Tree ID lesson to help you learn a little more about what’s growing around you! \nYou will learn how to identify native trees and how to safely and ethically collect seeds to donate to the TreeFolks Seeds To Trees Native Nursery. \nRSVP here.
URL:https://theaustincommon.com/event/tree-id-walk-at-waterloo-park/
LOCATION:Waterloo Park\, 500 E 12th St\, Austin\, TX\, 78701\, United States
CATEGORIES:Outdoor/Fitness
ATTACH;FMTTYPE=image/jpeg:https://s3.us-east-2.amazonaws.com/media.theaustincommon.com/wp-content/uploads/2025/05/06181721/Tree-ID-Walk-Waterloo-Park.jpg
END:VEVENT
BEGIN:VEVENT
DTSTART;TZID=America/Chicago:20250517T100000
DTEND;TZID=America/Chicago:20250517T170000
DTSTAMP:20260425T072741
CREATED:20250515T211924Z
LAST-MODIFIED:20250515T212025Z
UID:54245-1747476000-1747501200@theaustincommon.com
SUMMARY:Slipper Summit: A Day of Storytelling & Solidarity for Asian Creatives
DESCRIPTION:This event is free and open to the public. Space is limited\, so RSVP is required! Stay for the day\, or for a portion of the event. \nSlipper Assembly presents Slipper Summit: A Day of Storytelling & Solidarity for Asian Creatives\, a full-day event to share our stories\, build community\, and make art together amongst fellow Asian creatives. Feeling the urgency of artistic resistance\, the desire to challenge pressures to conform and compete\, and the strength of community\, Slipper Assembly will feature creative and thought-provoking workshops\, discussions\, and more. \nUnlock hidden parts of yourself\, push your art’s activism\, and connect with other Asian creatives in meaningful ways at the Austin Central Library – Special Events Center (710 W Cesar Chavez St.\, Austin\, TX 78701) on Saturday\, May 17th\, 2025 from 10am to 5pm. \nSlipper Summit is presented by Slipper Assembly\, fiscally sponsored by Austin Asian American Film Festival\, and hosted by Austin Public Library. This project is supported in part by the City of Austin Economic Development Department.
URL:https://theaustincommon.com/event/slipper-summit-a-day-of-storytelling-solidarity-for-asian-creatives/
LOCATION:Austin Central Library\, 710 W. César Chávez St.\, Austin\, TX\, 78701\, United States
CATEGORIES:Activism/Protest,Arts/Crafts
ATTACH;FMTTYPE=image/png:https://s3.us-east-2.amazonaws.com/media.theaustincommon.com/wp-content/uploads/2025/05/15161843/Screenshot-2025-05-15-at-4.17.53-PM.png
END:VEVENT
END:VCALENDAR