BEGIN:VCALENDAR
VERSION:2.0
PRODID:-//The Austin Common - ECPv6.15.20//NONSGML v1.0//EN
CALSCALE:GREGORIAN
METHOD:PUBLISH
X-ORIGINAL-URL:https://theaustincommon.com
X-WR-CALDESC:Events for The Austin Common
REFRESH-INTERVAL;VALUE=DURATION:PT1H
X-Robots-Tag:noindex
X-PUBLISHED-TTL:PT1H
BEGIN:VTIMEZONE
TZID:America/Chicago
BEGIN:DAYLIGHT
TZOFFSETFROM:-0600
TZOFFSETTO:-0500
TZNAME:CDT
DTSTART:20230312T080000
END:DAYLIGHT
BEGIN:STANDARD
TZOFFSETFROM:-0500
TZOFFSETTO:-0600
TZNAME:CST
DTSTART:20231105T070000
END:STANDARD
BEGIN:DAYLIGHT
TZOFFSETFROM:-0600
TZOFFSETTO:-0500
TZNAME:CDT
DTSTART:20240310T080000
END:DAYLIGHT
BEGIN:STANDARD
TZOFFSETFROM:-0500
TZOFFSETTO:-0600
TZNAME:CST
DTSTART:20241103T070000
END:STANDARD
BEGIN:DAYLIGHT
TZOFFSETFROM:-0600
TZOFFSETTO:-0500
TZNAME:CDT
DTSTART:20250309T080000
END:DAYLIGHT
BEGIN:STANDARD
TZOFFSETFROM:-0500
TZOFFSETTO:-0600
TZNAME:CST
DTSTART:20251102T070000
END:STANDARD
END:VTIMEZONE
BEGIN:VEVENT
DTSTART;TZID=America/Chicago:20240603T180000
DTEND;TZID=America/Chicago:20240603T180000
DTSTAMP:20260420T074307
CREATED:20240530T181821Z
LAST-MODIFIED:20240530T181853Z
UID:51799-1717437600-1717437600@theaustincommon.com
SUMMARY:Yoga & Sound: Alignment Flow & Sound
DESCRIPTION:Presented in partnership with Castle Hill Fitness \n\nLocation: Love\, Tito’s Lawn\, Moody Amphitheater\nDate: June 3\, 2024\nTime: 6:00 PM\n\n\n \nSet some feel-good vibes for the week with mindful movement accompanied by sound therapy\, featuring a different style of yoga and live music.\n\n \nInstructor: Tiffany Sipos\, Castle Hill Fitness \n\nFREE and open to the public\nInstructor-led classes\nAll ages and abilities welcome\nBring water and a yoga mat (towel recommended)\nRSVP recommended\, but not required
URL:https://theaustincommon.com/event/yoga-sound-alignment-flow-sound/
LOCATION:Waterloo Park\, 500 E 12th St\, Austin\, TX\, 78701\, United States
CATEGORIES:Outdoor/Fitness
ATTACH;FMTTYPE=image/png:https://s3.us-east-2.amazonaws.com/media.theaustincommon.com/wp-content/uploads/2024/05/30131542/Screenshot-2024-05-30-at-1.15.24-PM.png
END:VEVENT
BEGIN:VEVENT
DTSTART;TZID=America/Chicago:20240604T160000
DTEND;TZID=America/Chicago:20240604T190000
DTSTAMP:20260420T074307
CREATED:20240604T133309Z
LAST-MODIFIED:20240604T133309Z
UID:51818-1717516800-1717527600@theaustincommon.com
SUMMARY:Austin Water Cost Of Service Rate Study Open House
DESCRIPTION:A Cost-of-Service Rate Study is being conducted now\, with a goal of increasing affordability for customers\, while improving and maintaining critical utility infrastructure for extreme weather and a growing population. Austin Water invites its customers to attend one of several Open Houses over the next several weeks to learn about their water and wastewater system\, planned investments\, and how these investments may impact rates in the coming year. As Austin Water seeks to improve system resiliency\, keep pace with a growing population\, and optimize the system\, water and wastewater\, rate increases may be needed in 2025.\n\n \nIn-Person Open Houses: No formal presentation will be made. Customers can drop in at any time to view materials and speak with Austin Water officials. Representatives from customer service will be on hand to answer billing questions. Comment cards will be provided.\n\n \nOpen House attendees will have a chance to ask staff questions and share their feedback. The schedule of Open Houses\, their locations and times are:\n  \nThursday\, May 23: Twin Oaks Branch – Austin Public Library\,  1800 South Fifth Street\, 4:00 – 7:00PM \nWednesday\, May 29: NEW LOCATION – Old Quarry Branch – Austin Public Library\, 7051 Village Center Drive\, Room 1\, 4:00 – 7:00PM \nThursday\, May 30: Hampton Branch – Austin Public Library \, 5125 Convict Hill Road \, 4:00 – 7:00PM \nSaturday\, June 1: Little Walnut Creek Branch – Austin Public Library\, 835 W. Rundberg Lane\, 10:00AM – 1:00PM \nTuesday\, June 4: Pleasant Hill Branch – Austin Public Library \, 211 E. William Cannon Drive\, 4:00 – 7:00PM \nWednesday\, June 5: Spicewood Springs Branch – Austin Public Library\, 8637 Spicewood Springs Road\, 4:00 – 7:00PM \nSaturday\, June 8: Conley-Guerrero Senior Activity Center\, 808 Nile Street\, 8:30 – 11:30AM \nTuesday\, June 11: North Village Branch – Austin Public Library\, 2505 Steck Avenue\, 4:00 – 7:00PM \nSaturday\, June 15: Menchaca Road Branch – Austin Public Library\, 5500 Menchaca Road\, 10:00AM – 1:00PM \nSaturday\, June 22: Montopolis Recreation & Community Center\, 1200 Montopolis\, 10:00AM – 1:00PM \n  \nVirtual Open House: Austin Water Officials will deliver a webinar explaining the need for the Rate Study\, preliminary findings and potential rate impacts. Attendees will have an opportunity to ask questions.\n  \nThursday\, June 13: Zoom: Click here to join\, 6 – 7:00PM
URL:https://theaustincommon.com/event/austin-water-cost-of-service-rate-study-open-house-3/
LOCATION:Pleasant Hill Branch Library\, 211 E William Cannon Dr.\, Austin\, TX\, 78745\, United States
CATEGORIES:Important City Meeting
ATTACH;FMTTYPE=image/jpeg:https://s3.us-east-2.amazonaws.com/media.theaustincommon.com/wp-content/uploads/2024/05/23153106/Cost-Of-Service-Study-Open-Houses.jpeg
GEO:30.1922654;-97.7771998
X-APPLE-STRUCTURED-LOCATION;VALUE=URI;X-ADDRESS=Pleasant Hill Branch Library 211 E William Cannon Dr. Austin TX 78745 United States;X-APPLE-RADIUS=500;X-TITLE=211 E William Cannon Dr.:geo:-97.7771998,30.1922654
END:VEVENT
BEGIN:VEVENT
DTSTART;TZID=America/Chicago:20240604T183000
DTEND;TZID=America/Chicago:20240604T203000
DTSTAMP:20260420T074307
CREATED:20240530T003913Z
LAST-MODIFIED:20240530T004022Z
UID:51782-1717525800-1717533000@theaustincommon.com
SUMMARY:APD Community Connect - Adam & Ida Sectors
DESCRIPTION:APD invites the public to our Community Connect meeting on Tuesday\, June 4th\, 2024. \n\nThis Community Connect session will provide a 45-minute overview on how to respond to critical incidents\, including setting up a safety plan\, managing stress during a crisis\, and responding to an active attack with multiple casualties. You can ask questions\, share stories\, and build positive relationships with your district representatives and officers who patrol the North Austin area.\n \n\nTopics: Policing in the Adam (Northwest Austin) & Ida Sectors (North Central Austin)\, Crime Statistics\, Stress and Active Attack Training for Civilians\, Q&A Session
URL:https://theaustincommon.com/event/apd-community-connect-adam-ida-sectors/
LOCATION:The Archer Hotel\, 3121 Palm Way\, Austin\, TX\, 78758\, United States
CATEGORIES:Important City Meeting
ATTACH;FMTTYPE=image/png:https://s3.us-east-2.amazonaws.com/media.theaustincommon.com/wp-content/uploads/2024/05/29193739/APD-Community-Connect-Ida-Adam-Sectors-.png
END:VEVENT
BEGIN:VEVENT
DTSTART;TZID=America/Chicago:20240605T160000
DTEND;TZID=America/Chicago:20240605T190000
DTSTAMP:20260420T074307
CREATED:20240604T133652Z
LAST-MODIFIED:20240604T133652Z
UID:51819-1717603200-1717614000@theaustincommon.com
SUMMARY:Austin Water Cost Of Service Rate Study Open House
DESCRIPTION:A Cost-of-Service Rate Study is being conducted now\, with a goal of increasing affordability for customers\, while improving and maintaining critical utility infrastructure for extreme weather and a growing population. Austin Water invites its customers to attend one of several Open Houses over the next several weeks to learn about their water and wastewater system\, planned investments\, and how these investments may impact rates in the coming year. As Austin Water seeks to improve system resiliency\, keep pace with a growing population\, and optimize the system\, water and wastewater\, rate increases may be needed in 2025.\n\n \nIn-Person Open Houses: No formal presentation will be made. Customers can drop in at any time to view materials and speak with Austin Water officials. Representatives from customer service will be on hand to answer billing questions. Comment cards will be provided.\n\n \nOpen House attendees will have a chance to ask staff questions and share their feedback. The schedule of Open Houses\, their locations and times are:\n  \nThursday\, May 23: Twin Oaks Branch – Austin Public Library\,  1800 South Fifth Street\, 4:00 – 7:00PM \nWednesday\, May 29: NEW LOCATION – Old Quarry Branch – Austin Public Library\, 7051 Village Center Drive\, Room 1\, 4:00 – 7:00PM \nThursday\, May 30: Hampton Branch – Austin Public Library \, 5125 Convict Hill Road \, 4:00 – 7:00PM \nSaturday\, June 1: Little Walnut Creek Branch – Austin Public Library\, 835 W. Rundberg Lane\, 10:00AM – 1:00PM \nTuesday\, June 4: Pleasant Hill Branch – Austin Public Library \, 211 E. William Cannon Drive\, 4:00 – 7:00PM \nWednesday\, June 5: Spicewood Springs Branch – Austin Public Library\, 8637 Spicewood Springs Road\, 4:00 – 7:00PM \nSaturday\, June 8: Conley-Guerrero Senior Activity Center\, 808 Nile Street\, 8:30 – 11:30AM \nTuesday\, June 11: North Village Branch – Austin Public Library\, 2505 Steck Avenue\, 4:00 – 7:00PM \nSaturday\, June 15: Menchaca Road Branch – Austin Public Library\, 5500 Menchaca Road\, 10:00AM – 1:00PM \nSaturday\, June 22: Montopolis Recreation & Community Center\, 1200 Montopolis\, 10:00AM – 1:00PM \n  \nVirtual Open House: Austin Water Officials will deliver a webinar explaining the need for the Rate Study\, preliminary findings and potential rate impacts. Attendees will have an opportunity to ask questions.\n  \nThursday\, June 13: Zoom: Click here to join\, 6 – 7:00PM
URL:https://theaustincommon.com/event/austin-water-cost-of-service-rate-study-open-house-4/
LOCATION:Spicewood Springs Branch Library\, 8637 Spicewood Springs Rd\, Austin\, TX\, 78759\, United States
CATEGORIES:Important City Meeting
ATTACH;FMTTYPE=image/jpeg:https://s3.us-east-2.amazonaws.com/media.theaustincommon.com/wp-content/uploads/2024/05/23153106/Cost-Of-Service-Study-Open-Houses.jpeg
GEO:30.4337083;-97.7730809
X-APPLE-STRUCTURED-LOCATION;VALUE=URI;X-ADDRESS=Spicewood Springs Branch Library 8637 Spicewood Springs Rd Austin TX 78759 United States;X-APPLE-RADIUS=500;X-TITLE=8637 Spicewood Springs Rd:geo:-97.7730809,30.4337083
END:VEVENT
BEGIN:VEVENT
DTSTART;TZID=America/Chicago:20240605T173000
DTEND;TZID=America/Chicago:20240605T190000
DTSTAMP:20260420T074307
CREATED:20240604T140901Z
LAST-MODIFIED:20240604T141009Z
UID:51829-1717608600-1717614000@theaustincommon.com
SUMMARY:Public Safety Community Conversation: Disaster Psychology Class
DESCRIPTION:We are thrilled to announce a special continuing education session on Disaster Psychology\, designed for current and aspiring members of the Community Emergency Response Team (CERT). Our CERT Team member\, Dr. Escamilla\, a licensed clinical social worker and veteran CERT instructor\, will conduct this session. Join us on Wednesday\, June 5\, from 5:30 PM to 7:00 PM at the Jollyville Fire Department to deepen your understanding of psychological responses to disasters.\n \n\nAbout the Session: Disaster Psychology is a crucial component of the CERT curriculum developed by FEMA. This session aims to equip you with the knowledge and skills needed to understand and manage the emotional consequences of disasters on victims and responders alike. By addressing topics such as trauma\, stress reactions\, and the principles of psychological first aid\, participants will learn how to provide effective support in times of crisis.\n \nWhy Attend? \n\nExpert Instruction: Dr. Escamilla brings over 50 years of experience in treating trauma\, depression\, anxiety\, and other mental health issues. Her extensive background makes her a profound source of knowledge and insight in the field of Disaster Psychology.\nRelevant Skills: Whether you are dealing with affected individuals directly or supporting other responders\, the psychological understanding you gain will be valuable.\nCERT Certification: Enhance your capabilities as a CERT member and use this workshop as part of your continuing education credits.\n\n\nInstructor Profile: Dr. Escamilla has been an integral part of the CERT community since 2009 and has instructed many in the essentials of emergency response since 2015. Her academic contributions as a faculty member at the University of Texas and St. Edwards University\, combined with specialized training in disability and cultural awareness\, enrich her teaching\, making it relevant and accessible to all participants.\n \nLocation Details: \n\nVenue: Jollyville Fire Department\nAddress: 9218 Anderson Mill Road\, Austin\, Texas 78729\nDate and Time: Wednesday\, June 5\, from 5:30 PM to 7:00 PM\n\n\nRegistration Information: Spaces are limited\, and we encourage early registration to ensure your spot in this essential workshop. Please register by filling out this form.
URL:https://theaustincommon.com/event/public-safety-community-conversation-disaster-psychology-class/
LOCATION:Jollyville Fire Department\, 9218 Anderson Mill Road\, Austin\, TX\, 78729\, United States
CATEGORIES:Class/Skill-Building,Important City Meeting,Lecture/Guest Speaker
ATTACH;FMTTYPE=image/jpeg:https://s3.us-east-2.amazonaws.com/media.theaustincommon.com/wp-content/uploads/2024/06/04090831/Disaster-Psycology.jpeg
END:VEVENT
BEGIN:VEVENT
DTSTART;TZID=America/Chicago:20240605T200000
DTEND;TZID=America/Chicago:20240605T200000
DTSTAMP:20260420T074307
CREATED:20240516T014344Z
LAST-MODIFIED:20240516T014439Z
UID:51739-1717617600-1717617600@theaustincommon.com
SUMMARY:2024 Maudie's Moonlight Margarita Run
DESCRIPTION:Celebrating the 21st Maudie’s Moonlight Margarita 5K Fun Run brings together two of Austin’s favorite things – running and margaritas!\n \n\nFor two decades\, runners\, joggers\, walkers\, and margarita lovers have converged in downtown Austin for a shotgun start and 5K course that travels along the streets bordering Lady Bird Lake and the Butler Trail before ending back at the park for the highly anticipated Tex-Mex party and margarita celebration.\n \n\nThis year’s run will be Wednesday\, June 5\, 2024\, with an 8:00pm start.\n \nRegistration includes: \n\nRace Entry\nMaudie’s Moonlight Margarita 5K Run shirt\nEntry to the Maudie’s Finish Line Celebration\nTwo Maudie’s Margaritas\nMaudie’s Tex-Mex appetizer-sized bites\n\n  \n\nAll registration fees from the run go directly to The Trail Conservancy\, providing critical funds needed to achieve our mission to protect\, enhance\, and connect the Ann & Roy Butler Hike-and-Bike Trail for all! 
URL:https://theaustincommon.com/event/2024-maudies-moonlight-margarita-run/
LOCATION:Auditorium Shores\, 900 W. Riverside Drive\, Austin\, TX\, 78704\, United States
CATEGORIES:Outdoor/Fitness,Party With a Purpose
ATTACH;FMTTYPE=image/jpeg:https://s3.us-east-2.amazonaws.com/media.theaustincommon.com/wp-content/uploads/2024/05/16120059/Maudies-Run.jpeg
ORGANIZER;CN="The Trail Conservancy":MAILTO:events@thetrailconservancy.org
GEO:30.2642165;-97.7559409
X-APPLE-STRUCTURED-LOCATION;VALUE=URI;X-ADDRESS=Auditorium Shores 900 W. Riverside Drive Austin TX 78704 United States;X-APPLE-RADIUS=500;X-TITLE=900 W. Riverside Drive:geo:-97.7559409,30.2642165
END:VEVENT
BEGIN:VEVENT
DTSTART;TZID=America/Chicago:20240606T170000
DTEND;TZID=America/Chicago:20240606T200000
DTSTAMP:20260420T074307
CREATED:20240531T000241Z
LAST-MODIFIED:20240531T000507Z
UID:51813-1717693200-1717704000@theaustincommon.com
SUMMARY:ATX Sustainable Bus Tour
DESCRIPTION:Calling all ATX sustainable baddies\, all aboard our new monthly sustainable bus tour presented by SUSTAIN THE MAG & Goodwill Central Texas.\n \n\nWhether you are an avid public transit expert or new to the experience\, come enjoy an easy sustainable bus tour around town each month with exciting experiences along the way.\n \nCapMetro will provide passes to each guest for the event day of with a day pass card. \n\nOur tour will launch on Thursday\, June 6 starting at Rebel Cheese(2200 Aldrich St Suite 120) with refreshments/snacks provided by Leisure Hydration & Dirty Shirley as well as some exciting guest speakers to be announced. From there we will take a connecting bus over to Goodwill Career and Technical Academy for a 45-minute tour (1015 Norwood Park Blvd). Next\, we will take another connecting bus back to Mueller to end the tour.\n \nTour/Schedule Details: \n\n5pm-6pm – Start at Rebel Cheese with refreshments\, snacks and a cheese tour (2200 Aldrich St Suite 120)\nTake bus 10 around 20 minutes to Goodwill at 6:10pm\n6:40pm-7:30pm- Tour Goodwill\n7:48pm -Take bus 10 back to Rebel Cheese Mueller to depart\n8:10pm- Back at Mueller and the tour concludes\n\nRefreshments/snacks provided! \n\nPlease send us any questions that you may have!\n \n\nGet your free tickets here.
URL:https://theaustincommon.com/event/atx-sustainable-bus-tour-2/
LOCATION:Rebel Cheese\, 2200 Aldrich Street #Suite 120\, Austin\, TX\, 78723\, United States
CATEGORIES:Party With a Purpose
ATTACH;FMTTYPE=image/png:https://s3.us-east-2.amazonaws.com/media.theaustincommon.com/wp-content/uploads/2024/05/30190114/Screenshot-2024-05-30-at-7.00.50-PM.png
END:VEVENT
BEGIN:VEVENT
DTSTART;TZID=America/Chicago:20240607T113000
DTEND;TZID=America/Chicago:20240607T133000
DTSTAMP:20260420T074307
CREATED:20240606T003116Z
LAST-MODIFIED:20240606T003146Z
UID:51867-1717759800-1717767000@theaustincommon.com
SUMMARY:Austin Energy Resource\, Generation\, And Climate Protection Plan Workshop
DESCRIPTION:Austin Energy is hosting facilitated Resource Generation Plan Workshops with invited stakeholders from key community groups. Stakeholders will learn the basics of building a generation plan\, assess risk tolerance\, and how to balance affordability\, reliability\, and environmental sustainability. The goal is for these conversations to lead to community-supported goals that will ultimately be considered by the Austin City Council.\n\n \n\nCommunity members are welcome to attend and listen to and learn from these conversations. A virtual option will also be provided.\n\n\n \n\nFriday\, June 7\, 2024\n11:30 a.m. – 1:30 p.m.\nAustin Energy HQ\n4815 Mueller Blvd.\nShudde Fath Conference Room\nLearn more: publicinput.com/generation
URL:https://theaustincommon.com/event/austin-energy-resource-generation-and-climate-protection-plan-workshop/
LOCATION:Austin Energy HQ\, 4815 Mueller Blvd\, Austin\, Texas\, 78723
CATEGORIES:Important City Meeting
ATTACH;FMTTYPE=image/jpeg:https://s3.us-east-2.amazonaws.com/media.theaustincommon.com/wp-content/uploads/2024/06/05193046/Resource-Plan-Worksohp.jpeg
END:VEVENT
BEGIN:VEVENT
DTSTART;TZID=America/Chicago:20240608T080000
DTEND;TZID=America/Chicago:20240608T100000
DTSTAMP:20260420T074307
CREATED:20240523T172817Z
LAST-MODIFIED:20240523T172919Z
UID:51759-1717833600-1717840800@theaustincommon.com
SUMMARY:Shoal Creek Community Bike Ride
DESCRIPTION:Join Shoal Creek Conservancy\, YellowBike\, Ghisallo\, and Austin’s Watershed Protection Department for a beginner-friendly bike ride along the Shoal Creek Blvd protected bike lanes on June 8th from 8:00 – 10:00 am. This will be a perfect opportunity to learn more about the City of Austin’s growing network of alternative transportation routes\, SCC’s work in the watershed\, and how to get involved with our partners at Yellow Bike and Ghisallo!\n \n\nParticipants will need to bring their own bikes and helmets. The bike route will have some changes in elevation\, is entirely on paved surfaces\, and is ~ 10 miles long with several stops for discussions and water breaks.\n \nRegister to join us today via https://bit.ly/4cH38dH.
URL:https://theaustincommon.com/event/shoal-creek-community-bike-ride/
LOCATION:Shoal Creek Trail\, 1100 Kingsbury St\, Austin\, TX\, United States
CATEGORIES:Family-Friendly,Outdoor/Fitness
ATTACH;FMTTYPE=image/png:https://s3.us-east-2.amazonaws.com/media.theaustincommon.com/wp-content/uploads/2024/05/22155657/1.png
ORGANIZER;CN="Shoal Creek Conservancy":MAILTO:info@shoalcreekconservancy.org
END:VEVENT
BEGIN:VEVENT
DTSTART;TZID=America/Chicago:20240608T083000
DTEND;TZID=America/Chicago:20240608T110000
DTSTAMP:20260420T074307
CREATED:20240604T133921Z
LAST-MODIFIED:20240604T133921Z
UID:51820-1717835400-1717844400@theaustincommon.com
SUMMARY:Austin Water Cost Of Service Rate Study Open House
DESCRIPTION:A Cost-of-Service Rate Study is being conducted now\, with a goal of increasing affordability for customers\, while improving and maintaining critical utility infrastructure for extreme weather and a growing population. Austin Water invites its customers to attend one of several Open Houses over the next several weeks to learn about their water and wastewater system\, planned investments\, and how these investments may impact rates in the coming year. As Austin Water seeks to improve system resiliency\, keep pace with a growing population\, and optimize the system\, water and wastewater\, rate increases may be needed in 2025.\n\n \nIn-Person Open Houses: No formal presentation will be made. Customers can drop in at any time to view materials and speak with Austin Water officials. Representatives from customer service will be on hand to answer billing questions. Comment cards will be provided.\n\n \nOpen House attendees will have a chance to ask staff questions and share their feedback. The schedule of Open Houses\, their locations and times are:\n  \nThursday\, May 23: Twin Oaks Branch – Austin Public Library\,  1800 South Fifth Street\, 4:00 – 7:00PM \nWednesday\, May 29: NEW LOCATION – Old Quarry Branch – Austin Public Library\, 7051 Village Center Drive\, Room 1\, 4:00 – 7:00PM \nThursday\, May 30: Hampton Branch – Austin Public Library \, 5125 Convict Hill Road \, 4:00 – 7:00PM \nSaturday\, June 1: Little Walnut Creek Branch – Austin Public Library\, 835 W. Rundberg Lane\, 10:00AM – 1:00PM \nTuesday\, June 4: Pleasant Hill Branch – Austin Public Library \, 211 E. William Cannon Drive\, 4:00 – 7:00PM \nWednesday\, June 5: Spicewood Springs Branch – Austin Public Library\, 8637 Spicewood Springs Road\, 4:00 – 7:00PM \nSaturday\, June 8: Conley-Guerrero Senior Activity Center\, 808 Nile Street\, 8:30 – 11:30AM \nTuesday\, June 11: North Village Branch – Austin Public Library\, 2505 Steck Avenue\, 4:00 – 7:00PM \nSaturday\, June 15: Menchaca Road Branch – Austin Public Library\, 5500 Menchaca Road\, 10:00AM – 1:00PM \nSaturday\, June 22: Montopolis Recreation & Community Center\, 1200 Montopolis\, 10:00AM – 1:00PM \n  \nVirtual Open House: Austin Water Officials will deliver a webinar explaining the need for the Rate Study\, preliminary findings and potential rate impacts. Attendees will have an opportunity to ask questions.\n  \nThursday\, June 13: Zoom: Click here to join\, 6 – 7:00PM
URL:https://theaustincommon.com/event/austin-water-cost-of-service-rate-study-open-house-5/
LOCATION:Conley-Guerrero Senior Activity Center\, 808 Nile Street\, Austin\, TX\, 78702\, United States
CATEGORIES:Important City Meeting
ATTACH;FMTTYPE=image/jpeg:https://s3.us-east-2.amazonaws.com/media.theaustincommon.com/wp-content/uploads/2024/05/23153106/Cost-Of-Service-Study-Open-Houses.jpeg
END:VEVENT
BEGIN:VEVENT
DTSTART;TZID=America/Chicago:20240608T090000
DTEND;TZID=America/Chicago:20240608T110000
DTSTAMP:20260420T074307
CREATED:20240604T164416Z
LAST-MODIFIED:20240604T164500Z
UID:51831-1717837200-1717844400@theaustincommon.com
SUMMARY:Clean Lady Bird Lake
DESCRIPTION:Hello volunteers! Help Keep Austin Beautiful celebrate and give some extra love to our wonderful Lady Bird Lake. On Saturday\, June 8th\, join our lake leaders as we clean up litter in and around the lake! Since 2009\, Keep Austin Beautiful has organized large-scale cleanups of Lady Bird Lake every other month. We train volunteer leaders to conduct cleanups at multiple locations along the shoreline and on the water. We are looking forward to everyone joining us for cooler weather and participating in our Clean Lady Bird Lake program.\n \n\nYou can sign up to volunteer at one of several cleanup locations here.
URL:https://theaustincommon.com/event/clean-lady-bird-lake-14/
LOCATION:Lady Bird Lake\, Austin\, TX\, United States
CATEGORIES:Outdoor/Fitness,Volunteer
ATTACH;FMTTYPE=image/jpeg:https://s3.us-east-2.amazonaws.com/media.theaustincommon.com/wp-content/uploads/2024/06/04114313/Clean-Lady-Bird-Lake-June.jpeg
END:VEVENT
BEGIN:VEVENT
DTSTART;TZID=America/Chicago:20240608T110000
DTEND;TZID=America/Chicago:20240608T150000
DTSTAMP:20260420T074307
CREATED:20240604T140205Z
LAST-MODIFIED:20240604T140347Z
UID:51825-1717844400-1717858800@theaustincommon.com
SUMMARY:Take Me to the River Beer Release Party
DESCRIPTION:Drink beer\, support Texas Living Waters! \n\nJoin us to celebrate the second annual release of “Take Me to the River” – Hazy Pale\, a collaboration beer between Texas Living Waters and Meanwhile Brewing to keep Texas rivers clean\, healthy\, beautiful and flowing. A portion of proceeds from the beer will benefit TLW!\n \n\nTLW will be onsite from 11-3pm to share information about their vital work protecting our waterways. Stay tuned for more details about raffle prizes from YETI and more!\n \nAbout Texas Living Waters: \n\nWe are a collaboration of conservation groups working to ensure that Texas has the water it needs for thriving communities and healthy fish and wildlife.\n \n\nWe work together to advance enduring water solutions that support people and wildlife across Texas by amplifying partners’ collective strengths in education\, outreach\, science\, and advocacy—in the face of climate change\, rapid population growth\, and economic development.
URL:https://theaustincommon.com/event/take-me-to-the-river-beer-release-party/
LOCATION:Meanwhile Brewing\, 3901 Promontory Point Dr.\, Austin\, TX\, 78744\, United States
CATEGORIES:Party With a Purpose
ATTACH;FMTTYPE=image/png:https://s3.us-east-2.amazonaws.com/media.theaustincommon.com/wp-content/uploads/2024/06/04085623/Take-Me-To-The-River.png
END:VEVENT
BEGIN:VEVENT
DTSTART;TZID=America/Chicago:20240608T170000
DTEND;TZID=America/Chicago:20240608T210000
DTSTAMP:20260420T074307
CREATED:20240606T010905Z
LAST-MODIFIED:20240606T010944Z
UID:51874-1717866000-1717880400@theaustincommon.com
SUMMARY:Freedom + Juneteenth: A Night Of Jubilation
DESCRIPTION:Join us for a fun-filled evening at Freedom + Juneteenth! \n\nEngage in a panel\, Curating Community: Nurturing Black Joy and Business Growth in Austin\, featuring experts sharing insights on Black community curation and businesses.\nDance to the beats of our live DJ. \nCheck out live art by a local artist. \nEnjoy a dance performance by Ballet Afrique. \nExplore Black-owned vendors selling a variety of unique goods.
URL:https://theaustincommon.com/event/freedom-juneteenth-a-night-of-jubilation/
LOCATION:Kingsbury Commons at Pease Park\, 1100 Kingsbury Street\, Austin\, TX\, 78703\, United States
CATEGORIES:Party With a Purpose
ATTACH;FMTTYPE=image/png:https://s3.us-east-2.amazonaws.com/media.theaustincommon.com/wp-content/uploads/2024/06/05200746/Screenshot-2024-06-05-at-8.07.25-PM.png
END:VEVENT
END:VCALENDAR