BEGIN:VCALENDAR
VERSION:2.0
PRODID:-//The Austin Common - ECPv6.15.20//NONSGML v1.0//EN
CALSCALE:GREGORIAN
METHOD:PUBLISH
X-ORIGINAL-URL:https://theaustincommon.com
X-WR-CALDESC:Events for The Austin Common
REFRESH-INTERVAL;VALUE=DURATION:PT1H
X-Robots-Tag:noindex
X-PUBLISHED-TTL:PT1H
BEGIN:VTIMEZONE
TZID:America/Chicago
BEGIN:DAYLIGHT
TZOFFSETFROM:-0600
TZOFFSETTO:-0500
TZNAME:CDT
DTSTART:20240310T080000
END:DAYLIGHT
BEGIN:STANDARD
TZOFFSETFROM:-0500
TZOFFSETTO:-0600
TZNAME:CST
DTSTART:20241103T070000
END:STANDARD
BEGIN:DAYLIGHT
TZOFFSETFROM:-0600
TZOFFSETTO:-0500
TZNAME:CDT
DTSTART:20250309T080000
END:DAYLIGHT
BEGIN:STANDARD
TZOFFSETFROM:-0500
TZOFFSETTO:-0600
TZNAME:CST
DTSTART:20251102T070000
END:STANDARD
BEGIN:DAYLIGHT
TZOFFSETFROM:-0600
TZOFFSETTO:-0500
TZNAME:CDT
DTSTART:20260308T080000
END:DAYLIGHT
BEGIN:STANDARD
TZOFFSETFROM:-0500
TZOFFSETTO:-0600
TZNAME:CST
DTSTART:20261101T070000
END:STANDARD
END:VTIMEZONE
BEGIN:VEVENT
DTSTART;TZID=America/Chicago:20250501T173000
DTEND;TZID=America/Chicago:20250501T183000
DTSTAMP:20260422T054902
CREATED:20250424T131725Z
LAST-MODIFIED:20250424T131803Z
UID:53889-1746120600-1746124200@theaustincommon.com
SUMMARY:ATX Climate Week: Kayak & SUP Lady Bird Lake Clean-Up
DESCRIPTION:RSVP HERE \nJoin us on Thursday\, May 1st at 5:30pm for a kayak cleanup on Lady Bird Lake \nLimited free kayak rentals are available. RSVP by filling out this form to reserve your free one-hour rental. After all spots are filled\, you can still join the cleanup by renting a kayak/paddleboard from EpicSUP. View their rental rates here. \nItinerary: \n\n\n5:30pm: Meet at EpicSUP\, 2200 S Lakeshore Blvd\, Austin\, Texas 78741 \n\n\nStretch and group introductions \n\n\nKayak lesson\, if needed \n\n\n6pm: Kayak and lake cleanup time! \n\n\n7pm: Meet back at EpicSUP’s dock for closing \n\n\nIncluded: \n\n\nFree kayak one-hour rental \n\n\nKayak lesson\, if needed \n\n\nTrash clean up equipment: trash grabber and trash bags \n\n\nWhat to bring: \n\n\nComfortable clothes you don’t mind getting wet \n\n\nSunscreen \n\n\nFilled reusable water bottle \n\n\nExcitement! ✨ \n\n\nSee you on the water! \nThis event is hosted by Tania Roa and EpicSUP for Austin Climate Week (powered by Joon Community).
URL:https://theaustincommon.com/event/atx-climate-week-kayak-sup-lady-bird-lake-clean-up/
LOCATION:EpicSUP\, 2200 South Lakeshore Boulevard\, Austin\, TX\, 78741\, United States
CATEGORIES:Volunteer
ATTACH;FMTTYPE=image/png:https://s3.us-east-2.amazonaws.com/media.theaustincommon.com/wp-content/uploads/2025/04/24081555/ATX-Climate-Week-Cleanup.png
END:VEVENT
END:VCALENDAR