BEGIN:VCALENDAR
VERSION:2.0
PRODID:-//The Austin Common - ECPv6.15.20//NONSGML v1.0//EN
CALSCALE:GREGORIAN
METHOD:PUBLISH
X-WR-CALNAME:The Austin Common
X-ORIGINAL-URL:https://theaustincommon.com
X-WR-CALDESC:Events for The Austin Common
REFRESH-INTERVAL;VALUE=DURATION:PT1H
X-Robots-Tag:noindex
X-PUBLISHED-TTL:PT1H
BEGIN:VTIMEZONE
TZID:America/Chicago
BEGIN:DAYLIGHT
TZOFFSETFROM:-0600
TZOFFSETTO:-0500
TZNAME:CDT
DTSTART:20250309T080000
END:DAYLIGHT
BEGIN:STANDARD
TZOFFSETFROM:-0500
TZOFFSETTO:-0600
TZNAME:CST
DTSTART:20251102T070000
END:STANDARD
BEGIN:DAYLIGHT
TZOFFSETFROM:-0600
TZOFFSETTO:-0500
TZNAME:CDT
DTSTART:20260308T080000
END:DAYLIGHT
BEGIN:STANDARD
TZOFFSETFROM:-0500
TZOFFSETTO:-0600
TZNAME:CST
DTSTART:20261101T070000
END:STANDARD
BEGIN:DAYLIGHT
TZOFFSETFROM:-0600
TZOFFSETTO:-0500
TZNAME:CDT
DTSTART:20270314T080000
END:DAYLIGHT
BEGIN:STANDARD
TZOFFSETFROM:-0500
TZOFFSETTO:-0600
TZNAME:CST
DTSTART:20271107T070000
END:STANDARD
END:VTIMEZONE
BEGIN:VEVENT
DTSTART;TZID=America/Chicago:20260421T180000
DTEND;TZID=America/Chicago:20260421T200000
DTSTAMP:20260420T103411
CREATED:20260408T145211Z
LAST-MODIFIED:20260408T145211Z
UID:56008-1776794400-1776801600@theaustincommon.com
SUMMARY:Energy Reliability Workshop
DESCRIPTION:This April 2026\, Austin Energy is hosting a series of Energy Reliability Workshops across Austin\, and we invite you and members of your community to participate. These workshops will provide an overview of how Austin Energy is implementing the 2035 Plan\, discuss locations of potential energy resource and generation options across Austin\, and invite residents to share what matters most you and your community.  \nThe Austin City Council unanimously approved Austin Energy’s Resource\, Generation and Climate Protection Plan to 2035\, which is a strategic pathway to meet Austin’s rising energy needs. This plan was drafted with strong community input and is guided by the core values of reliability\, affordability\, environmental sustainability\, and energy equity. Austin Energy is evaluating options to strengthen local reliability in the face of current challenges while continuing progress toward Austin’s clean energy goals.  \nWe invite you and your neighbors to come and share your perspective. There are three options to choose from\, so pick the one most convenient for you.  \nWednesday\, April 15\, 6-8 p.m.\nMontopolis Recreation & Community Center (Multipurpose Room)\n1200 Montopolis Dr.\, Austin\, 78741 \nThursday\, April 16\, 6-8 p.m.\nConcordia University (B202)\n11400 Concordia University Dr.\, Austin\, 78726 \nTuesday\, April 21\, 6-8 p.m.\nDecker Middle School (Cafeteria)\n8104 Decker Ln.\, Austin\, 78724
URL:https://theaustincommon.com/event/energy-reliability-workshop-3/
LOCATION:Decker Middle School\, 8104 Decker Ln.\, Austin\, TX\, 78724\, United States
CATEGORIES:Important City Meeting
ATTACH;FMTTYPE=image/jpeg:https://s3.us-east-2.amazonaws.com/media.theaustincommon.com/wp-content/uploads/2026/04/07180943/Keep-Austin-Powered.jpg
END:VEVENT
BEGIN:VEVENT
DTSTART;TZID=America/Chicago:20260421T183000
DTEND;TZID=America/Chicago:20260421T193000
DTSTAMP:20260420T103411
CREATED:20260408T185653Z
LAST-MODIFIED:20260408T185808Z
UID:56041-1776796200-1776799800@theaustincommon.com
SUMMARY:Central City District Plan Open House
DESCRIPTION:The City Council resolution for the Downtown Austin Plan update called for a new 10-year blueprint that provides a renewed vision for Downtown. We’re expanding that vision to include adjacent areas with similar character and context: \n• The South Central Waterfront\n• Downtown\n• The University of Texas/University Neighborhood Overlay areas \nThe Central City District Plan is more than just a plan: It serves as a vital connector for existing plans\, projects\, and initiatives. It bridges comprehensive planning\, Citywide initiatives\, Downtown initiatives\, and the transformative work happening under Project Connect and Equitable Transit-Oriented Development.  \nWe’re inviting community members and stakeholders to help shape the future of three of Austin’s most iconic areas. Together\, we’ll build a shared vision that reflects our values and aspirations. You can RSVP for the virtual open house here.  \nTo ensure a more equitable\, sustainable\, and resilient future in Austin\, we must rethink how we plan for growth in the city’s urban core. Around the world\, downtowns are thriving not just through work and play\, but by embracing livability\, inclusivity\, and access to services.
URL:https://theaustincommon.com/event/central-city-district-plan-open-house/
LOCATION:Online
CATEGORIES:Important City Meeting
ATTACH;FMTTYPE=image/jpeg:https://s3.us-east-2.amazonaws.com/media.theaustincommon.com/wp-content/uploads/2026/04/08135525/Central-City-District-Plan-Community-Open-House.jpg
END:VEVENT
BEGIN:VEVENT
DTSTART;TZID=America/Chicago:20260422T163000
DTEND;TZID=America/Chicago:20260422T193000
DTSTAMP:20260420T103411
CREATED:20260408T190009Z
LAST-MODIFIED:20260408T190009Z
UID:56043-1776875400-1776886200@theaustincommon.com
SUMMARY:Central City District Plan Open House
DESCRIPTION:The City Council resolution for the Downtown Austin Plan update called for a new 10-year blueprint that provides a renewed vision for Downtown. We’re expanding that vision to include adjacent areas with similar character and context: \n• The South Central Waterfront\n• Downtown\n• The University of Texas/University Neighborhood Overlay areas \nThe Central City District Plan is more than just a plan: It serves as a vital connector for existing plans\, projects\, and initiatives. It bridges comprehensive planning\, Citywide initiatives\, Downtown initiatives\, and the transformative work happening under Project Connect and Equitable Transit-Oriented Development. \nWe’re inviting community members and stakeholders to help shape the future of three of Austin’s most iconic areas. Together\, we’ll build a shared vision that reflects our values and aspirations. You can RSVP for the in-person open house here. \nTo ensure a more equitable\, sustainable\, and resilient future in Austin\, we must rethink how we plan for growth in the city’s urban core. Around the world\, downtowns are thriving not just through work and play\, but by embracing livability\, inclusivity\, and access to services.
URL:https://theaustincommon.com/event/central-city-district-plan-open-house-2/
LOCATION:Long Center\, 701 W Riverside Dr\, Austin\, TX\, 78704\, United States
CATEGORIES:Important City Meeting
ATTACH;FMTTYPE=image/jpeg:https://s3.us-east-2.amazonaws.com/media.theaustincommon.com/wp-content/uploads/2026/04/08135525/Central-City-District-Plan-Community-Open-House.jpg
GEO:30.259982;-97.751079
X-APPLE-STRUCTURED-LOCATION;VALUE=URI;X-ADDRESS=Long Center 701 W Riverside Dr Austin TX 78704 United States;X-APPLE-RADIUS=500;X-TITLE=701 W Riverside Dr:geo:-97.751079,30.259982
END:VEVENT
BEGIN:VEVENT
DTSTART;TZID=America/Chicago:20260429T160000
DTEND;TZID=America/Chicago:20260429T190000
DTSTAMP:20260420T103411
CREATED:20260408T165517Z
LAST-MODIFIED:20260408T165517Z
UID:56012-1777478400-1777489200@theaustincommon.com
SUMMARY:District 8 Community Fair
DESCRIPTION:Mark your calendars for this year’s District 8 Community Fair on Wednesday\, April 29\, from 4:00-7:00 p.m. \nCome connect with your City Council Office\, share your input on local projects\, and learn about City resources. \nPlus\, we’ll have family-friendly fun. \n  \n\nNot sure which City Council district you live in? You can look it up here.
URL:https://theaustincommon.com/event/district-8-community-fair-2/
LOCATION:Hampton Branch Library\, 5125 Convict Hill Rd\, Austin\, TX\, 78749\, United States
CATEGORIES:Important City Meeting
ATTACH;FMTTYPE=image/png:https://s3.us-east-2.amazonaws.com/media.theaustincommon.com/wp-content/uploads/2026/04/08115358/district_8_community_fair_2026_04_29_16_53.png
GEO:30.2176045;-97.8550267
X-APPLE-STRUCTURED-LOCATION;VALUE=URI;X-ADDRESS=Hampton Branch Library 5125 Convict Hill Rd Austin TX 78749 United States;X-APPLE-RADIUS=500;X-TITLE=5125 Convict Hill Rd:geo:-97.8550267,30.2176045
END:VEVENT
BEGIN:VEVENT
DTSTART;TZID=America/Chicago:20260514T173000
DTEND;TZID=America/Chicago:20260514T193000
DTSTAMP:20260420T103411
CREATED:20260218T183056Z
LAST-MODIFIED:20260218T183056Z
UID:55569-1778779800-1778787000@theaustincommon.com
SUMMARY:Central Health Community Conversation Precinct 4
DESCRIPTION:Central Health\, CommUnityCare Health Centers\, and Sendero Health Plans are bringing community members\, local leaders\, and Central Health system leadership together to listen and learn directly from residents about how care is showing up in our neighborhoods and how it can be better connected. \nCentral Health Community Conversations are designed for residents to speak\, share experiences\, and help shape how care is accessed\, delivered\, and connected locally. \nJoin us to share your perspective on how we can: \n\nReduce wait times and improve patient navigation through the system.\nMake access to primary\, specialty\, and behavioral health care easier and closer to home.\nBetter support unhoused neighbors through coordinated care and health coverage.\nStrengthen connections across clinics\, care teams\, and support services.\n\n\n\nCommunity conversations start from 5:30 to 7:30 p.m. Dinner and parking are free at each event. \n\n\n————————-\nNot sure which county precinct you live in? You can look it up here.
URL:https://theaustincommon.com/event/central-health-community-conversation-precinct-4/
LOCATION:Montopolis Recreation Center\, 1200 Montopolis Dr\, Austin\, TX\, 78741\, United States
CATEGORIES:Important City Meeting
ATTACH;FMTTYPE=image/png:https://s3.us-east-2.amazonaws.com/media.theaustincommon.com/wp-content/uploads/2026/02/18122349/2026-Community-Conversations.png
GEO:30.2322294;-97.6998885
X-APPLE-STRUCTURED-LOCATION;VALUE=URI;X-ADDRESS=Montopolis Recreation Center 1200 Montopolis Dr Austin TX 78741 United States;X-APPLE-RADIUS=500;X-TITLE=1200 Montopolis Dr:geo:-97.6998885,30.2322294
END:VEVENT
BEGIN:VEVENT
DTSTART;TZID=America/Chicago:20260611T173000
DTEND;TZID=America/Chicago:20260611T193000
DTSTAMP:20260420T103411
CREATED:20260218T183305Z
LAST-MODIFIED:20260218T183305Z
UID:55570-1781199000-1781206200@theaustincommon.com
SUMMARY:Central Health Community Conversation Precinct 2
DESCRIPTION:Central Health\, CommUnityCare Health Centers\, and Sendero Health Plans are bringing community members\, local leaders\, and Central Health system leadership together to listen and learn directly from residents about how care is showing up in our neighborhoods and how it can be better connected. \nCentral Health Community Conversations are designed for residents to speak\, share experiences\, and help shape how care is accessed\, delivered\, and connected locally. \nJoin us to share your perspective on how we can: \n\nReduce wait times and improve patient navigation through the system.\nMake access to primary\, specialty\, and behavioral health care easier and closer to home.\nBetter support unhoused neighbors through coordinated care and health coverage.\nStrengthen connections across clinics\, care teams\, and support services.\n\n\n\nCommunity conversations start from 5:30 to 7:30 p.m. Dinner and parking are free at each event. \n\n\n————————-\nNot sure which county precinct you live in? You can look it up here.
URL:https://theaustincommon.com/event/central-health-community-conversation-precinct-2/
LOCATION:ACC Northridge Campus\, 1928 Stonehollow Dr\, Austin\, TX\, 78758\, United States
CATEGORIES:Important City Meeting
ATTACH;FMTTYPE=image/png:https://s3.us-east-2.amazonaws.com/media.theaustincommon.com/wp-content/uploads/2026/02/18122349/2026-Community-Conversations.png
END:VEVENT
END:VCALENDAR