BEGIN:VCALENDAR
VERSION:2.0
PRODID:-//The Austin Common - ECPv6.15.20//NONSGML v1.0//EN
CALSCALE:GREGORIAN
METHOD:PUBLISH
X-ORIGINAL-URL:https://theaustincommon.com
X-WR-CALDESC:Events for The Austin Common
REFRESH-INTERVAL;VALUE=DURATION:PT1H
X-Robots-Tag:noindex
X-PUBLISHED-TTL:PT1H
BEGIN:VTIMEZONE
TZID:America/Chicago
BEGIN:DAYLIGHT
TZOFFSETFROM:-0600
TZOFFSETTO:-0500
TZNAME:CDT
DTSTART:20250309T080000
END:DAYLIGHT
BEGIN:STANDARD
TZOFFSETFROM:-0500
TZOFFSETTO:-0600
TZNAME:CST
DTSTART:20251102T070000
END:STANDARD
BEGIN:DAYLIGHT
TZOFFSETFROM:-0600
TZOFFSETTO:-0500
TZNAME:CDT
DTSTART:20260308T080000
END:DAYLIGHT
BEGIN:STANDARD
TZOFFSETFROM:-0500
TZOFFSETTO:-0600
TZNAME:CST
DTSTART:20261101T070000
END:STANDARD
BEGIN:DAYLIGHT
TZOFFSETFROM:-0600
TZOFFSETTO:-0500
TZNAME:CDT
DTSTART:20270314T080000
END:DAYLIGHT
BEGIN:STANDARD
TZOFFSETFROM:-0500
TZOFFSETTO:-0600
TZNAME:CST
DTSTART:20271107T070000
END:STANDARD
END:VTIMEZONE
BEGIN:VEVENT
DTSTART;TZID=America/Chicago:20260420T180000
DTEND;TZID=America/Chicago:20260420T193000
DTSTAMP:20260421T041257
CREATED:20260414T175126Z
LAST-MODIFIED:20260414T175126Z
UID:56070-1776708000-1776713400@theaustincommon.com
SUMMARY:Kicking the Bucket Listening Club
DESCRIPTION:It’s not about dying. It’s about living. \nIn an emergency\, who do you want making medical decisions for you? Your people… or the state? The Kicking the Bucket Listening Club is a free 8-week community gathering designed to make conversations about death less taboo and empower you to make your own choices. Join your neighbors to listen\, laugh\, and talk about the stuff most of us avoid. You’ll leave knowing where the end-of-life conversation has to start. \nA BOOK CLUB FOR YOUR EARS\nKicking the Bucket is a darkly funny audio dramedy about two ride-or-die octogenarians determined to exit life on their own terms. Each week\, we listen to one episode of the ongoing story together. No prep required. \nCRAFT WHILE YOU CONVERSE\nWant to keep your hands busy while you listen? Learn a simple basket-weaving technique from Melissa Knight of Batik by Design. Materials provided. Arrive early for extra guidance. \nDIGGING DEEP\nDiscussion facilitated by Occupational Therapists and end-of-life practitioners Michelle McCarty and Melissa Saffron of Reinventing Independence. Expect thoughtful conversation\, practical tools\, and follow-up resources each week. \n📅 Mondays thru May 18 | 6–7:30pm\n📍 Hampton Branch\, Austin Public Library | 5125 Convict Hill Rd\, Austin TX 78749\n🎟️ Free! RSVP: kickingthebucket.eventbrite.com \nThis project is supported in part by an Elevate Grant of Austin Arts\, Culture\, Music and Entertainment. ImprovEd Arts is a sponsored project of Austin Creative Alliance. Created by Andee Kinzy.
URL:https://theaustincommon.com/event/kicking-the-bucket-listening-club/2026-04-20/
LOCATION:Hampton Branch Library\, 5125 Convict Hill Rd\, Austin\, TX\, 78749\, United States
CATEGORIES:Arts/Crafts,Class/Skill-Building
ATTACH;FMTTYPE=image/jpeg:https://s3.us-east-2.amazonaws.com/media.theaustincommon.com/wp-content/uploads/2026/04/14110602/KTB-LC-2026-1.jpg
ORGANIZER;CN="ImprovEd Arts":MAILTO:andee@improvedarts.org
GEO:30.2176045;-97.8550267
X-APPLE-STRUCTURED-LOCATION;VALUE=URI;X-ADDRESS=Hampton Branch Library 5125 Convict Hill Rd Austin TX 78749 United States;X-APPLE-RADIUS=500;X-TITLE=5125 Convict Hill Rd:geo:-97.8550267,30.2176045
END:VEVENT
END:VCALENDAR