BEGIN:VCALENDAR
VERSION:2.0
PRODID:-//The Austin Common - ECPv6.15.20//NONSGML v1.0//EN
CALSCALE:GREGORIAN
METHOD:PUBLISH
X-WR-CALNAME:The Austin Common
X-ORIGINAL-URL:https://theaustincommon.com
X-WR-CALDESC:Events for The Austin Common
REFRESH-INTERVAL;VALUE=DURATION:PT1H
X-Robots-Tag:noindex
X-PUBLISHED-TTL:PT1H
BEGIN:VTIMEZONE
TZID:America/Chicago
BEGIN:DAYLIGHT
TZOFFSETFROM:-0600
TZOFFSETTO:-0500
TZNAME:CDT
DTSTART:20250309T080000
END:DAYLIGHT
BEGIN:STANDARD
TZOFFSETFROM:-0500
TZOFFSETTO:-0600
TZNAME:CST
DTSTART:20251102T070000
END:STANDARD
BEGIN:DAYLIGHT
TZOFFSETFROM:-0600
TZOFFSETTO:-0500
TZNAME:CDT
DTSTART:20260308T080000
END:DAYLIGHT
BEGIN:STANDARD
TZOFFSETFROM:-0500
TZOFFSETTO:-0600
TZNAME:CST
DTSTART:20261101T070000
END:STANDARD
BEGIN:DAYLIGHT
TZOFFSETFROM:-0600
TZOFFSETTO:-0500
TZNAME:CDT
DTSTART:20270314T080000
END:DAYLIGHT
BEGIN:STANDARD
TZOFFSETFROM:-0500
TZOFFSETTO:-0600
TZNAME:CST
DTSTART:20271107T070000
END:STANDARD
END:VTIMEZONE
BEGIN:VEVENT
DTSTART;TZID=America/Chicago:20260413T180000
DTEND;TZID=America/Chicago:20260413T193000
DTSTAMP:20260425T071609
CREATED:20260414T175125Z
LAST-MODIFIED:20260414T175125Z
UID:56069-1776103200-1776108600@theaustincommon.com
SUMMARY:Kicking the Bucket Listening Club
DESCRIPTION:It’s not about dying. It’s about living. \nIn an emergency\, who do you want making medical decisions for you? Your people… or the state? The Kicking the Bucket Listening Club is a free 8-week community gathering designed to make conversations about death less taboo and empower you to make your own choices. Join your neighbors to listen\, laugh\, and talk about the stuff most of us avoid. You’ll leave knowing where the end-of-life conversation has to start. \nA BOOK CLUB FOR YOUR EARS\nKicking the Bucket is a darkly funny audio dramedy about two ride-or-die octogenarians determined to exit life on their own terms. Each week\, we listen to one episode of the ongoing story together. No prep required. \nCRAFT WHILE YOU CONVERSE\nWant to keep your hands busy while you listen? Learn a simple basket-weaving technique from Melissa Knight of Batik by Design. Materials provided. Arrive early for extra guidance. \nDIGGING DEEP\nDiscussion facilitated by Occupational Therapists and end-of-life practitioners Michelle McCarty and Melissa Saffron of Reinventing Independence. Expect thoughtful conversation\, practical tools\, and follow-up resources each week. \n📅 Mondays thru May 18 | 6–7:30pm\n📍 Hampton Branch\, Austin Public Library | 5125 Convict Hill Rd\, Austin TX 78749\n🎟️ Free! RSVP: kickingthebucket.eventbrite.com \nThis project is supported in part by an Elevate Grant of Austin Arts\, Culture\, Music and Entertainment. ImprovEd Arts is a sponsored project of Austin Creative Alliance. Created by Andee Kinzy.
URL:https://theaustincommon.com/event/kicking-the-bucket-listening-club/2026-04-13/
LOCATION:Hampton Branch Library\, 5125 Convict Hill Rd\, Austin\, TX\, 78749\, United States
CATEGORIES:Arts/Crafts,Class/Skill-Building
ATTACH;FMTTYPE=image/jpeg:https://s3.us-east-2.amazonaws.com/media.theaustincommon.com/wp-content/uploads/2026/04/14110602/KTB-LC-2026-1.jpg
ORGANIZER;CN="ImprovEd Arts":MAILTO:andee@improvedarts.org
GEO:30.2176045;-97.8550267
X-APPLE-STRUCTURED-LOCATION;VALUE=URI;X-ADDRESS=Hampton Branch Library 5125 Convict Hill Rd Austin TX 78749 United States;X-APPLE-RADIUS=500;X-TITLE=5125 Convict Hill Rd:geo:-97.8550267,30.2176045
END:VEVENT
BEGIN:VEVENT
DTSTART;TZID=America/Chicago:20260415T190000
DTEND;TZID=America/Chicago:20260415T210000
DTSTAMP:20260425T071609
CREATED:20260325T134550Z
LAST-MODIFIED:20260325T134550Z
UID:55863-1776279600-1776286800@theaustincommon.com
SUMMARY:DAC Nights: In Full Bloom
DESCRIPTION:Make a colorful flowerpot and swap a plant at DAC Nights: In Full Bloom! \n\n\n\n\nCome to DAC Nights: In Full Bloom and decorate a flowerpot to light up your Spring. DAC staff will have supplies of all kind\, with instructions on how to wrap pots in fabric\, create decoupaged designs\, and paint your pots to last the season. Bring a plant to swap with participants and diversify your home garden! \nThis event is free! DAC Nights will have a limited supply of pots and plants. Registration is encouraged\, but not required.
URL:https://theaustincommon.com/event/dac-nights-in-full-bloom/
LOCATION:Dougherty Arts Center\, 1110 Barton Springs Rd\, Austin\, TX\, 78704\, United States
CATEGORIES:Arts/Crafts
ATTACH;FMTTYPE=image/webp:https://s3.us-east-2.amazonaws.com/media.theaustincommon.com/wp-content/uploads/2026/03/25084513/DAC-Nights-In-Full-Bloom.webp
END:VEVENT
BEGIN:VEVENT
DTSTART;TZID=America/Chicago:20260418T130000
DTEND;TZID=America/Chicago:20260418T160000
DTSTAMP:20260425T071609
CREATED:20260408T181831Z
LAST-MODIFIED:20260408T181831Z
UID:56029-1776517200-1776528000@theaustincommon.com
SUMMARY:Celebrating 150 Years at the Old Bakery & Emporium
DESCRIPTION:Join us on Saturday\, April 18th\, from 1-4 pm to celebrate 150 years of the historic Old Bakery & Emporium (1876-2026) \n\n\n\n\nOur Fine Art Gallery is hosting a special exhibition looking back on 150 years of history at the Old Bakery & Emporium. \nThe exhibit will feature many images from throughout the Old Bakery’s storied history\, a complete timeline of the last 150 years at the site\, as well as stories from the community who have visited over the years. \nThe opening reception will have live music and a taste of the food that used to be served when the Old Bakery had a cafeteria. \n  \nMore information about The Old Bakery & Emporium: \nThe Old Bakery & Artisan Emporium is a historic landmark located in downtown Austin. Local artists and craftspeople keep our artisan shop full of unique\, handmade items. \nOur Art Gallery features the work of local artists who are 50+ years old. We provide Visitor Center information and have a history exhibit that explores Austin’s immigrant history through the Lundberg-Maerki Historical Collection.
URL:https://theaustincommon.com/event/celebrating-150-years-at-the-old-bakery-emporium/
LOCATION:Old Bakery & Emporium\, 1006 Congress Avenue\, Austin\, TX\, 78701\, United States
CATEGORIES:Arts/Crafts,Music
ATTACH;FMTTYPE=image/webp:https://s3.us-east-2.amazonaws.com/media.theaustincommon.com/wp-content/uploads/2026/04/08131812/Old-Bakery.webp
END:VEVENT
BEGIN:VEVENT
DTSTART;TZID=America/Chicago:20260418T140000
DTEND;TZID=America/Chicago:20260418T170000
DTSTAMP:20260425T071609
CREATED:20260415T144310Z
LAST-MODIFIED:20260415T144310Z
UID:56092-1776520800-1776531600@theaustincommon.com
SUMMARY:Earth Day Printfest
DESCRIPTION:* Part of ATX Climate Week *  \nThis April 18th – Celebrate Earth Day with ink\, fabric\, and creativity! Join us for a come-and-go print fest featuring a group of incredible artists who specialize in silk screen and block printing textile art and more! This is your chance to support local makers\, customize your wardrobe\, and create nature-inspired art that’s uniquely yours. \n​Entry is free: you just pay per station. Drop in anytime between 2 and 5 PM and build your own creative adventure. A portion of fees collected will be donated to Fruitful Commons / Austin Food Forest. \n​Earth Day is about celebrating creativity\, sustainability\, and community. Give new life to a garment you already own\, support local print artists\, and leave with something handmade and meaningful. \n​Bring a tote. Bring a tee. Bring a friend. Let’s make Earth Day wearable. 🌱 \n​All ages welcome Food and drink available \n​Perfect for families\, friend groups\, and solo creatives \n​Come and go anytime between 2–5 PM
URL:https://theaustincommon.com/event/earth-day-printfest/
LOCATION:Make at Rosie – Community Makerspace\, 8711 Burnet Rd suite F 72\, Austin\, TX\, 78757\, United States
CATEGORIES:Arts/Crafts
ATTACH;FMTTYPE=image/avif:https://s3.us-east-2.amazonaws.com/media.theaustincommon.com/wp-content/uploads/2026/04/15094207/Earth-Day-Printfest.avif
END:VEVENT
BEGIN:VEVENT
DTSTART;TZID=America/Chicago:20260418T141500
DTEND;TZID=America/Chicago:20260418T141500
DTSTAMP:20260425T071609
CREATED:20260408T185225Z
LAST-MODIFIED:20260408T185225Z
UID:56035-1776521700-1776521700@theaustincommon.com
SUMMARY:Overheard On A Train
DESCRIPTION:So let’s say you’re on public transit\, eavesdropping on a group’s conversation. (No shame—we do it\, too.) \nYou ever wonder what it would be like to live that life? To dip into their daily drama? Now’s your chance! \nJoin us for Overheard on a Train\, and see what it’s like to walk a mile in someone else’s shoes. \nExcept\, you’re not walking—because you’re on a train. \nAnd also—it’s longer than a mile. \nAnd also—you wear your own shoes. \nYou can book your ticket here.  \nOverheard on a Train is an interactive experience that takes place on board Austin’s metro-rail. You and three friends will sign up as a group\, and receive a script when you board the train. During the journey\, your foursome will read the script to each other\, out loud. (It’s a “table read\,” and you are the actors!) Your collective story will unfold as you turn each page and deliver each line. Choose which storyline your group likes best\, such as THE BAND\, or THE BACHELORETTE PARTY\, or THE BANK ROBBERS—and we’re now offering THE MIDDLE SCHOOLERS\, for kids and families!
URL:https://theaustincommon.com/event/overheard-on-a-train-2/2026-04-18/
LOCATION:Downtown MetroRail Station\, 209 E 4th St\, Austin\, TX\, 78701\, United States
CATEGORIES:Arts/Crafts
ATTACH;FMTTYPE=image/jpeg:https://s3.us-east-2.amazonaws.com/media.theaustincommon.com/wp-content/uploads/2026/04/08135140/Overheard-On-A-Train.jpg
END:VEVENT
END:VCALENDAR