BEGIN:VCALENDAR
VERSION:2.0
PRODID:-//The Austin Common - ECPv6.15.20//NONSGML v1.0//EN
CALSCALE:GREGORIAN
METHOD:PUBLISH
X-WR-CALNAME:The Austin Common
X-ORIGINAL-URL:https://theaustincommon.com
X-WR-CALDESC:Events for The Austin Common
REFRESH-INTERVAL;VALUE=DURATION:PT1H
X-Robots-Tag:noindex
X-PUBLISHED-TTL:PT1H
BEGIN:VTIMEZONE
TZID:America/Chicago
BEGIN:DAYLIGHT
TZOFFSETFROM:-0600
TZOFFSETTO:-0500
TZNAME:CDT
DTSTART:20240310T080000
END:DAYLIGHT
BEGIN:STANDARD
TZOFFSETFROM:-0500
TZOFFSETTO:-0600
TZNAME:CST
DTSTART:20241103T070000
END:STANDARD
BEGIN:DAYLIGHT
TZOFFSETFROM:-0600
TZOFFSETTO:-0500
TZNAME:CDT
DTSTART:20250309T080000
END:DAYLIGHT
BEGIN:STANDARD
TZOFFSETFROM:-0500
TZOFFSETTO:-0600
TZNAME:CST
DTSTART:20251102T070000
END:STANDARD
BEGIN:DAYLIGHT
TZOFFSETFROM:-0600
TZOFFSETTO:-0500
TZNAME:CDT
DTSTART:20260308T080000
END:DAYLIGHT
BEGIN:STANDARD
TZOFFSETFROM:-0500
TZOFFSETTO:-0600
TZNAME:CST
DTSTART:20261101T070000
END:STANDARD
END:VTIMEZONE
BEGIN:VEVENT
DTSTART;TZID=America/Chicago:20251101T090000
DTEND;TZID=America/Chicago:20251101T120000
DTSTAMP:20260425T072431
CREATED:20251016T224415Z
LAST-MODIFIED:20251016T224415Z
UID:54923-1761987600-1761998400@theaustincommon.com
SUMMARY:Las Calaveras de la Calle 5 Ribbon Cutting
DESCRIPTION:Join Mexic-Arte Museum\, the Downtown Austin Alliance\, and local officials to celebrate the installation of six new calaveras in Austin’s 5th St. Mexican American Cultural District! Calaveras de la Calle 5 will be a temporary art installation that features skull sculptures with painted designs by local artists that commemorate the rich cultural influences that have shaped Austin’s identity
URL:https://theaustincommon.com/event/las-calaveras-de-la-calle-5-ribbon-cutting/
LOCATION:Republic Square Park\, 422 Guadalupe St.\, Austin\, TX\, 78701\, United States
CATEGORIES:Arts/Crafts,Party With a Purpose
ATTACH;FMTTYPE=image/jpeg:https://s3.us-east-2.amazonaws.com/media.theaustincommon.com/wp-content/uploads/2025/10/16174341/Ribbon-Cutting.jpg
GEO:30.2674048;-97.7469284
X-APPLE-STRUCTURED-LOCATION;VALUE=URI;X-ADDRESS=Republic Square Park 422 Guadalupe St. Austin TX 78701 United States;X-APPLE-RADIUS=500;X-TITLE=422 Guadalupe St.:geo:-97.7469284,30.2674048
END:VEVENT
BEGIN:VEVENT
DTSTART;TZID=America/Chicago:20251101T130000
DTEND;TZID=America/Chicago:20251101T160000
DTSTAMP:20260425T072431
CREATED:20251029T172522Z
LAST-MODIFIED:20251029T172547Z
UID:55058-1762002000-1762012800@theaustincommon.com
SUMMARY:RESTORATION Art Opening
DESCRIPTION:Join us on Saturday\, November 1st\, for an art opening featuring the work of renowned artist and Air Force veteran Reji Thomas.\n\n\n\nJoin us at the Old Bakery & Emporium on Saturday\, November 1st\, from\n1- 4 pm\, for the opening reception of our next art exhibit\, Restoration. The exhibit features the work of renowned local artist and Air Force veteran Reji Thomas. This event is in partnership with AVAFest (Austin Veterans Art Festival). The event will feature live music by saxophonist Charmin Greene. \nAbout the Artist:\nReji Thomas lives and works in Austin\, Texas. Her acclaimed artwork is held in public places and private collections around the world. Some of her clients include the Texas State Capitol\, Ann Richards\, Barbara Jordan\, B.B. King\, The University of Texas\, The Black Arts Alliance\, Steven Spielberg\, the Four Seasons Hotel\, and the Texas Governor’s office. \nHer work is in the collections of Mexico’s former president\, Carlos Salinas & Queen Elizabeth of England. \nAbout the Saxophonist:\nCharmin Greene\, hailing from Waco\, TX\, is a celebrated saxophonist known for her emotive playing and technical mastery. With over 20 years of experience in genres such as Pop\, R&B\, Jazz\, and Gospel\, she has performed with industry legends like Norman Brown\, Richard Elliot\, and Pam Hart.
URL:https://theaustincommon.com/event/restoration-art-opening/
LOCATION:Old Bakery & Emporium\, 1006 Congress Avenue\, Austin\, TX\, 78701\, United States
CATEGORIES:Arts/Crafts,Music,Party With a Purpose
ATTACH;FMTTYPE=image/jpeg:https://s3.us-east-2.amazonaws.com/media.theaustincommon.com/wp-content/uploads/2025/10/29122357/Old-Bakery-Art-Opening.jpg
END:VEVENT
BEGIN:VEVENT
DTSTART;TZID=America/Chicago:20251101T180000
DTEND;TZID=America/Chicago:20251101T220000
DTSTAMP:20260425T072431
CREATED:20251009T121607Z
LAST-MODIFIED:20251009T121607Z
UID:54900-1762020000-1762034400@theaustincommon.com
SUMMARY:Día de los Muertos
DESCRIPTION:Long observed in Mexico to honor departed loved ones\, Día de los Muertos is now embraced globally and right here in Austin. Waterloo Greenway will transform the Moody Amphitheater stage at Waterloo Park into a beautiful “ofrenda\,” or altar\, inviting the community to contribute their own photos\, mementos\, and traditions. This two-day event will feature inspiring music and dance performances\, an artisan marketplace filled with local creatives\, and family-friendly hands-on activities including crafts and face-painting. This two-night event takes place on November 1 & 2\, from 6-10 pm.
URL:https://theaustincommon.com/event/dia-de-los-muertos-4/2025-11-01/
LOCATION:Waterloo Park\, 500 E 12th St\, Austin\, TX\, 78701\, United States
CATEGORIES:Arts/Crafts,Family-Friendly,Music,Outdoor/Fitness
ATTACH;FMTTYPE=image/jpeg:https://s3.us-east-2.amazonaws.com/media.theaustincommon.com/wp-content/uploads/2025/10/08072458/DiaDeLosMuertos2024-1032-2-scaled.jpg
END:VEVENT
BEGIN:VEVENT
DTSTART;TZID=America/Chicago:20251102T180000
DTEND;TZID=America/Chicago:20251102T220000
DTSTAMP:20260425T072431
CREATED:20251009T121607Z
LAST-MODIFIED:20251009T121608Z
UID:54902-1762106400-1762120800@theaustincommon.com
SUMMARY:Día de los Muertos
DESCRIPTION:Long observed in Mexico to honor departed loved ones\, Día de los Muertos is now embraced globally and right here in Austin. Waterloo Greenway will transform the Moody Amphitheater stage at Waterloo Park into a beautiful “ofrenda\,” or altar\, inviting the community to contribute their own photos\, mementos\, and traditions. This two-day event will feature inspiring music and dance performances\, an artisan marketplace filled with local creatives\, and family-friendly hands-on activities including crafts and face-painting. This two-night event takes place on November 1 & 2\, from 6-10 pm.
URL:https://theaustincommon.com/event/dia-de-los-muertos-4/2025-11-02/
LOCATION:Waterloo Park\, 500 E 12th St\, Austin\, TX\, 78701\, United States
CATEGORIES:Arts/Crafts,Family-Friendly,Music,Outdoor/Fitness
ATTACH;FMTTYPE=image/jpeg:https://s3.us-east-2.amazonaws.com/media.theaustincommon.com/wp-content/uploads/2025/10/08072458/DiaDeLosMuertos2024-1032-2-scaled.jpg
END:VEVENT
END:VCALENDAR