BEGIN:VCALENDAR
VERSION:2.0
PRODID:-//The Austin Common - ECPv6.15.20//NONSGML v1.0//EN
CALSCALE:GREGORIAN
METHOD:PUBLISH
X-WR-CALNAME:The Austin Common
X-ORIGINAL-URL:https://theaustincommon.com
X-WR-CALDESC:Events for The Austin Common
REFRESH-INTERVAL;VALUE=DURATION:PT1H
X-Robots-Tag:noindex
X-PUBLISHED-TTL:PT1H
BEGIN:VTIMEZONE
TZID:America/Chicago
BEGIN:DAYLIGHT
TZOFFSETFROM:-0600
TZOFFSETTO:-0500
TZNAME:CDT
DTSTART:20240310T080000
END:DAYLIGHT
BEGIN:STANDARD
TZOFFSETFROM:-0500
TZOFFSETTO:-0600
TZNAME:CST
DTSTART:20241103T070000
END:STANDARD
BEGIN:DAYLIGHT
TZOFFSETFROM:-0600
TZOFFSETTO:-0500
TZNAME:CDT
DTSTART:20250309T080000
END:DAYLIGHT
BEGIN:STANDARD
TZOFFSETFROM:-0500
TZOFFSETTO:-0600
TZNAME:CST
DTSTART:20251102T070000
END:STANDARD
BEGIN:DAYLIGHT
TZOFFSETFROM:-0600
TZOFFSETTO:-0500
TZNAME:CDT
DTSTART:20260308T080000
END:DAYLIGHT
BEGIN:STANDARD
TZOFFSETFROM:-0500
TZOFFSETTO:-0600
TZNAME:CST
DTSTART:20261101T070000
END:STANDARD
END:VTIMEZONE
BEGIN:VEVENT
DTSTART;TZID=America/Chicago:20251102T180000
DTEND;TZID=America/Chicago:20251102T220000
DTSTAMP:20260419T073517
CREATED:20251009T121607Z
LAST-MODIFIED:20251009T121608Z
UID:54902-1762106400-1762120800@theaustincommon.com
SUMMARY:Día de los Muertos
DESCRIPTION:Long observed in Mexico to honor departed loved ones\, Día de los Muertos is now embraced globally and right here in Austin. Waterloo Greenway will transform the Moody Amphitheater stage at Waterloo Park into a beautiful “ofrenda\,” or altar\, inviting the community to contribute their own photos\, mementos\, and traditions. This two-day event will feature inspiring music and dance performances\, an artisan marketplace filled with local creatives\, and family-friendly hands-on activities including crafts and face-painting. This two-night event takes place on November 1 & 2\, from 6-10 pm.
URL:https://theaustincommon.com/event/dia-de-los-muertos-4/2025-11-02/
LOCATION:Waterloo Park\, 500 E 12th St\, Austin\, TX\, 78701\, United States
CATEGORIES:Arts/Crafts,Family-Friendly,Music,Outdoor/Fitness
ATTACH;FMTTYPE=image/jpeg:https://s3.us-east-2.amazonaws.com/media.theaustincommon.com/wp-content/uploads/2025/10/08072458/DiaDeLosMuertos2024-1032-2-scaled.jpg
END:VEVENT
END:VCALENDAR