BEGIN:VCALENDAR
VERSION:2.0
PRODID:-//The Austin Common - ECPv6.15.20//NONSGML v1.0//EN
CALSCALE:GREGORIAN
METHOD:PUBLISH
X-WR-CALNAME:The Austin Common
X-ORIGINAL-URL:https://theaustincommon.com
X-WR-CALDESC:Events for The Austin Common
REFRESH-INTERVAL;VALUE=DURATION:PT1H
X-Robots-Tag:noindex
X-PUBLISHED-TTL:PT1H
BEGIN:VTIMEZONE
TZID:America/Chicago
BEGIN:DAYLIGHT
TZOFFSETFROM:-0600
TZOFFSETTO:-0500
TZNAME:CDT
DTSTART:20250309T080000
END:DAYLIGHT
BEGIN:STANDARD
TZOFFSETFROM:-0500
TZOFFSETTO:-0600
TZNAME:CST
DTSTART:20251102T070000
END:STANDARD
BEGIN:DAYLIGHT
TZOFFSETFROM:-0600
TZOFFSETTO:-0500
TZNAME:CDT
DTSTART:20260308T080000
END:DAYLIGHT
BEGIN:STANDARD
TZOFFSETFROM:-0500
TZOFFSETTO:-0600
TZNAME:CST
DTSTART:20261101T070000
END:STANDARD
BEGIN:DAYLIGHT
TZOFFSETFROM:-0600
TZOFFSETTO:-0500
TZNAME:CDT
DTSTART:20270314T080000
END:DAYLIGHT
BEGIN:STANDARD
TZOFFSETFROM:-0500
TZOFFSETTO:-0600
TZNAME:CST
DTSTART:20271107T070000
END:STANDARD
END:VTIMEZONE
BEGIN:VEVENT
DTSTART;TZID=America/Chicago:20260117T100000
DTEND;TZID=America/Chicago:20260117T100000
DTSTAMP:20260421T100652
CREATED:20260115T010022Z
LAST-MODIFIED:20260115T010022Z
UID:55370-1768644000-1768644000@theaustincommon.com
SUMMARY:Sunrise Bike Ride
DESCRIPTION:Come bike with us!! \nJoin Sunrise Austin this Saturday Jan 17th for a bike ride (7 or 14 mile route) departing at 10am and brunch at Stargazer at noon! \nWhile there\, we’ll do a quick\, easy action – writing postcards/emails to advocate for more bikeshare stations in Austin. This will be a fun way to enjoy the nice Austin weather and do some easy activism!
URL:https://theaustincommon.com/event/sunrise-bike-ride/
LOCATION:Stargazer Cocktails & Coffee\, 979 Springdale Rd Ste. 130\, Austin\, TX\, 78702\, United States
CATEGORIES:Activism/Protest,Outdoor/Fitness,Party With a Purpose
ATTACH;FMTTYPE=image/png:https://s3.us-east-2.amazonaws.com/media.theaustincommon.com/wp-content/uploads/2026/01/14185816/Sunrise-Bike-Ride.png
END:VEVENT
BEGIN:VEVENT
DTSTART;TZID=America/Chicago:20260117T110000
DTEND;TZID=America/Chicago:20260117T130000
DTSTAMP:20260421T100652
CREATED:20260107T215036Z
LAST-MODIFIED:20260107T215036Z
UID:55333-1768647600-1768654800@theaustincommon.com
SUMMARY:NeighborWoods Tree Adoption
DESCRIPTION:Join TreeFolks for a Tree Adoption event. Free five-gallon container trees will be distributed to Austin residents and Austin Energy customers through our NeighborWoods program. \nWe will be at the SFC Farmer’s Market at Sunset Valley (3200 Jones Rd\, Austin\, TX 78745). No pre-registration is required – just come on by! \nTrees are available on a first-come\, first-served basis. Limit 2 per household (maximum 1 fruit or small-stature tree). Please consult Right Tree\, Right Place guidelines to ensure you have space to plant.
URL:https://theaustincommon.com/event/neighborwoods-tree-adoption-21/
LOCATION:SFC Farmers’ Market at Sunset Valley\, Toney Burger Center\, 3200 Jones Road\, Susnet Valley\, TX\, 78745\, United States
CATEGORIES:Outdoor/Fitness
ATTACH;FMTTYPE=image/jpeg:https://s3.us-east-2.amazonaws.com/media.theaustincommon.com/wp-content/uploads/2025/01/14141431/Tree-Adoption-.jpg
GEO:30.2153869;-97.7960118
X-APPLE-STRUCTURED-LOCATION;VALUE=URI;X-ADDRESS=SFC Farmers’ Market at Sunset Valley Toney Burger Center 3200 Jones Road Susnet Valley TX 78745 United States;X-APPLE-RADIUS=500;X-TITLE=Toney Burger Center\, 3200 Jones Road:geo:-97.7960118,30.2153869
END:VEVENT
BEGIN:VEVENT
DTSTART;TZID=America/Chicago:20260117T190000
DTEND;TZID=America/Chicago:20260117T235500
DTSTAMP:20260421T100652
CREATED:20260108T131906Z
LAST-MODIFIED:20260108T132014Z
UID:55336-1768676400-1768694100@theaustincommon.com
SUMMARY:Dolly Parton And Her Birthday Tribute
DESCRIPTION:We’re celebrating the reigning Country Queens 80th Birthday!\nY’all Come! Benefitting HAAM (Health Alliance For Austin Musicians)\, which provides access to affordable healthcare for Austin’s low-income\, working musicians with a focus on prevention and wellness.
URL:https://theaustincommon.com/event/dolly-parton-and-her-birthday-tribute/
LOCATION:Sagebrush\, 5500 S Congress Ave\, Austin\, TX\, 78745\, United States
CATEGORIES:Music,Party With a Purpose
ATTACH;FMTTYPE=image/jpeg:https://s3.us-east-2.amazonaws.com/media.theaustincommon.com/wp-content/uploads/2026/01/08071841/Dolly-Birthday-Tribute.jpeg
END:VEVENT
END:VCALENDAR