BEGIN:VCALENDAR
VERSION:2.0
PRODID:-//The Austin Common - ECPv6.15.20//NONSGML v1.0//EN
CALSCALE:GREGORIAN
METHOD:PUBLISH
X-ORIGINAL-URL:https://theaustincommon.com
X-WR-CALDESC:Events for The Austin Common
REFRESH-INTERVAL;VALUE=DURATION:PT1H
X-Robots-Tag:noindex
X-PUBLISHED-TTL:PT1H
BEGIN:VTIMEZONE
TZID:America/Chicago
BEGIN:DAYLIGHT
TZOFFSETFROM:-0600
TZOFFSETTO:-0500
TZNAME:CDT
DTSTART:20240310T080000
END:DAYLIGHT
BEGIN:STANDARD
TZOFFSETFROM:-0500
TZOFFSETTO:-0600
TZNAME:CST
DTSTART:20241103T070000
END:STANDARD
BEGIN:DAYLIGHT
TZOFFSETFROM:-0600
TZOFFSETTO:-0500
TZNAME:CDT
DTSTART:20250309T080000
END:DAYLIGHT
BEGIN:STANDARD
TZOFFSETFROM:-0500
TZOFFSETTO:-0600
TZNAME:CST
DTSTART:20251102T070000
END:STANDARD
BEGIN:DAYLIGHT
TZOFFSETFROM:-0600
TZOFFSETTO:-0500
TZNAME:CDT
DTSTART:20260308T080000
END:DAYLIGHT
BEGIN:STANDARD
TZOFFSETFROM:-0500
TZOFFSETTO:-0600
TZNAME:CST
DTSTART:20261101T070000
END:STANDARD
END:VTIMEZONE
BEGIN:VEVENT
DTSTART;TZID=America/Chicago:20250514T150000
DTEND;TZID=America/Chicago:20250514T170000
DTSTAMP:20260425T055043
CREATED:20250508T191648Z
LAST-MODIFIED:20250508T191648Z
UID:54227-1747234800-1747242000@theaustincommon.com
SUMMARY:Older Adults Town Hall
DESCRIPTION:Co-hosted by Council Member Marc Duchen and Mayor Pro-tem Vanessa Fuentes \nWHEN: Wednesday\, May 14th\, 3 – 5 PM \nWHERE: Galaxy Cafe\, 8127 Mesa Dr #100 \nHelp us order the right amount of food by registering today: bit.ly/437nHNz \nThis is a great opportunity to hear about the City’s work to support older Austinites\, share your experiences\, and connect directly with your local leaders. Food\, drinks\, and interpretation services will be available.
URL:https://theaustincommon.com/event/older-adults-town-hall/
LOCATION:Galaxy Cafe\, 8127 Mesa Dr #100\, Austin\, TX\, United States
CATEGORIES:Important City Meeting
ATTACH;FMTTYPE=image/png:https://s3.us-east-2.amazonaws.com/media.theaustincommon.com/wp-content/uploads/2025/05/08141543/unnamed-37.png
END:VEVENT
END:VCALENDAR