BEGIN:VCALENDAR
VERSION:2.0
PRODID:-//The Austin Common - ECPv6.15.20//NONSGML v1.0//EN
CALSCALE:GREGORIAN
METHOD:PUBLISH
X-WR-CALNAME:The Austin Common
X-ORIGINAL-URL:https://theaustincommon.com
X-WR-CALDESC:Events for The Austin Common
REFRESH-INTERVAL;VALUE=DURATION:PT1H
X-Robots-Tag:noindex
X-PUBLISHED-TTL:PT1H
BEGIN:VTIMEZONE
TZID:America/Chicago
BEGIN:DAYLIGHT
TZOFFSETFROM:-0600
TZOFFSETTO:-0500
TZNAME:CDT
DTSTART:20240310T080000
END:DAYLIGHT
BEGIN:STANDARD
TZOFFSETFROM:-0500
TZOFFSETTO:-0600
TZNAME:CST
DTSTART:20241103T070000
END:STANDARD
BEGIN:DAYLIGHT
TZOFFSETFROM:-0600
TZOFFSETTO:-0500
TZNAME:CDT
DTSTART:20250309T080000
END:DAYLIGHT
BEGIN:STANDARD
TZOFFSETFROM:-0500
TZOFFSETTO:-0600
TZNAME:CST
DTSTART:20251102T070000
END:STANDARD
BEGIN:DAYLIGHT
TZOFFSETFROM:-0600
TZOFFSETTO:-0500
TZNAME:CDT
DTSTART:20260308T080000
END:DAYLIGHT
BEGIN:STANDARD
TZOFFSETFROM:-0500
TZOFFSETTO:-0600
TZNAME:CST
DTSTART:20261101T070000
END:STANDARD
END:VTIMEZONE
BEGIN:VEVENT
DTSTART;TZID=America/Chicago:20250419T113000
DTEND;TZID=America/Chicago:20250419T143000
DTSTAMP:20260424T124027
CREATED:20250409T232838Z
LAST-MODIFIED:20250409T232838Z
UID:53839-1745062200-1745073000@theaustincommon.com
SUMMARY:Sustainable Foodie Train Tour
DESCRIPTION:Dear Community\, Join us! \nAll aboard! Join us for our 2nd annual sustainable foodie metro tour\, this time sponsored by Eat for Impact and the City of Austin’s Office of Climate Action & Resilience. \nWe will meet at MLK Jr. Station near Houndstooth Coffee (2823 E Martin Luther King Jr Blvd\, Austin\, TX 78702) for some coffee by Texas Coffee Traders and chats before we head out on the redline metro for our tour. \nDigital passes will be given out prior and are sponsored by CapMetro. Make sure to download the UMO Mobility app first. \nYou can RSVP here. \nSchedule:  \n-Folks can arrive around 11am-11:15am for coffee and chats \n-Leave MLK station at 11:40am on the train \n-On our route is The Brewtorium Brewery & Kitchen\, with more restaurants to be announced soon! \nStreet Parking is free near Houndstooth Coffee and the MLK station. \nPlease reach out if you have any questions! If you have any accessibility concerns we should be aware of\, please reach out. We will try our best to accommodate. \n\nOPTIONAL DONATION: We try to make our events accessible and free to everyone. If you are able to donate\, we suggest donating to our 501(c)3 non-profit here. Folks who donate $10 or more will get our sticker sheets at the event!
URL:https://theaustincommon.com/event/sustainable-foodie-train-tour/
LOCATION:MLK Metro Rail Stop\, 2921 East 17th St.\, Austin\, 78702\, United States
CATEGORIES:Party With a Purpose
ATTACH;FMTTYPE=image/png:https://s3.us-east-2.amazonaws.com/media.theaustincommon.com/wp-content/uploads/2025/04/09182638/Screenshot-2025-04-09-at-6.24.08-PM.png
GEO:30.278543;-97.7100801
X-APPLE-STRUCTURED-LOCATION;VALUE=URI;X-ADDRESS=MLK Metro Rail Stop 2921 East 17th St. Austin 78702 United States;X-APPLE-RADIUS=500;X-TITLE=2921 East 17th St.:geo:-97.7100801,30.278543
END:VEVENT
BEGIN:VEVENT
DTSTART;TZID=America/Chicago:20250419T180000
DTEND;TZID=America/Chicago:20250419T220000
DTSTAMP:20260424T124027
CREATED:20250226T233547Z
LAST-MODIFIED:20250226T233609Z
UID:53505-1745085600-1745100000@theaustincommon.com
SUMMARY:Wild Waterloo
DESCRIPTION:Presented in Partnership with Families in Nature \n\nLocation: Waterloo Park\nDate: April 19\, 2025\nTime: 6:00 – 10:00 PM\n\n\n \nJoin us for a nature-filled evening at Wild Waterloo\, featuring family-friendly activities\, outdoor exploration\, and a movie under the stars! From 6:00-8:00 PM\, immerse yourself in the beauty of Waterloo Park with guided nature tours led by Families in Nature\, all while enjoying delicious bites available for purchase from local food vendors. At sunset\, spread out on the Moody Amphitheater lawn and unwind with an outdoor screening of the Oscar-nominated film The Wild Robot.
URL:https://theaustincommon.com/event/wild-waterloo/
LOCATION:Waterloo Park\, 500 E 12th St\, Austin\, TX\, 78701\, United States
CATEGORIES:Family-Friendly,Film-Screening,Outdoor/Fitness
ATTACH;FMTTYPE=image/jpeg:https://s3.us-east-2.amazonaws.com/media.theaustincommon.com/wp-content/uploads/2025/02/26173510/Wild-Waterloo.jpg
END:VEVENT
END:VCALENDAR