BEGIN:VCALENDAR
VERSION:2.0
PRODID:-//The Austin Common - ECPv6.15.20//NONSGML v1.0//EN
CALSCALE:GREGORIAN
METHOD:PUBLISH
X-ORIGINAL-URL:https://theaustincommon.com
X-WR-CALDESC:Events for The Austin Common
REFRESH-INTERVAL;VALUE=DURATION:PT1H
X-Robots-Tag:noindex
X-PUBLISHED-TTL:PT1H
BEGIN:VTIMEZONE
TZID:America/Chicago
BEGIN:DAYLIGHT
TZOFFSETFROM:-0600
TZOFFSETTO:-0500
TZNAME:CDT
DTSTART:20240310T080000
END:DAYLIGHT
BEGIN:STANDARD
TZOFFSETFROM:-0500
TZOFFSETTO:-0600
TZNAME:CST
DTSTART:20241103T070000
END:STANDARD
BEGIN:DAYLIGHT
TZOFFSETFROM:-0600
TZOFFSETTO:-0500
TZNAME:CDT
DTSTART:20250309T080000
END:DAYLIGHT
BEGIN:STANDARD
TZOFFSETFROM:-0500
TZOFFSETTO:-0600
TZNAME:CST
DTSTART:20251102T070000
END:STANDARD
BEGIN:DAYLIGHT
TZOFFSETFROM:-0600
TZOFFSETTO:-0500
TZNAME:CDT
DTSTART:20260308T080000
END:DAYLIGHT
BEGIN:STANDARD
TZOFFSETFROM:-0500
TZOFFSETTO:-0600
TZNAME:CST
DTSTART:20261101T070000
END:STANDARD
END:VTIMEZONE
BEGIN:VEVENT
DTSTART;TZID=America/Chicago:20250415T180000
DTEND;TZID=America/Chicago:20250415T193000
DTSTAMP:20260424T123259
CREATED:20250409T210017Z
LAST-MODIFIED:20250409T210017Z
UID:53807-1744740000-1744745400@theaustincommon.com
SUMMARY:District 4 Public Safety & Mobility Townhall
DESCRIPTION:Council Member Jose “Chito” Vela and the District 4 office invite you to attend a Public Safety & Mobility Townhall! Join us for an informative discussion with representatives from the Austin Police and Transportation & Public Works Department to address community concerns and discuss projects in District 4. \n\nEvent Details:\n\n\nDate: Tuesday\, April 15\nTime: 6-7:30pm\nLocation: Permitting and Development Center\, 6310 Wilhelmina Delco Dr.\n\n\nNot sure which Council district you live in? You can look it up here.
URL:https://theaustincommon.com/event/district-4-public-safety-mobility-townhall/
LOCATION:City of Austin Permitting and Development Center\, 6310 Wilhelmina Delco Drive\, Austin\, TX\, 78752\, United States
CATEGORIES:Important City Meeting
ATTACH;FMTTYPE=image/jpeg:https://s3.us-east-2.amazonaws.com/media.theaustincommon.com/wp-content/uploads/2025/04/09155939/District-4-Town-Hall.jpg
END:VEVENT
END:VCALENDAR