BEGIN:VCALENDAR
VERSION:2.0
PRODID:-//The Austin Common - ECPv6.15.20//NONSGML v1.0//EN
CALSCALE:GREGORIAN
METHOD:PUBLISH
X-ORIGINAL-URL:https://theaustincommon.com
X-WR-CALDESC:Events for The Austin Common
REFRESH-INTERVAL;VALUE=DURATION:PT1H
X-Robots-Tag:noindex
X-PUBLISHED-TTL:PT1H
BEGIN:VTIMEZONE
TZID:America/Chicago
BEGIN:DAYLIGHT
TZOFFSETFROM:-0600
TZOFFSETTO:-0500
TZNAME:CDT
DTSTART:20230312T080000
END:DAYLIGHT
BEGIN:STANDARD
TZOFFSETFROM:-0500
TZOFFSETTO:-0600
TZNAME:CST
DTSTART:20231105T070000
END:STANDARD
BEGIN:DAYLIGHT
TZOFFSETFROM:-0600
TZOFFSETTO:-0500
TZNAME:CDT
DTSTART:20240310T080000
END:DAYLIGHT
BEGIN:STANDARD
TZOFFSETFROM:-0500
TZOFFSETTO:-0600
TZNAME:CST
DTSTART:20241103T070000
END:STANDARD
BEGIN:DAYLIGHT
TZOFFSETFROM:-0600
TZOFFSETTO:-0500
TZNAME:CDT
DTSTART:20250309T080000
END:DAYLIGHT
BEGIN:STANDARD
TZOFFSETFROM:-0500
TZOFFSETTO:-0600
TZNAME:CST
DTSTART:20251102T070000
END:STANDARD
END:VTIMEZONE
BEGIN:VEVENT
DTSTART;TZID=America/Chicago:20240604T160000
DTEND;TZID=America/Chicago:20240604T190000
DTSTAMP:20260422T070827
CREATED:20240604T133309Z
LAST-MODIFIED:20240604T133309Z
UID:51818-1717516800-1717527600@theaustincommon.com
SUMMARY:Austin Water Cost Of Service Rate Study Open House
DESCRIPTION:A Cost-of-Service Rate Study is being conducted now\, with a goal of increasing affordability for customers\, while improving and maintaining critical utility infrastructure for extreme weather and a growing population. Austin Water invites its customers to attend one of several Open Houses over the next several weeks to learn about their water and wastewater system\, planned investments\, and how these investments may impact rates in the coming year. As Austin Water seeks to improve system resiliency\, keep pace with a growing population\, and optimize the system\, water and wastewater\, rate increases may be needed in 2025.\n\n \nIn-Person Open Houses: No formal presentation will be made. Customers can drop in at any time to view materials and speak with Austin Water officials. Representatives from customer service will be on hand to answer billing questions. Comment cards will be provided.\n\n \nOpen House attendees will have a chance to ask staff questions and share their feedback. The schedule of Open Houses\, their locations and times are:\n  \nThursday\, May 23: Twin Oaks Branch – Austin Public Library\,  1800 South Fifth Street\, 4:00 – 7:00PM \nWednesday\, May 29: NEW LOCATION – Old Quarry Branch – Austin Public Library\, 7051 Village Center Drive\, Room 1\, 4:00 – 7:00PM \nThursday\, May 30: Hampton Branch – Austin Public Library \, 5125 Convict Hill Road \, 4:00 – 7:00PM \nSaturday\, June 1: Little Walnut Creek Branch – Austin Public Library\, 835 W. Rundberg Lane\, 10:00AM – 1:00PM \nTuesday\, June 4: Pleasant Hill Branch – Austin Public Library \, 211 E. William Cannon Drive\, 4:00 – 7:00PM \nWednesday\, June 5: Spicewood Springs Branch – Austin Public Library\, 8637 Spicewood Springs Road\, 4:00 – 7:00PM \nSaturday\, June 8: Conley-Guerrero Senior Activity Center\, 808 Nile Street\, 8:30 – 11:30AM \nTuesday\, June 11: North Village Branch – Austin Public Library\, 2505 Steck Avenue\, 4:00 – 7:00PM \nSaturday\, June 15: Menchaca Road Branch – Austin Public Library\, 5500 Menchaca Road\, 10:00AM – 1:00PM \nSaturday\, June 22: Montopolis Recreation & Community Center\, 1200 Montopolis\, 10:00AM – 1:00PM \n  \nVirtual Open House: Austin Water Officials will deliver a webinar explaining the need for the Rate Study\, preliminary findings and potential rate impacts. Attendees will have an opportunity to ask questions.\n  \nThursday\, June 13: Zoom: Click here to join\, 6 – 7:00PM
URL:https://theaustincommon.com/event/austin-water-cost-of-service-rate-study-open-house-3/
LOCATION:Pleasant Hill Branch Library\, 211 E William Cannon Dr.\, Austin\, TX\, 78745\, United States
CATEGORIES:Important City Meeting
ATTACH;FMTTYPE=image/jpeg:https://s3.us-east-2.amazonaws.com/media.theaustincommon.com/wp-content/uploads/2024/05/23153106/Cost-Of-Service-Study-Open-Houses.jpeg
GEO:30.1922654;-97.7771998
X-APPLE-STRUCTURED-LOCATION;VALUE=URI;X-ADDRESS=Pleasant Hill Branch Library 211 E William Cannon Dr. Austin TX 78745 United States;X-APPLE-RADIUS=500;X-TITLE=211 E William Cannon Dr.:geo:-97.7771998,30.1922654
END:VEVENT
BEGIN:VEVENT
DTSTART;TZID=America/Chicago:20240604T183000
DTEND;TZID=America/Chicago:20240604T203000
DTSTAMP:20260422T070827
CREATED:20240530T003913Z
LAST-MODIFIED:20240530T004022Z
UID:51782-1717525800-1717533000@theaustincommon.com
SUMMARY:APD Community Connect - Adam & Ida Sectors
DESCRIPTION:APD invites the public to our Community Connect meeting on Tuesday\, June 4th\, 2024. \n\nThis Community Connect session will provide a 45-minute overview on how to respond to critical incidents\, including setting up a safety plan\, managing stress during a crisis\, and responding to an active attack with multiple casualties. You can ask questions\, share stories\, and build positive relationships with your district representatives and officers who patrol the North Austin area.\n \n\nTopics: Policing in the Adam (Northwest Austin) & Ida Sectors (North Central Austin)\, Crime Statistics\, Stress and Active Attack Training for Civilians\, Q&A Session
URL:https://theaustincommon.com/event/apd-community-connect-adam-ida-sectors/
LOCATION:The Archer Hotel\, 3121 Palm Way\, Austin\, TX\, 78758\, United States
CATEGORIES:Important City Meeting
ATTACH;FMTTYPE=image/png:https://s3.us-east-2.amazonaws.com/media.theaustincommon.com/wp-content/uploads/2024/05/29193739/APD-Community-Connect-Ida-Adam-Sectors-.png
END:VEVENT
END:VCALENDAR