BEGIN:VCALENDAR
VERSION:2.0
PRODID:-//The Austin Common - ECPv6.15.20//NONSGML v1.0//EN
CALSCALE:GREGORIAN
METHOD:PUBLISH
X-WR-CALNAME:The Austin Common
X-ORIGINAL-URL:https://theaustincommon.com
X-WR-CALDESC:Events for The Austin Common
REFRESH-INTERVAL;VALUE=DURATION:PT1H
X-Robots-Tag:noindex
X-PUBLISHED-TTL:PT1H
BEGIN:VTIMEZONE
TZID:America/Chicago
BEGIN:DAYLIGHT
TZOFFSETFROM:-0600
TZOFFSETTO:-0500
TZNAME:CDT
DTSTART:20240310T080000
END:DAYLIGHT
BEGIN:STANDARD
TZOFFSETFROM:-0500
TZOFFSETTO:-0600
TZNAME:CST
DTSTART:20241103T070000
END:STANDARD
BEGIN:DAYLIGHT
TZOFFSETFROM:-0600
TZOFFSETTO:-0500
TZNAME:CDT
DTSTART:20250309T080000
END:DAYLIGHT
BEGIN:STANDARD
TZOFFSETFROM:-0500
TZOFFSETTO:-0600
TZNAME:CST
DTSTART:20251102T070000
END:STANDARD
BEGIN:DAYLIGHT
TZOFFSETFROM:-0600
TZOFFSETTO:-0500
TZNAME:CDT
DTSTART:20260308T080000
END:DAYLIGHT
BEGIN:STANDARD
TZOFFSETFROM:-0500
TZOFFSETTO:-0600
TZNAME:CST
DTSTART:20261101T070000
END:STANDARD
END:VTIMEZONE
BEGIN:VEVENT
DTSTART;TZID=America/Chicago:20250920T120000
DTEND;TZID=America/Chicago:20250920T210000
DTSTAMP:20260422T071403
CREATED:20250828T143228Z
LAST-MODIFIED:20250828T143228Z
UID:54672-1758369600-1758402000@theaustincommon.com
SUMMARY:VIBE Downtown
DESCRIPTION:Launching on September 19 and 20\, the inaugural two-day event\, VIBE Downtown\, will be FREE and open to all\, featuring live and unique musical performances\, art installations and all-ages creative experiences on Old Sixth Street. \n\n508 E Sixth Street\n522 E Sixth Street Parking Lot\n\nFive community partners are joining the inaugural VIBE Downtown lineup. As part of the program’s first official pilot\, each of these Austin-based artists\, creatives and collectives will bring their own live pop-ups\, performances and installations to Old Sixth Street: \nDAY 1 \nWHEREABOUTS?! with @whereyallatthoughatx at 5pm \nCon Mucho Amor with @bobbypudrido and friends at 8:30pm \n  \nDAY 2 \nPiecing Together Austin with @atxmosaicworkshop at 12pm \nATX Mending Lab with @slowfashionfestival at 12pm \nShake It Africa Live Performances and Workshops at 6pm
URL:https://theaustincommon.com/event/vibe-downtown/2025-09-20/
LOCATION:508 E Sixth Street\, 508 E Sixth Street\, Austin\, TX\, United States
CATEGORIES:Music,Party With a Purpose
ATTACH;FMTTYPE=image/jpeg:https://s3.us-east-2.amazonaws.com/media.theaustincommon.com/wp-content/uploads/2025/08/28093156/Vibe-Downtown.jpg
END:VEVENT
BEGIN:VEVENT
DTSTART;TZID=America/Chicago:20250919T170000
DTEND;TZID=America/Chicago:20250919T220000
DTSTAMP:20260422T071403
CREATED:20250828T143228Z
LAST-MODIFIED:20250828T143228Z
UID:54669-1758301200-1758319200@theaustincommon.com
SUMMARY:VIBE Downtown
DESCRIPTION:Launching on September 19 and 20\, the inaugural two-day event\, VIBE Downtown\, will be FREE and open to all\, featuring live and unique musical performances\, art installations and all-ages creative experiences on Old Sixth Street. \n\n508 E Sixth Street\n522 E Sixth Street Parking Lot\n\nFive community partners are joining the inaugural VIBE Downtown lineup. As part of the program’s first official pilot\, each of these Austin-based artists\, creatives and collectives will bring their own live pop-ups\, performances and installations to Old Sixth Street: \nDAY 1 \nWHEREABOUTS?! with @whereyallatthoughatx at 5pm \nCon Mucho Amor with @bobbypudrido and friends at 8:30pm \n  \nDAY 2 \nPiecing Together Austin with @atxmosaicworkshop at 12pm \nATX Mending Lab with @slowfashionfestival at 12pm \nShake It Africa Live Performances and Workshops at 6pm
URL:https://theaustincommon.com/event/vibe-downtown/2025-09-19/
LOCATION:508 E Sixth Street\, 508 E Sixth Street\, Austin\, TX\, United States
CATEGORIES:Music,Party With a Purpose
ATTACH;FMTTYPE=image/jpeg:https://s3.us-east-2.amazonaws.com/media.theaustincommon.com/wp-content/uploads/2025/08/28093156/Vibe-Downtown.jpg
END:VEVENT
END:VCALENDAR