BEGIN:VCALENDAR
VERSION:2.0
PRODID:-//The Austin Common - ECPv6.15.20//NONSGML v1.0//EN
CALSCALE:GREGORIAN
METHOD:PUBLISH
X-ORIGINAL-URL:https://theaustincommon.com
X-WR-CALDESC:Events for The Austin Common
REFRESH-INTERVAL;VALUE=DURATION:PT1H
X-Robots-Tag:noindex
X-PUBLISHED-TTL:PT1H
BEGIN:VTIMEZONE
TZID:America/Chicago
BEGIN:DAYLIGHT
TZOFFSETFROM:-0600
TZOFFSETTO:-0500
TZNAME:CDT
DTSTART:20240310T080000
END:DAYLIGHT
BEGIN:STANDARD
TZOFFSETFROM:-0500
TZOFFSETTO:-0600
TZNAME:CST
DTSTART:20241103T070000
END:STANDARD
BEGIN:DAYLIGHT
TZOFFSETFROM:-0600
TZOFFSETTO:-0500
TZNAME:CDT
DTSTART:20250309T080000
END:DAYLIGHT
BEGIN:STANDARD
TZOFFSETFROM:-0500
TZOFFSETTO:-0600
TZNAME:CST
DTSTART:20251102T070000
END:STANDARD
BEGIN:DAYLIGHT
TZOFFSETFROM:-0600
TZOFFSETTO:-0500
TZNAME:CDT
DTSTART:20260308T080000
END:DAYLIGHT
BEGIN:STANDARD
TZOFFSETFROM:-0500
TZOFFSETTO:-0600
TZNAME:CST
DTSTART:20261101T070000
END:STANDARD
END:VTIMEZONE
BEGIN:VEVENT
DTSTART;TZID=America/Chicago:20250504T110000
DTEND;TZID=America/Chicago:20250504T170000
DTSTAMP:20260424T032318
CREATED:20250409T223625Z
LAST-MODIFIED:20250409T223806Z
UID:53835-1746356400-1746378000@theaustincommon.com
SUMMARY:ATX Climate Week: The Front Market - Spring 2025 Season
DESCRIPTION:RSVP HERE \nThe Front Market will be back on MAY 3 AND 4 AT DISTRIBUTION HALL.\n✹ 150+ vendors\n✹ DISTRIBUTION HALL (1500 E 4th St\, 78702)\n✹ MAY 3 AND 4\, 2025\n✹ 11 AM to 5 PM each day!\n✹ AMPLIFYING women & LGBTQ+ CREATIVES\n✹ Rain or shine. The Front Market’s Spring 2025 Season is returning to Distribution Hall\, a 10\,000 sq. ft indoor-outdoor warehouse in East Austin on May 3 and 4\, 2025.\nAs always\, we’ll be open for the weekend\, with an exhibition of more than 150 independent creatives\, artists\, small business owners\, designers\, and makers across the Texas South. \n100% family-friendly and outdoors. Dog-friendly. Human-friendly. Free and open to the public \n  \n\nAbout Climate Week ATX  \nAustin\, Texas\, is cranking up the heat (in a good way) with its first-ever Climate Week! This isn’t just another conference—it’s a citywide celebration of sustainability\, innovation\, and action. Picture rooftop parties\, hands-on workshops\, inspiring talks from eco-warriors\, and maybe even susty bus tour. April 26th – May 4th \nATX Climate Week is a celebration that stems from Joon Community\, an environmental justice & public transit-focused WOC-founded 501(c)3 non-profit that hosts community-engaged & environment justice-friendly events nationwide.
URL:https://theaustincommon.com/event/atx-climate-week-the-front-market-spring-2025-season/2025-05-04/
LOCATION:Distribution Hall\, 1500 East 4th Street\, Austin\, TX\, 78702\, United States
CATEGORIES:Arts/Crafts,Party With a Purpose
ATTACH;FMTTYPE=image/png:https://s3.us-east-2.amazonaws.com/media.theaustincommon.com/wp-content/uploads/2025/04/09173526/Screenshot-2025-04-09-at-5.34.56-PM.png
END:VEVENT
BEGIN:VEVENT
DTSTART;TZID=America/Chicago:20250503T110000
DTEND;TZID=America/Chicago:20250503T170000
DTSTAMP:20260424T032318
CREATED:20250409T223625Z
LAST-MODIFIED:20250409T223806Z
UID:53833-1746270000-1746291600@theaustincommon.com
SUMMARY:ATX Climate Week: The Front Market - Spring 2025 Season
DESCRIPTION:RSVP HERE \nThe Front Market will be back on MAY 3 AND 4 AT DISTRIBUTION HALL.\n✹ 150+ vendors\n✹ DISTRIBUTION HALL (1500 E 4th St\, 78702)\n✹ MAY 3 AND 4\, 2025\n✹ 11 AM to 5 PM each day!\n✹ AMPLIFYING women & LGBTQ+ CREATIVES\n✹ Rain or shine. The Front Market’s Spring 2025 Season is returning to Distribution Hall\, a 10\,000 sq. ft indoor-outdoor warehouse in East Austin on May 3 and 4\, 2025.\nAs always\, we’ll be open for the weekend\, with an exhibition of more than 150 independent creatives\, artists\, small business owners\, designers\, and makers across the Texas South. \n100% family-friendly and outdoors. Dog-friendly. Human-friendly. Free and open to the public \n  \n\nAbout Climate Week ATX  \nAustin\, Texas\, is cranking up the heat (in a good way) with its first-ever Climate Week! This isn’t just another conference—it’s a citywide celebration of sustainability\, innovation\, and action. Picture rooftop parties\, hands-on workshops\, inspiring talks from eco-warriors\, and maybe even susty bus tour. April 26th – May 4th \nATX Climate Week is a celebration that stems from Joon Community\, an environmental justice & public transit-focused WOC-founded 501(c)3 non-profit that hosts community-engaged & environment justice-friendly events nationwide.
URL:https://theaustincommon.com/event/atx-climate-week-the-front-market-spring-2025-season/2025-05-03/
LOCATION:Distribution Hall\, 1500 East 4th Street\, Austin\, TX\, 78702\, United States
CATEGORIES:Arts/Crafts,Party With a Purpose
ATTACH;FMTTYPE=image/png:https://s3.us-east-2.amazonaws.com/media.theaustincommon.com/wp-content/uploads/2025/04/09173526/Screenshot-2025-04-09-at-5.34.56-PM.png
END:VEVENT
END:VCALENDAR